BEGIN:VCALENDAR
VERSION:2.0
PRODID:-//Suomen vanhan musiikin liitto ry - ECPv6.15.17.1//NONSGML v1.0//EN
CALSCALE:GREGORIAN
METHOD:PUBLISH
X-ORIGINAL-URL:https://svamuli.fi
X-WR-CALDESC:Tapahtumat Suomen vanhan musiikin liitto ry
REFRESH-INTERVAL;VALUE=DURATION:PT1H
X-Robots-Tag:noindex
X-PUBLISHED-TTL:PT1H
BEGIN:VTIMEZONE
TZID:Europe/Helsinki
BEGIN:DAYLIGHT
TZOFFSETFROM:+0200
TZOFFSETTO:+0300
TZNAME:EEST
DTSTART:20190331T010000
END:DAYLIGHT
BEGIN:STANDARD
TZOFFSETFROM:+0300
TZOFFSETTO:+0200
TZNAME:EET
DTSTART:20191027T010000
END:STANDARD
BEGIN:DAYLIGHT
TZOFFSETFROM:+0200
TZOFFSETTO:+0300
TZNAME:EEST
DTSTART:20200329T010000
END:DAYLIGHT
BEGIN:STANDARD
TZOFFSETFROM:+0300
TZOFFSETTO:+0200
TZNAME:EET
DTSTART:20201025T010000
END:STANDARD
BEGIN:DAYLIGHT
TZOFFSETFROM:+0200
TZOFFSETTO:+0300
TZNAME:EEST
DTSTART:20210328T010000
END:DAYLIGHT
BEGIN:STANDARD
TZOFFSETFROM:+0300
TZOFFSETTO:+0200
TZNAME:EET
DTSTART:20211031T010000
END:STANDARD
END:VTIMEZONE
BEGIN:VEVENT
DTSTART;TZID=Europe/Helsinki:20201006T180000
DTEND;TZID=Europe/Helsinki:20201006T190000
DTSTAMP:20260420T183546
CREATED:20201002T081134Z
LAST-MODIFIED:20201002T081134Z
UID:2766-1602007200-1602010800@svamuli.fi
SUMMARY:Helsinki Early Music Festival: Ilta Pariisissa
DESCRIPTION:FiBO Players (Pauliina Fred\, Anthony Marini\, Louna Hosia\, Petteri Pitko ja Eero Palviainen) soittaa ranskalaista ja Ranskasta innoituksensa saanutta barokkia. Säveltäjänimiä ovat Marais\, de la Guerre\, Rameau ja Telemann. \nLue lisää: https://helsinkiearlymusicfestival.fi/ohjelma/ilta-pariisissa/ \nLiput 15/12* €: https://www.lippu.fi/artist/helsinki-early-music-festival/
URL:https://svamuli.fi/t/helsinki-early-music-festival-ilta-pariisissa/
LOCATION:Kanneltalo\, Klaneettitie 5\, Helsinki\, Helsinki\, Suomi
END:VEVENT
END:VCALENDAR