BEGIN:VCALENDAR
VERSION:2.0
PRODID:-//Suomen vanhan musiikin liitto ry - ECPv6.15.17.1//NONSGML v1.0//EN
CALSCALE:GREGORIAN
METHOD:PUBLISH
X-ORIGINAL-URL:https://svamuli.fi
X-WR-CALDESC:Tapahtumat Suomen vanhan musiikin liitto ry
REFRESH-INTERVAL;VALUE=DURATION:PT1H
X-Robots-Tag:noindex
X-PUBLISHED-TTL:PT1H
BEGIN:VTIMEZONE
TZID:Europe/Helsinki
BEGIN:DAYLIGHT
TZOFFSETFROM:+0200
TZOFFSETTO:+0300
TZNAME:EEST
DTSTART:20190331T010000
END:DAYLIGHT
BEGIN:STANDARD
TZOFFSETFROM:+0300
TZOFFSETTO:+0200
TZNAME:EET
DTSTART:20191027T010000
END:STANDARD
BEGIN:DAYLIGHT
TZOFFSETFROM:+0200
TZOFFSETTO:+0300
TZNAME:EEST
DTSTART:20200329T010000
END:DAYLIGHT
BEGIN:STANDARD
TZOFFSETFROM:+0300
TZOFFSETTO:+0200
TZNAME:EET
DTSTART:20201025T010000
END:STANDARD
BEGIN:DAYLIGHT
TZOFFSETFROM:+0200
TZOFFSETTO:+0300
TZNAME:EEST
DTSTART:20210328T010000
END:DAYLIGHT
BEGIN:STANDARD
TZOFFSETFROM:+0300
TZOFFSETTO:+0200
TZNAME:EET
DTSTART:20211031T010000
END:STANDARD
END:VTIMEZONE
BEGIN:VEVENT
DTSTART;TZID=Europe/Helsinki:20201005T190000
DTEND;TZID=Europe/Helsinki:20201005T200000
DTSTAMP:20260420T183558
CREATED:20201002T080942Z
LAST-MODIFIED:20201002T080942Z
UID:2764-1601924400-1601928000@svamuli.fi
SUMMARY:Helsinki Early Music Festival: Byrd ja Frescobaldi
DESCRIPTION:Tässä konsertissa esittävän taiteen valtionpalkinnolla 2018 palkittu työpari\, cembalisti Marianna Henriksson ja koreografi Anna Mustonen\, esiintyy yhdessä. \nWilliam Byrdin (1540–1623) ja Girolamo Frescobaldin (1583–1643) cembalokappaleet asettuvat ohjelmassa rinnakkain. \nHenrikssonin ja Mustosen yhteistyössä etsitään tapaa\, jolla nämä käsitykset musiikista voisivat tulla näkyviksi ja tuntuviksi. Sekä musiikin kuuntelu että sen soittaminen voivat tulla ilmi tanssina. \nLue lisää: https://helsinkiearlymusicfestival.fi/ohjelma/byrd-ja-frescobaldi/ \nLiput 20/15* €: fibo.fi/kauppa
URL:https://svamuli.fi/t/helsinki-early-music-festival-byrd-ja-frescobaldi/
LOCATION:Saksalainen kirkko\, Unioninkatu 1\, 00130 Helsinki\, Helsinki\, Suomi
END:VEVENT
END:VCALENDAR