BEGIN:VCALENDAR
VERSION:2.0
PRODID:-//Suomen vanhan musiikin liitto ry - ECPv6.15.17.1//NONSGML v1.0//EN
CALSCALE:GREGORIAN
METHOD:PUBLISH
X-ORIGINAL-URL:https://svamuli.fi
X-WR-CALDESC:Tapahtumat Suomen vanhan musiikin liitto ry
REFRESH-INTERVAL;VALUE=DURATION:PT1H
X-Robots-Tag:noindex
X-PUBLISHED-TTL:PT1H
BEGIN:VTIMEZONE
TZID:Europe/Helsinki
BEGIN:DAYLIGHT
TZOFFSETFROM:+0200
TZOFFSETTO:+0300
TZNAME:EEST
DTSTART:20190331T010000
END:DAYLIGHT
BEGIN:STANDARD
TZOFFSETFROM:+0300
TZOFFSETTO:+0200
TZNAME:EET
DTSTART:20191027T010000
END:STANDARD
BEGIN:DAYLIGHT
TZOFFSETFROM:+0200
TZOFFSETTO:+0300
TZNAME:EEST
DTSTART:20200329T010000
END:DAYLIGHT
BEGIN:STANDARD
TZOFFSETFROM:+0300
TZOFFSETTO:+0200
TZNAME:EET
DTSTART:20201025T010000
END:STANDARD
BEGIN:DAYLIGHT
TZOFFSETFROM:+0200
TZOFFSETTO:+0300
TZNAME:EEST
DTSTART:20210328T010000
END:DAYLIGHT
BEGIN:STANDARD
TZOFFSETFROM:+0300
TZOFFSETTO:+0200
TZNAME:EET
DTSTART:20211031T010000
END:STANDARD
END:VTIMEZONE
BEGIN:VEVENT
DTSTART;TZID=Europe/Helsinki:20200915T201500
DTEND;TZID=Europe/Helsinki:20200915T213000
DTSTAMP:20260420T171259
CREATED:20200904T085617Z
LAST-MODIFIED:20200904T085617Z
UID:2725-1600200900-1600205400@svamuli.fi
SUMMARY:Elina Mustonen: Her Infinite Variety
DESCRIPTION:Cafe Barock Tampereen syksyn 2020 aloittaa Elina Mustonen esityksellään Her Infinite Variety. \n”Her Infinite Variety – Shakespearen naiset sanoin ja sävelin” on näyttämöllinen teos\, joka muodostuu Shakespearen näytelmien monologeista sekä aikakauden musiikista. Elina Mustonen toimii lavalla sekä näyttelijänä että muusikkona. Yhtenäisen dramaturgisen kokonaisuuden suunnittelusta vastaavat Mustosen lisäksi kirjallisuuden tutkija Nely Keinänen sekä ohjaaja Johanna Freundlich. \nTunnetilat vaihtelevat rakkaudesta ja himosta vihaan\, kunnianhimosta ja pelosta huumoriin. Sävellysten tarttuvat melodiat ja rytmit peilautuvat Shakespearen tekstien monitasoisuuteen ja naiskohtaloiden kirjoon (infinite variety). \nTeoksen tekstit on valittu näytelmistä Loppiaisaatto\, Henrik V\, Romeo ja Julia\, Talvinen tarina\, Julius Caesar\, Kesäyön uni\, Macbeth\, Kuningas Juhana\, Hamlet\, Othello ja Kuten haluatte. Musiikkia kuullaan mm. seuraavilta säveltäjiltä: William Byrd\, John Dowland\, Orlando Gibbons\, Thomas Morley ja Giovanni Picchi. \nLiput 20/10€.\nhttps://tampereenteatteri.fi/naytelma/cafe-barock/ \nKonsertin järjestävät yhteistyössä: \nTampereen Vanhan musiikin ystävät\nCafé Barock / Kulttuuriyhdistys Ensemble Nylandia ry
URL:https://svamuli.fi/t/elina-mustonen-her-infinite-variety/
LOCATION:Kulttuuriravintola Kivi\, Keskustori 2\, 33100 Tampere\, Tampere\, Suomi
END:VEVENT
END:VCALENDAR