BEGIN:VCALENDAR
VERSION:2.0
PRODID:-//Suomen vanhan musiikin liitto ry - ECPv6.15.17.1//NONSGML v1.0//EN
CALSCALE:GREGORIAN
METHOD:PUBLISH
X-WR-CALNAME:Suomen vanhan musiikin liitto ry
X-ORIGINAL-URL:https://svamuli.fi
X-WR-CALDESC:Tapahtumat Suomen vanhan musiikin liitto ry
REFRESH-INTERVAL;VALUE=DURATION:PT1H
X-Robots-Tag:noindex
X-PUBLISHED-TTL:PT1H
BEGIN:VTIMEZONE
TZID:Europe/Helsinki
BEGIN:DAYLIGHT
TZOFFSETFROM:+0200
TZOFFSETTO:+0300
TZNAME:EEST
DTSTART:20190331T010000
END:DAYLIGHT
BEGIN:STANDARD
TZOFFSETFROM:+0300
TZOFFSETTO:+0200
TZNAME:EET
DTSTART:20191027T010000
END:STANDARD
BEGIN:DAYLIGHT
TZOFFSETFROM:+0200
TZOFFSETTO:+0300
TZNAME:EEST
DTSTART:20200329T010000
END:DAYLIGHT
BEGIN:STANDARD
TZOFFSETFROM:+0300
TZOFFSETTO:+0200
TZNAME:EET
DTSTART:20201025T010000
END:STANDARD
BEGIN:DAYLIGHT
TZOFFSETFROM:+0200
TZOFFSETTO:+0300
TZNAME:EEST
DTSTART:20210328T010000
END:DAYLIGHT
BEGIN:STANDARD
TZOFFSETFROM:+0300
TZOFFSETTO:+0200
TZNAME:EET
DTSTART:20211031T010000
END:STANDARD
END:VTIMEZONE
BEGIN:VEVENT
DTSTART;TZID=Europe/Helsinki:20200908T190000
DTEND;TZID=Europe/Helsinki:20200908T200000
DTSTAMP:20260420T171119
CREATED:20200903T204354Z
LAST-MODIFIED:20200903T204354Z
UID:2722-1599591600-1599595200@svamuli.fi
SUMMARY:Barokin säveliä Italiasta ja Saksasta
DESCRIPTION:Oulun vanha musiikki avaa syyskautensa Kemissä Paattionlehdon kappelissa 8. syyskuuta. Barokin sävelhelmiä Italiasta ja Saksasta saapuvat poimimaan muusikkosisarukset Viola ja Virve Räisänen soittiminaan barokkiviulu ja cembalo sekä barokkisellisti Juuli Holma. Konsertin säveltäjänimiä ovat J.S.Bach\, P. Mealli ja A.Corelli. Konsertin järjestävät yhteistyössä Oulun Vanha Musiikki\, Kemin seurakunta ja Lappbarock 2020. Konsertti on osa Taiken tukemaa Soivaa Voimaa -hanketta. \nOulun Vanha Musiikki lähettää noin tunnin mittaisen konsertin suorana Youtube-kanavallaan ja se on katsottavissa siellä myös jälkikäteen. \nKonserttiin on vapaa pääsy. Turvavälien vuoksi kappeliin pääsee yhteensä 50 kuulijaa. \nEsiintyjät ovat Kemissä ja Rovaniemellä asuvia ammattimuusikoita\, joita yhdistävää opiskelu viulisti Kreeta-Maria Kentalan käynnistämässä barokkimusiikin koulutusohjelmassa ammattikorkeakoulu Noviassa. Viulisti Viola Räisänen opiskelee tällä hetkellä barokkimusiikkia Iso-Britannian Royal Welsh College of Music & Dramassa viulisti Rachel Podgerin johdolla Suomen Kulttuurirahaston tukemana. Juuli Holma toimii sellon äänenjohtajana Lapin kamariorkesterissa ja on mm. Soinnillinen-festivaalin taiteellinen johtaja. Virve Räisänen puolestaan toimii pianonsoiton lehtorina Meri-Lapin musiikkiopistossa ja esiintyy cembalistina ja pianistina.
URL:https://svamuli.fi/t/barokin-savelia-italiasta-ja-saksasta/
LOCATION:Paattionlehdon kappeli\, Tornionkatu 81\, 94200 Kemi\, Kemi\, Suomi
END:VEVENT
END:VCALENDAR