BEGIN:VCALENDAR
VERSION:2.0
PRODID:-//Suomen vanhan musiikin liitto ry - ECPv6.15.17.1//NONSGML v1.0//EN
CALSCALE:GREGORIAN
METHOD:PUBLISH
X-WR-CALNAME:Suomen vanhan musiikin liitto ry
X-ORIGINAL-URL:https://svamuli.fi
X-WR-CALDESC:Tapahtumat Suomen vanhan musiikin liitto ry
REFRESH-INTERVAL;VALUE=DURATION:PT1H
X-Robots-Tag:noindex
X-PUBLISHED-TTL:PT1H
BEGIN:VTIMEZONE
TZID:Europe/Helsinki
BEGIN:DAYLIGHT
TZOFFSETFROM:+0200
TZOFFSETTO:+0300
TZNAME:EEST
DTSTART:20190331T010000
END:DAYLIGHT
BEGIN:STANDARD
TZOFFSETFROM:+0300
TZOFFSETTO:+0200
TZNAME:EET
DTSTART:20191027T010000
END:STANDARD
BEGIN:DAYLIGHT
TZOFFSETFROM:+0200
TZOFFSETTO:+0300
TZNAME:EEST
DTSTART:20200329T010000
END:DAYLIGHT
BEGIN:STANDARD
TZOFFSETFROM:+0300
TZOFFSETTO:+0200
TZNAME:EET
DTSTART:20201025T010000
END:STANDARD
BEGIN:DAYLIGHT
TZOFFSETFROM:+0200
TZOFFSETTO:+0300
TZNAME:EEST
DTSTART:20210328T010000
END:DAYLIGHT
BEGIN:STANDARD
TZOFFSETFROM:+0300
TZOFFSETTO:+0200
TZNAME:EET
DTSTART:20211031T010000
END:STANDARD
END:VTIMEZONE
BEGIN:VEVENT
DTSTART;TZID=Europe/Helsinki:20200827T180000
DTEND;TZID=Europe/Helsinki:20200827T184000
DTSTAMP:20260420T153848
CREATED:20200612T121520Z
LAST-MODIFIED:20200612T121520Z
UID:2647-1598551200-1598553600@svamuli.fi
SUMMARY:FiBO: Händelsbanken
DESCRIPTION:Georg Friedrich ja Hallen pääoma \nHändel–Zachow \nFiBO Players:\nPiia Maunula\, oboe\nAnni Elonen\, viulu\nAnna-Maaria Oramo\, cembalo \nSaksan Hallen kaupungissa Marktkirche Unser Lieben Frauen -kirkon kanttorina toiminut Friedrich Wilhelm Zachow (1663–1712) oli Georg Friedrich Händelin (1685–1759) elämän ainoaksi jäänyt musiikinopettaja. Hänen tyylinsä ja opetuksensa jättivät jälkensä Händelin sävelkieleen\, ja Händelin tiedetään myös kopioineen opettajansa instrumentaatioita ja sävellyksiä myöhemmissä teoksissaan. Zachow opetti nuorelle Georg Friedrichille niin urkujen\, cembalon\, viulun ja oboen soittoa kuin kontrapunktia ja sävellystä. \nHändel sävelsi paljon teoksia jo lapsuudessaan ja nuoruudessaan rakastamilleen soittimille viululle ja oboelle\, ja myös Zachow osasi kirjoittaa musiikkia juuri näille instrumenteille. Händelin oboeteosten suuren määrän onkin arveltu johtuvan todennäköisesti Zachowin Händelissä aikaansaamasta nuoruuden innostuksesta kyseistä instrumenttia kohtaan. \nLue lisää täältä \nKonsertti järjestetään poikkeusjärjestelyin kuulijoiden ja muusikoiden turvallisuus huomioiden: Lippuja on myynnissä vain 45\, ja niitä voi ostaa ainoastaan verkkokaupasta. Yleisö ohjataan istumaan reiluin turvavälein. Tarjolla on käsidesiä ja myös hengityssuojaimia. Konserttiin voi saapua vain\, mikäli ei kärsi minkäänlaisista hengitystieinfektion oireista. \nKesän konserttien järjestämisen alkusysäys tuli Saksalaiselta seurakunnalta\, joka halusi osaltaan tukea freelancemuusikoita. Kiitämme lämpimästi seurakuntaa yhteistyöstä.
URL:https://svamuli.fi/t/fibo-handelsbanken/
LOCATION:Saksalainen kirkko\, Unioninkatu 1\, 00130 Helsinki\, Helsinki\, Suomi
END:VEVENT
BEGIN:VEVENT
DTSTART;TZID=Europe/Helsinki:20200827T183000
DTEND;TZID=Europe/Helsinki:20200827T193000
DTSTAMP:20260420T153848
CREATED:20200821T083620Z
LAST-MODIFIED:20200821T083620Z
UID:2697-1598553000-1598556600@svamuli.fi
SUMMARY:Kesäillan musiikkia: Yksissä tuumin helisevät kielet
DESCRIPTION:Vanhaa musiikkia kahdella cembalolla \nTuore kahden cembalon muodostama duo Vesalainen&Vihreäpuu heläyttää ilmoille 1700-luvulla sävellettyä herkkää\, helskyvää\, oikukasta ja virtuoottista musiikkia Händeliltä\, Mütheliltä\, Schaffrathilta ja W.F.Bachilta. Katso video: https://youtu.be/-DevcxeN9qY
URL:https://svamuli.fi/t/kesaillan-musiikkia-yksissa-tuumin-helisevat-kielet/
LOCATION:Huopalahden kirkko\, Vespertie 12\, 00320 Helsinki\, Helsinki\, Suomi
END:VEVENT
END:VCALENDAR