BEGIN:VCALENDAR
VERSION:2.0
PRODID:-//Suomen vanhan musiikin liitto ry - ECPv6.15.17.1//NONSGML v1.0//EN
CALSCALE:GREGORIAN
METHOD:PUBLISH
X-WR-CALNAME:Suomen vanhan musiikin liitto ry
X-ORIGINAL-URL:https://svamuli.fi
X-WR-CALDESC:Tapahtumat Suomen vanhan musiikin liitto ry
REFRESH-INTERVAL;VALUE=DURATION:PT1H
X-Robots-Tag:noindex
X-PUBLISHED-TTL:PT1H
BEGIN:VTIMEZONE
TZID:Europe/Helsinki
BEGIN:DAYLIGHT
TZOFFSETFROM:+0200
TZOFFSETTO:+0300
TZNAME:EEST
DTSTART:20190331T010000
END:DAYLIGHT
BEGIN:STANDARD
TZOFFSETFROM:+0300
TZOFFSETTO:+0200
TZNAME:EET
DTSTART:20191027T010000
END:STANDARD
BEGIN:DAYLIGHT
TZOFFSETFROM:+0200
TZOFFSETTO:+0300
TZNAME:EEST
DTSTART:20200329T010000
END:DAYLIGHT
BEGIN:STANDARD
TZOFFSETFROM:+0300
TZOFFSETTO:+0200
TZNAME:EET
DTSTART:20201025T010000
END:STANDARD
BEGIN:DAYLIGHT
TZOFFSETFROM:+0200
TZOFFSETTO:+0300
TZNAME:EEST
DTSTART:20210328T010000
END:DAYLIGHT
BEGIN:STANDARD
TZOFFSETFROM:+0300
TZOFFSETTO:+0200
TZNAME:EET
DTSTART:20211031T010000
END:STANDARD
END:VTIMEZONE
BEGIN:VEVENT
DTSTART;TZID=Europe/Helsinki:20200820T180000
DTEND;TZID=Europe/Helsinki:20200820T184500
DTSTAMP:20260420T153849
CREATED:20200612T121350Z
LAST-MODIFIED:20200612T121350Z
UID:2644-1597946400-1597949100@svamuli.fi
SUMMARY:FiBO: Mozart\, Mozart!
DESCRIPTION:Huilukvartettoja ja oopperasovituksia \nMozart \nFiBO Players:\nPauliina Fred\, huilu\nMinna Kangas\, viulu\nLaura Kajander\, alttoviulu\nLouna Hosia\, sello \n”Instrumentti\, jota en voi sietää”\, kirjoitti Wolfgang Amadeus Mozart isälleen vuonna 1778 tarkoittaen huilua. Mozart piti klarinetista\, fagotista ja muista puhallinsoittimista\, muttei koskaan lämmennyt huilulle. Hän arvosti kuitenkin Mannheimin hoviorkesterin loistavaa huilistia J. B. Wendlingiä\, joka luultavasti vaikutti positiivisesti Mozartin huilukvartettojen syntyyn ja laatuun. Mozart sävelsikin kolme kvartettoa (luultavasti G-\, C- ja D-duurissa) ja kaksi konserttoa tilaustyönä. \nKamarimusiikkisovitukset oopperoista olivat hyvin suosittuja 1700- ja 1800-luvun vaihteessa. Mozartin oopperoista on löydetty lukuisa määrä erilaisille kokoonpanoille sovitettuja versioita. Toiset ovat Mozartin itsensä sovittamia\, toiset taas tuntemattomien aikalaisten. Nyt kuultava triosovitus Taikahuilu-oopperasta on Mozartin kirjoittama. \nLue lisää täältä \nKonsertti järjestetään poikkeusjärjestelyin kuulijoiden ja muusikoiden turvallisuus huomioiden: Lippuja on myynnissä vain 45\, ja niitä voi ostaa ainoastaan verkkokaupasta. Yleisö ohjataan istumaan reiluin turvavälein. Tarjolla on käsidesiä ja myös hengityssuojaimia. Konserttiin voi saapua vain\, mikäli ei kärsi minkäänlaisista hengitystieinfektion oireista. \nKesän konserttien järjestämisen alkusysäys tuli Saksalaiselta seurakunnalta\, joka halusi osaltaan tukea freelancemuusikoita. Kiitämme lämpimästi seurakuntaa yhteistyöstä.
URL:https://svamuli.fi/t/fibo-mozart-mozart/
LOCATION:Saksalainen kirkko\, Unioninkatu 1\, 00130 Helsinki\, Helsinki\, Suomi
END:VEVENT
END:VCALENDAR