BEGIN:VCALENDAR
VERSION:2.0
PRODID:-//Suomen vanhan musiikin liitto ry - ECPv6.15.17.1//NONSGML v1.0//EN
CALSCALE:GREGORIAN
METHOD:PUBLISH
X-WR-CALNAME:Suomen vanhan musiikin liitto ry
X-ORIGINAL-URL:https://svamuli.fi
X-WR-CALDESC:Tapahtumat Suomen vanhan musiikin liitto ry
REFRESH-INTERVAL;VALUE=DURATION:PT1H
X-Robots-Tag:noindex
X-PUBLISHED-TTL:PT1H
BEGIN:VTIMEZONE
TZID:Europe/Helsinki
BEGIN:DAYLIGHT
TZOFFSETFROM:+0200
TZOFFSETTO:+0300
TZNAME:EEST
DTSTART:20190331T010000
END:DAYLIGHT
BEGIN:STANDARD
TZOFFSETFROM:+0300
TZOFFSETTO:+0200
TZNAME:EET
DTSTART:20191027T010000
END:STANDARD
BEGIN:DAYLIGHT
TZOFFSETFROM:+0200
TZOFFSETTO:+0300
TZNAME:EEST
DTSTART:20200329T010000
END:DAYLIGHT
BEGIN:STANDARD
TZOFFSETFROM:+0300
TZOFFSETTO:+0200
TZNAME:EET
DTSTART:20201025T010000
END:STANDARD
BEGIN:DAYLIGHT
TZOFFSETFROM:+0200
TZOFFSETTO:+0300
TZNAME:EEST
DTSTART:20210328T010000
END:DAYLIGHT
BEGIN:STANDARD
TZOFFSETFROM:+0300
TZOFFSETTO:+0200
TZNAME:EET
DTSTART:20211031T010000
END:STANDARD
END:VTIMEZONE
BEGIN:VEVENT
DTSTART;TZID=Europe/Helsinki:20200813T180000
DTEND;TZID=Europe/Helsinki:20200813T184000
DTSTAMP:20260420T153825
CREATED:20200602T111546Z
LAST-MODIFIED:20200602T111546Z
UID:2640-1597341600-1597344000@svamuli.fi
SUMMARY:FiBO: Huokausten virrassa
DESCRIPTION:Musiikkia ranskalaisen barokin kultakaudelta \nF. Couperin – Chabenceau de la Barre – Clérambault \nFiBO Players:\nAnne Pekkala\, viulu\nJani Sunnarborg\, fagotti\nAnna-Maaria Oramo\, laulu ja cembalo \nRanskan barokin kultakaudella eli noin vuosina 1600–1770 hovi määritteli musiikkimakuja\, ja François Couperinin Kuninkaalliset konsertot on sävelletty Versailles’n hovin tilaisuuksia varten Ludvig XIV:n aikana. \nAir de cour -tyyli yleistyi Ludvig XIII:n aikakaudella ja oli aina 1630-luvulle hovin yleisin maallisen musiikin muoto. Herkät\, usein melankoliset laulut esitetään tyypillisesti luutun säestyksellä. Joseph Chabenceau de la Barre kuuluu eräisiin tämän tyylin tunnetuimmista lauluntekijöistä. \nLue lisää täältä \nKonsertti järjestetään poikkeusjärjestelyin kuulijoiden ja muusikoiden turvallisuus huomioiden: Lippuja on myynnissä vain 45\, ja niitä voi ostaa ainoastaan Ticketmasterin verkkokaupasta (ei myyntipisteistä eikä ovelta). Yleisö ohjataan istumaan reiluin turvavälein. Tarjolla on käsidesiä ja myös hengityssuojaimia. Konserttiin voi saapua vain\, mikäli ei kärsi minkäänlaisista hengitystieinfektion oireista. \nKonserttien järjestämisen alkusysäys tuli Saksalaiselta seurakunnalta\, joka halusi osaltaan tukea freelancemuusikoita. Kiitämme lämpimästi seurakuntaa yhteistyöstä. \nKesto: 40 min (ei väliaikaa) \nfibo.fi
URL:https://svamuli.fi/t/fibo-huokausten-virrassa/
LOCATION:Saksalainen kirkko\, Unioninkatu 1\, 00130 Helsinki\, Helsinki\, Suomi
END:VEVENT
END:VCALENDAR