BEGIN:VCALENDAR
VERSION:2.0
PRODID:-//Suomen vanhan musiikin liitto ry - ECPv6.15.17.1//NONSGML v1.0//EN
CALSCALE:GREGORIAN
METHOD:PUBLISH
X-WR-CALNAME:Suomen vanhan musiikin liitto ry
X-ORIGINAL-URL:https://svamuli.fi
X-WR-CALDESC:Tapahtumat Suomen vanhan musiikin liitto ry
REFRESH-INTERVAL;VALUE=DURATION:PT1H
X-Robots-Tag:noindex
X-PUBLISHED-TTL:PT1H
BEGIN:VTIMEZONE
TZID:Europe/Helsinki
BEGIN:DAYLIGHT
TZOFFSETFROM:+0200
TZOFFSETTO:+0300
TZNAME:EEST
DTSTART:20190331T010000
END:DAYLIGHT
BEGIN:STANDARD
TZOFFSETFROM:+0300
TZOFFSETTO:+0200
TZNAME:EET
DTSTART:20191027T010000
END:STANDARD
BEGIN:DAYLIGHT
TZOFFSETFROM:+0200
TZOFFSETTO:+0300
TZNAME:EEST
DTSTART:20200329T010000
END:DAYLIGHT
BEGIN:STANDARD
TZOFFSETFROM:+0300
TZOFFSETTO:+0200
TZNAME:EET
DTSTART:20201025T010000
END:STANDARD
BEGIN:DAYLIGHT
TZOFFSETFROM:+0200
TZOFFSETTO:+0300
TZNAME:EEST
DTSTART:20210328T010000
END:DAYLIGHT
BEGIN:STANDARD
TZOFFSETFROM:+0300
TZOFFSETTO:+0200
TZNAME:EET
DTSTART:20211031T010000
END:STANDARD
END:VTIMEZONE
BEGIN:VEVENT
DTSTART;TZID=Europe/Helsinki:20200520T130000
DTEND;TZID=Europe/Helsinki:20200520T140000
DTSTAMP:20260421T061408
CREATED:20200226T124543Z
LAST-MODIFIED:20200226T124543Z
UID:2577-1589979600-1589983200@svamuli.fi
SUMMARY:Café Barock: Vanhan musiikin uudet toivot
DESCRIPTION:Vanhan musiikin uudet toivot -lounaskonserttisarja Rikhardinkadun kirjaston Kirjatornissa jatkuu keväällä 2020 keskiviikkoisin klo 13 neljällä konsertilla 19.2.\, 18.3.\, 15.4. ja 20.5. Konserteissa esiintyy Sibelius-Akatemian vanhan musiikin aineryhmän opiskelijoita. \nVapaa pääsy. Istumapaikkoja n.30 hengelle. \nJärjestää Rikhardinkadun kirjasto\, Café Barock /Kultuuriyhdistys Ensemble Nylandia ry
URL:https://svamuli.fi/t/cafe-barock-vanhan-musiikin-uudet-toivot-12/
LOCATION:Rikhardinkadun kirjasto\, Rikhardinkatu 3\, 00130 Helsinki\, Helsinki\, Suomi
END:VEVENT
END:VCALENDAR