BEGIN:VCALENDAR
VERSION:2.0
PRODID:-//Suomen vanhan musiikin liitto ry - ECPv6.15.17.1//NONSGML v1.0//EN
CALSCALE:GREGORIAN
METHOD:PUBLISH
X-ORIGINAL-URL:https://svamuli.fi
X-WR-CALDESC:Tapahtumat Suomen vanhan musiikin liitto ry
REFRESH-INTERVAL;VALUE=DURATION:PT1H
X-Robots-Tag:noindex
X-PUBLISHED-TTL:PT1H
BEGIN:VTIMEZONE
TZID:Europe/Helsinki
BEGIN:DAYLIGHT
TZOFFSETFROM:+0200
TZOFFSETTO:+0300
TZNAME:EEST
DTSTART:20190331T010000
END:DAYLIGHT
BEGIN:STANDARD
TZOFFSETFROM:+0300
TZOFFSETTO:+0200
TZNAME:EET
DTSTART:20191027T010000
END:STANDARD
BEGIN:DAYLIGHT
TZOFFSETFROM:+0200
TZOFFSETTO:+0300
TZNAME:EEST
DTSTART:20200329T010000
END:DAYLIGHT
BEGIN:STANDARD
TZOFFSETFROM:+0300
TZOFFSETTO:+0200
TZNAME:EET
DTSTART:20201025T010000
END:STANDARD
BEGIN:DAYLIGHT
TZOFFSETFROM:+0200
TZOFFSETTO:+0300
TZNAME:EEST
DTSTART:20210328T010000
END:DAYLIGHT
BEGIN:STANDARD
TZOFFSETFROM:+0300
TZOFFSETTO:+0200
TZNAME:EET
DTSTART:20211031T010000
END:STANDARD
END:VTIMEZONE
BEGIN:VEVENT
DTSTART;TZID=Europe/Helsinki:20200425T103000
DTEND;TZID=Europe/Helsinki:20200425T113000
DTSTAMP:20260422T170334
CREATED:20200226T124708Z
LAST-MODIFIED:20200226T124708Z
UID:2579-1587810600-1587814200@svamuli.fi
SUMMARY:Café Barock: Meditatiivista barokkimusiikkia
DESCRIPTION:Keravan kirjasto- ja kulttuuripalvelut sekä Café Barock tarjoavat kevyttä\, helposti lähestyttävää ja korkeatasoista barokkimusisointia Keravan kirjaston Pentinkulma-salissa lauantai-aamuisin klo 10.30. keväällä 2020: \n15.2. Sini Vahervuo\, huilut & Jukka Rautasalo\, viola da gamba \n21.3. Hanna Haapamäki\, traverso ja nokkahuilu & Niklas Mellberg\, teorbi ja barokkikitara \n25.4. Lassi Kari\, violone \nJärjestää Keravan kaupunginkirjasto ja Café Barock / Kulttuuriyhdistys Ensemble Nylandia ry
URL:https://svamuli.fi/t/cafe-barock-meditatiivista-barokkimusiikkia-4/
LOCATION:Keravan kaupunginkirjasto\, Paasikivenkatu 12\, 04200 Kerava\, Kerava\, Suomi
END:VEVENT
END:VCALENDAR