BEGIN:VCALENDAR
VERSION:2.0
PRODID:-//Suomen vanhan musiikin liitto ry - ECPv6.15.17.1//NONSGML v1.0//EN
CALSCALE:GREGORIAN
METHOD:PUBLISH
X-WR-CALNAME:Suomen vanhan musiikin liitto ry
X-ORIGINAL-URL:https://svamuli.fi
X-WR-CALDESC:Tapahtumat Suomen vanhan musiikin liitto ry
REFRESH-INTERVAL;VALUE=DURATION:PT1H
X-Robots-Tag:noindex
X-PUBLISHED-TTL:PT1H
BEGIN:VTIMEZONE
TZID:Europe/Helsinki
BEGIN:DAYLIGHT
TZOFFSETFROM:+0200
TZOFFSETTO:+0300
TZNAME:EEST
DTSTART:20180325T010000
END:DAYLIGHT
BEGIN:STANDARD
TZOFFSETFROM:+0300
TZOFFSETTO:+0200
TZNAME:EET
DTSTART:20181028T010000
END:STANDARD
BEGIN:DAYLIGHT
TZOFFSETFROM:+0200
TZOFFSETTO:+0300
TZNAME:EEST
DTSTART:20190331T010000
END:DAYLIGHT
BEGIN:STANDARD
TZOFFSETFROM:+0300
TZOFFSETTO:+0200
TZNAME:EET
DTSTART:20191027T010000
END:STANDARD
BEGIN:DAYLIGHT
TZOFFSETFROM:+0200
TZOFFSETTO:+0300
TZNAME:EEST
DTSTART:20200329T010000
END:DAYLIGHT
BEGIN:STANDARD
TZOFFSETFROM:+0300
TZOFFSETTO:+0200
TZNAME:EET
DTSTART:20201025T010000
END:STANDARD
END:VTIMEZONE
BEGIN:VEVENT
DTSTART;TZID=Europe/Helsinki:20191204T120000
DTEND;TZID=Europe/Helsinki:20191204T130000
DTSTAMP:20260422T230010
CREATED:20190916T074641Z
LAST-MODIFIED:20190916T074641Z
UID:2400-1575460800-1575464400@svamuli.fi
SUMMARY:Lounaskonsertti\, vokaaliyhtye Lumous
DESCRIPTION:Vokaaliyhtye Lumous\, johtaa Debra Gomez-Tapio
URL:https://svamuli.fi/t/lounaskonsertti-vokaaliyhtye-lumous/
LOCATION:Aleksanterin kirkko\, Pyynikin kirkkopuisto\, Tampere\, Tampere\, Suomi
END:VEVENT
BEGIN:VEVENT
DTSTART;TZID=Europe/Helsinki:20191204T190000
DTEND;TZID=Europe/Helsinki:20191204T210000
DTSTAMP:20260422T230010
CREATED:20190917T134732Z
LAST-MODIFIED:20190917T134732Z
UID:2434-1575486000-1575493200@svamuli.fi
SUMMARY:Café Barock Oulu: Kauneimmat barokkijoululaulut
DESCRIPTION:Kauneimmat barokkijoululaulut soivat teatteriravintola Vänmannissa. Konsertin vierailevina tähtinä ovat Ensemble Nylandian muusikot kosketinsoittaja Matias Häkkinen\, nokkahuilisti ja traversisti Sini Vahervuo ja ukuleletaituri Jarmo Julkunen. Kattausta täydentävät paikalliset muusikkomme. \nLiput 20€\, 15€ (eläkeläiset) ja 5€ (opiskelijat\, työttömät ja lapset). Liput myynnissä etukäteen Oulu10-palvelupisteissä ja Kulttuuritalo Valveen lippumyymälässä ilman käsittelykuluja ja\nTicketmasterissa (+käsittelykulut). Jos lippuja on jäljellä\, niitä myydään ovelta tuntia ennen esitystä hintaan 25€/20€/10€. \nKonsertin järjestää Oulun Vanha Musiikki yhteistyössä Kulttuuriyhdistys Café Barock ry:n kanssa.
URL:https://svamuli.fi/t/cafe-barock-oulu-kauneimmat-barokkijoululaulut/
LOCATION:Teatteriravintola Vänmanni\, Kaarlenväylä 2\, 90100 Oulu\, Oulu\, Suomi
END:VEVENT
END:VCALENDAR