BEGIN:VCALENDAR
VERSION:2.0
PRODID:-//Suomen vanhan musiikin liitto ry - ECPv6.15.17.1//NONSGML v1.0//EN
CALSCALE:GREGORIAN
METHOD:PUBLISH
X-WR-CALNAME:Suomen vanhan musiikin liitto ry
X-ORIGINAL-URL:https://svamuli.fi
X-WR-CALDESC:Tapahtumat Suomen vanhan musiikin liitto ry
REFRESH-INTERVAL;VALUE=DURATION:PT1H
X-Robots-Tag:noindex
X-PUBLISHED-TTL:PT1H
BEGIN:VTIMEZONE
TZID:Europe/Helsinki
BEGIN:DAYLIGHT
TZOFFSETFROM:+0200
TZOFFSETTO:+0300
TZNAME:EEST
DTSTART:20180325T010000
END:DAYLIGHT
BEGIN:STANDARD
TZOFFSETFROM:+0300
TZOFFSETTO:+0200
TZNAME:EET
DTSTART:20181028T010000
END:STANDARD
BEGIN:DAYLIGHT
TZOFFSETFROM:+0200
TZOFFSETTO:+0300
TZNAME:EEST
DTSTART:20190331T010000
END:DAYLIGHT
BEGIN:STANDARD
TZOFFSETFROM:+0300
TZOFFSETTO:+0200
TZNAME:EET
DTSTART:20191027T010000
END:STANDARD
BEGIN:DAYLIGHT
TZOFFSETFROM:+0200
TZOFFSETTO:+0300
TZNAME:EEST
DTSTART:20200329T010000
END:DAYLIGHT
BEGIN:STANDARD
TZOFFSETFROM:+0300
TZOFFSETTO:+0200
TZNAME:EET
DTSTART:20201025T010000
END:STANDARD
END:VTIMEZONE
BEGIN:VEVENT
DTSTART;TZID=Europe/Helsinki:20191124T150000
DTEND;TZID=Europe/Helsinki:20191124T160000
DTSTAMP:20260423T002816
CREATED:20191029T082448Z
LAST-MODIFIED:20191112T130438Z
UID:2454-1574607600-1574611200@svamuli.fi
SUMMARY:Erbarme dich - Armahda! - Bachin säveliä tuomiosunnuntaihin
DESCRIPTION:Johann Sebastian Bachin kantaattiaarioita ja kamarimusiikkia \nJussi Salonen\, tenori\nBarokkiyhtye Cornucopia:\nPekka Silén\, nokkahuilu\nLouna Hosia\, barokkisello\nMarianna Henriksson\, cembalo \nVapaa pääsy\, ohjelma 20/10e
URL:https://svamuli.fi/t/erbarme-dich-armahda-bachin-savelia-tuomiosunnuntaihin/
LOCATION:Korson kirkko\, Merikotkantie 4\, 01450 Vantaa\, Vantaa\, Suomi
END:VEVENT
BEGIN:VEVENT
DTSTART;TZID=Europe/Helsinki:20191124T160000
DTEND;TZID=Europe/Helsinki:20191124T170000
DTSTAMP:20260423T002816
CREATED:20191112T130852Z
LAST-MODIFIED:20191112T130852Z
UID:2488-1574611200-1574614800@svamuli.fi
SUMMARY:Kuin Telemann Pariisissa
DESCRIPTION:Lilla Villanissa kuullaan barokkiyhtye Rosinanten Kuin Telemann Pariisissa -kiertueen päätöskonsertti. Konsertin ohjelma rakentuu säveltäjä Georg Philipp Telemannin Pariisin-vierailun ympärille. Keskeisinä teoksina toimivat Telemannin ensimmäinen pariisilaiskvartetto ja vastaparina sille Louis-Gabriel Guillemainin kuudes kvartetto. Lisäksi kuullaan teoksia muiltakin Pariisissa samaan aikaan vaikuttaneilta\, omana aikanaan juhlituilta ranskalaissäveltäjiltä\, jotka ovat syyttä painuneet unholaan myöhempinä vuosisatoina. \nBarokkiyhtye Rosinante:\nSoile Ylivuori\, traverso\nAnna Pohjola\, barokkiviulu\nPieta Mattila\, viola da gamba\nLaura Vihreäpuu\, cembalo
URL:https://svamuli.fi/t/kuin-telemann-pariisissa/
LOCATION:Lilla Villan\, Jussaksentie 16\, 04130 Sipoo\, Sipoo\, Suomi
END:VEVENT
END:VCALENDAR