BEGIN:VCALENDAR
VERSION:2.0
PRODID:-//Suomen vanhan musiikin liitto ry - ECPv6.15.17.1//NONSGML v1.0//EN
CALSCALE:GREGORIAN
METHOD:PUBLISH
X-ORIGINAL-URL:https://svamuli.fi
X-WR-CALDESC:Tapahtumat Suomen vanhan musiikin liitto ry
REFRESH-INTERVAL;VALUE=DURATION:PT1H
X-Robots-Tag:noindex
X-PUBLISHED-TTL:PT1H
BEGIN:VTIMEZONE
TZID:Europe/Helsinki
BEGIN:DAYLIGHT
TZOFFSETFROM:+0200
TZOFFSETTO:+0300
TZNAME:EEST
DTSTART:20180325T010000
END:DAYLIGHT
BEGIN:STANDARD
TZOFFSETFROM:+0300
TZOFFSETTO:+0200
TZNAME:EET
DTSTART:20181028T010000
END:STANDARD
BEGIN:DAYLIGHT
TZOFFSETFROM:+0200
TZOFFSETTO:+0300
TZNAME:EEST
DTSTART:20190331T010000
END:DAYLIGHT
BEGIN:STANDARD
TZOFFSETFROM:+0300
TZOFFSETTO:+0200
TZNAME:EET
DTSTART:20191027T010000
END:STANDARD
BEGIN:DAYLIGHT
TZOFFSETFROM:+0200
TZOFFSETTO:+0300
TZNAME:EEST
DTSTART:20200329T010000
END:DAYLIGHT
BEGIN:STANDARD
TZOFFSETFROM:+0300
TZOFFSETTO:+0200
TZNAME:EET
DTSTART:20201025T010000
END:STANDARD
END:VTIMEZONE
BEGIN:VEVENT
DTSTART;TZID=Europe/Helsinki:20191115T190000
DTEND;TZID=Europe/Helsinki:20191115T210000
DTSTAMP:20260423T003119
CREATED:20190917T134538Z
LAST-MODIFIED:20190917T134538Z
UID:2431-1573844400-1573851600@svamuli.fi
SUMMARY:Café Barock Oulu: Hvila vid denna källa – Lähteelle istukaamme
DESCRIPTION:Café Barock Oulu -sarjan konsertissa barokkimusiikki virkistää Pikisaaressa. Hvila vid denna källa – Lähteelle istukaamme -konsertti uppoutuu ruotsalaisten kansallisrunoilijaksikin luonnehditun Carl Michael Bellmanin laulujen mukana 1700-luvun kiehtovaan maailmaan. Oppaina tällä draamallisella matkalla ovat muusikot Pentti Hildén (laulu ja mandora)\, Pauliina Fred (traverso ja nokkahuilu)\, Markus Pelli (barokkisello ja rumpu). Draamallisesta ohjauksesta vastaa Antti Korhonen. Valtaosa lauluista esitetään alkukielellä mutta esitys tehdään juonnon\, dramatisoinnin ja suomennosten avulla helposti lähestyttäväksi suomenkieliselle yleisölle. \nLiput: 20€ normaalihinta\, 15€ eläkeläisille ja 5€ lapsille\, opiskelijoille ja työttömille. \nKonserttia on tukenut Svenska kulturfonden ja sen järjestää Oulun Vanha Musiikki yhteistyössä Kulttuuriyhdistys Café Barock ry:n kanssa.
URL:https://svamuli.fi/t/cafe-barock-oulu-hvila-vid-denna-kalla-lahteelle-istukaamme/
LOCATION:Turusen Saha\, Pikisaarentie 10\, 90100 Oulu\, Oulu\, Suomi
END:VEVENT
END:VCALENDAR