BEGIN:VCALENDAR
VERSION:2.0
PRODID:-//Suomen vanhan musiikin liitto ry - ECPv6.15.17.1//NONSGML v1.0//EN
CALSCALE:GREGORIAN
METHOD:PUBLISH
X-ORIGINAL-URL:https://svamuli.fi
X-WR-CALDESC:Tapahtumat Suomen vanhan musiikin liitto ry
REFRESH-INTERVAL;VALUE=DURATION:PT1H
X-Robots-Tag:noindex
X-PUBLISHED-TTL:PT1H
BEGIN:VTIMEZONE
TZID:Europe/Helsinki
BEGIN:DAYLIGHT
TZOFFSETFROM:+0200
TZOFFSETTO:+0300
TZNAME:EEST
DTSTART:20180325T010000
END:DAYLIGHT
BEGIN:STANDARD
TZOFFSETFROM:+0300
TZOFFSETTO:+0200
TZNAME:EET
DTSTART:20181028T010000
END:STANDARD
BEGIN:DAYLIGHT
TZOFFSETFROM:+0200
TZOFFSETTO:+0300
TZNAME:EEST
DTSTART:20190331T010000
END:DAYLIGHT
BEGIN:STANDARD
TZOFFSETFROM:+0300
TZOFFSETTO:+0200
TZNAME:EET
DTSTART:20191027T010000
END:STANDARD
BEGIN:DAYLIGHT
TZOFFSETFROM:+0200
TZOFFSETTO:+0300
TZNAME:EEST
DTSTART:20200329T010000
END:DAYLIGHT
BEGIN:STANDARD
TZOFFSETFROM:+0300
TZOFFSETTO:+0200
TZNAME:EET
DTSTART:20201025T010000
END:STANDARD
END:VTIMEZONE
BEGIN:VEVENT
DTSTART;TZID=Europe/Helsinki:20191114T190000
DTEND;TZID=Europe/Helsinki:20191114T200000
DTSTAMP:20260423T014758
CREATED:20191112T130638Z
LAST-MODIFIED:20191112T130650Z
UID:2485-1573758000-1573761600@svamuli.fi
SUMMARY:Miekkailukoulu ja muita musiikillisia taistoja
DESCRIPTION:Aikamatka 1600-luvulle musiikin keinoin! Taistelunmelskettä ja sapelien kalinaa sekä koskettavan kauniita ja lohdullisia melodioita! Barokin musiikissa aina läsnäoleva tanssin poljento kuljettaa mukanaan niin soittajaa kuin kuulijaakin. Konsertissa taituroivat Espoon barokin muusikot Dora Asterstad ja Anna Pohjola viulu\, Riittaliisa Hakulinen alttoviulu\, Elina Mattila sello\, Mikko Ikäheimo teorbi sekä Laura Vihreäpuu cembalo.
URL:https://svamuli.fi/t/miekkailukoulu-ja-muita-musiikillisia-taistoja-2/
LOCATION:Hämeen linnan Kuninkaansali\, Kustaa IIIn katu 6\, 13100 Hämeenlinna\, Hämeenlinna\, Suomi
END:VEVENT
END:VCALENDAR