BEGIN:VCALENDAR
VERSION:2.0
PRODID:-//Suomen vanhan musiikin liitto ry - ECPv6.15.17.1//NONSGML v1.0//EN
CALSCALE:GREGORIAN
METHOD:PUBLISH
X-WR-CALNAME:Suomen vanhan musiikin liitto ry
X-ORIGINAL-URL:https://svamuli.fi
X-WR-CALDESC:Tapahtumat Suomen vanhan musiikin liitto ry
REFRESH-INTERVAL;VALUE=DURATION:PT1H
X-Robots-Tag:noindex
X-PUBLISHED-TTL:PT1H
BEGIN:VTIMEZONE
TZID:Europe/Helsinki
BEGIN:DAYLIGHT
TZOFFSETFROM:+0200
TZOFFSETTO:+0300
TZNAME:EEST
DTSTART:20180325T010000
END:DAYLIGHT
BEGIN:STANDARD
TZOFFSETFROM:+0300
TZOFFSETTO:+0200
TZNAME:EET
DTSTART:20181028T010000
END:STANDARD
BEGIN:DAYLIGHT
TZOFFSETFROM:+0200
TZOFFSETTO:+0300
TZNAME:EEST
DTSTART:20190331T010000
END:DAYLIGHT
BEGIN:STANDARD
TZOFFSETFROM:+0300
TZOFFSETTO:+0200
TZNAME:EET
DTSTART:20191027T010000
END:STANDARD
BEGIN:DAYLIGHT
TZOFFSETFROM:+0200
TZOFFSETTO:+0300
TZNAME:EEST
DTSTART:20200329T010000
END:DAYLIGHT
BEGIN:STANDARD
TZOFFSETFROM:+0300
TZOFFSETTO:+0200
TZNAME:EET
DTSTART:20201025T010000
END:STANDARD
END:VTIMEZONE
BEGIN:VEVENT
DTSTART;TZID=Europe/Helsinki:20191113T201500
DTEND;TZID=Europe/Helsinki:20191113T220000
DTSTAMP:20260423T002449
CREATED:20190906T063814Z
LAST-MODIFIED:20190906T063814Z
UID:2360-1573676100-1573682400@svamuli.fi
SUMMARY:Café Barock Tampere: Isiltä pojille ja tyttärille
DESCRIPTION:Ilpo Laspas\, cembalo\nAira Maria Lehtipuu\, viulu \nIsänpäivän jälkitunnelmissa kuullaan ohjelmistoa jossa näkyy suvun perintö tavalla tai toisella. Bachin sukukokouksissa musisoitiin veljien\, serkkujen\, setien ja kumminkaimojen kanssa kun taas Vivaldi koulutti virallisesti isättömistä tytöistä kansainvälisesti kuuluisia virtuooseja. Ranskan kauneimpia nuottieditioita 1700-luvun alkupuolella kaiversi isältään nuottikustantamon perinyt Louise Roussel\, ja Firenzessä Francesco Maria Veracini oli myös osa sukupolvien viulistiketjua. Konsertissa on jälleen mahdollisuus kuulla Pirkanmaan kulttuurirahaston upeaa Kennedy-cembaloa
URL:https://svamuli.fi/t/cafe-barock-tampere-isilta-pojille-ja-tyttarille/
LOCATION:Kulttuuriravintola Kivi\, Keskustori 2\, 33100 Tampere\, Tampere\, Suomi
END:VEVENT
END:VCALENDAR