BEGIN:VCALENDAR
VERSION:2.0
PRODID:-//Suomen vanhan musiikin liitto ry - ECPv6.15.17.1//NONSGML v1.0//EN
CALSCALE:GREGORIAN
METHOD:PUBLISH
X-ORIGINAL-URL:https://svamuli.fi
X-WR-CALDESC:Tapahtumat Suomen vanhan musiikin liitto ry
REFRESH-INTERVAL;VALUE=DURATION:PT1H
X-Robots-Tag:noindex
X-PUBLISHED-TTL:PT1H
BEGIN:VTIMEZONE
TZID:Europe/Helsinki
BEGIN:DAYLIGHT
TZOFFSETFROM:+0200
TZOFFSETTO:+0300
TZNAME:EEST
DTSTART:20180325T010000
END:DAYLIGHT
BEGIN:STANDARD
TZOFFSETFROM:+0300
TZOFFSETTO:+0200
TZNAME:EET
DTSTART:20181028T010000
END:STANDARD
BEGIN:DAYLIGHT
TZOFFSETFROM:+0200
TZOFFSETTO:+0300
TZNAME:EEST
DTSTART:20190331T010000
END:DAYLIGHT
BEGIN:STANDARD
TZOFFSETFROM:+0300
TZOFFSETTO:+0200
TZNAME:EET
DTSTART:20191027T010000
END:STANDARD
BEGIN:DAYLIGHT
TZOFFSETFROM:+0200
TZOFFSETTO:+0300
TZNAME:EEST
DTSTART:20200329T010000
END:DAYLIGHT
BEGIN:STANDARD
TZOFFSETFROM:+0300
TZOFFSETTO:+0200
TZNAME:EET
DTSTART:20201025T010000
END:STANDARD
END:VTIMEZONE
BEGIN:VEVENT
DTSTART;TZID=Europe/Helsinki:20191103T180000
DTEND;TZID=Europe/Helsinki:20191103T193000
DTSTAMP:20260423T014758
CREATED:20191029T151719Z
LAST-MODIFIED:20191029T151719Z
UID:2460-1572804000-1572809400@svamuli.fi
SUMMARY:Missa pro defunctis (Tampere)
DESCRIPTION:Vanhan musiikin lauluyhtye Versio konsertoi Viinikan kirkossa. Konsertin pääteoksena on portugalilaisen Manuel Cardoson vaikuttavatunnelmainen Requiem 1600-luvun alusta. Kuusiäänisen sielunmessun lisäksi konsertissa kuullaan niin ikään portugalilaisen Duarte Lõbon sekä espanjalaisen Tomás Luis de Victorian motetteja eli pienempiä hengellisiä lauluja samalta aikakaudelta. \nLauluyhtye Versio on vuonna 2003 perustettu vanhaan musiikkiin keskittyvä kokoonpano\, jonka eri puolilta Suomea tulevat laulajat ovat musiikin ammattilaisia ja pitkälle edenneitä harrastajia. Yhtyeessä laulavat Hannele Huhtinen\, Heikki Isotalo\, Antti Kataja\, Minna Muukkonen\, Anne Palo\, Hilkka Rauhala\, Tuija Sulisalo\, Katri Tasala\, Timo Turtiainen\, Mikko Vehkaperä ja Sakari Ylivuori. \nMissa pro defunctis. Lauluyhtye Versio. Cardoso – Lõbo – Victoria.\nOhjelma 15/10€ ovelta. Järj. Tampereen eteläinen seurakunta. Lisätietoja: www.lauluyhtyeversio.fi.
URL:https://svamuli.fi/t/missa-pro-defunctis-tampere/
LOCATION:Viinikan kirkko\, Kaartotie 1\, 33100 Tampere\, Tampere\, Suomi
END:VEVENT
END:VCALENDAR