BEGIN:VCALENDAR
VERSION:2.0
PRODID:-//Suomen vanhan musiikin liitto ry - ECPv6.15.17.1//NONSGML v1.0//EN
CALSCALE:GREGORIAN
METHOD:PUBLISH
X-ORIGINAL-URL:https://svamuli.fi
X-WR-CALDESC:Tapahtumat Suomen vanhan musiikin liitto ry
REFRESH-INTERVAL;VALUE=DURATION:PT1H
X-Robots-Tag:noindex
X-PUBLISHED-TTL:PT1H
BEGIN:VTIMEZONE
TZID:Europe/Helsinki
BEGIN:DAYLIGHT
TZOFFSETFROM:+0200
TZOFFSETTO:+0300
TZNAME:EEST
DTSTART:20180325T010000
END:DAYLIGHT
BEGIN:STANDARD
TZOFFSETFROM:+0300
TZOFFSETTO:+0200
TZNAME:EET
DTSTART:20181028T010000
END:STANDARD
BEGIN:DAYLIGHT
TZOFFSETFROM:+0200
TZOFFSETTO:+0300
TZNAME:EEST
DTSTART:20190331T010000
END:DAYLIGHT
BEGIN:STANDARD
TZOFFSETFROM:+0300
TZOFFSETTO:+0200
TZNAME:EET
DTSTART:20191027T010000
END:STANDARD
BEGIN:DAYLIGHT
TZOFFSETFROM:+0200
TZOFFSETTO:+0300
TZNAME:EEST
DTSTART:20200329T010000
END:DAYLIGHT
BEGIN:STANDARD
TZOFFSETFROM:+0300
TZOFFSETTO:+0200
TZNAME:EET
DTSTART:20201025T010000
END:STANDARD
END:VTIMEZONE
BEGIN:VEVENT
DTSTART;TZID=Europe/Helsinki:20191026T103000
DTEND;TZID=Europe/Helsinki:20191026T113000
DTSTAMP:20260423T015424
CREATED:20190917T133836Z
LAST-MODIFIED:20190917T133836Z
UID:2421-1572085800-1572089400@svamuli.fi
SUMMARY:Café Barock: Meditatiivista barokkimusiikkia
DESCRIPTION:Keväällä 2019 alkanut konserttisarja saa jatkuu syksyllä alkaen syyskuusta. \nKeravan kirjasto- ja kulttuuripalvelut sekä Café Barock tarjoavat kevyttä\, helposti lähestyttävää ja korkeatasoista barokkimusisointia Keravan kirjaston Pentinkulma-salissa lauantai-aamuisin 28.9.\, 26.10. ja 7.12. klo 10.30. Tule hiljentymään ja rauhoittamaan mielesi viikonlopun alkajaisiksi barokin ajan helmien tahtiin. \nKaikkiin tilaisuuksiin on vapaa pääsy. \n28.9. Salli Vilkanen\, traverso ja Anna Pulakka\, barokkisello (J.S.Bach – C.P.E.Bach) \n26.10. Kaisa Ruotsalainen\, barokkiviulu ja saha (Biber – Bach – Telemann – suomalaisia kansansävelmiä) \n7.12. Kauneimmat barokkijoululaulut\, Ensemble Nylandia: Sini Vahervuo\, huilut\, Jarmo Julkunen\, ukulele ja renessanssikitara\, Matias Häkkinen\, cembalo \nJärjestää yhteistyössä Keravan kaupunginkirjasto ja Kulttuuriyhdistys Café Barock ry
URL:https://svamuli.fi/t/cafe-barock-meditatiivista-barokkimusiikkia-2/
LOCATION:Keravan kaupunginkirjasto\, Paasikivenkatu 12\, 04200 Kerava\, Kerava\, Suomi
END:VEVENT
BEGIN:VEVENT
DTSTART;TZID=Europe/Helsinki:20191026T180000
DTEND;TZID=Europe/Helsinki:20191026T193000
DTSTAMP:20260423T015424
CREATED:20190916T074316Z
LAST-MODIFIED:20190916T074316Z
UID:2394-1572112800-1572118200@svamuli.fi
SUMMARY:Kadulta kirkkoon - reformaation lauluja
DESCRIPTION:Vokaaliyhtye Lumous ja Fioretto Ensemble\, johtaa Debra Gomez-Tapio \nKonsertin ohjelma koostuu renessanssiajan suosikkilauluista ja niiden pohjalta syntyneestä vokaali- ja instrumentaalimusiikista. Näitä melodioita myös luterilainen reformaatio otti käyttöönsä kansankielisinä virsinä ja ne löytyvät edelleen omasta virsikirjastammekin.
URL:https://svamuli.fi/t/kadulta-kirkkoon-reformaation-lauluja/
LOCATION:Pispalan kirkko\, Pispalan valtatie 16\, 33250 Tampere\, Tampere\, Suomi
END:VEVENT
BEGIN:VEVENT
DTSTART;TZID=Europe/Helsinki:20191026T193000
DTEND;TZID=Europe/Helsinki:20191026T210000
DTSTAMP:20260423T015424
CREATED:20190910T105104Z
LAST-MODIFIED:20190910T105104Z
UID:2381-1572118200-1572123600@svamuli.fi
SUMMARY:MARATON II/II Elämää & barokkimusiikkia
DESCRIPTION:ENCANTO FESTIVAL HELSINKI \nVesa Purokuru\, sirkustaiteilu\nAnthony Marini & Tabea Höfer\, viulu\nGeorg Kallweit & Laura Kajander\, alttoviulu\nLea Pekkala\, sello\nAnna Rinta-Rahko\, violone\nEero Palviainen\, luuttu \nAnthony Marinin ja Vesa Purokurun suunnittelemassa ohjelmakokonaisuudessa tutkitaan läsnäoloa\, ihmisten välistä arvostusta ja vuorovaikutusta sekä herätetään erilaisia tunteita. Hauskan ja improvisatorishenkisen ilonpidon rinnalla kulkee kaunis haikeus. Rakentuu kaarros\, jossa myös musiikkiosuuksien välisellä ajalla on merkitys. \nVapaasti valittava lippuhinta 10/15/20 € \nMARATON-päivään kannattaa osallistua jo iltapäivästä klo 15 alkaen Villa Kivessä Peilikuvien ja Kohtausten äärellä.
URL:https://svamuli.fi/t/maraton-ii-ii-elamaa-barokkimusiikkia/
LOCATION:Balderin sali\, Aleksanterinkatu 12\, Helsinki\, Helsinki\, Suomi
END:VEVENT
END:VCALENDAR