BEGIN:VCALENDAR
VERSION:2.0
PRODID:-//Suomen vanhan musiikin liitto ry - ECPv6.15.17.1//NONSGML v1.0//EN
CALSCALE:GREGORIAN
METHOD:PUBLISH
X-ORIGINAL-URL:https://svamuli.fi
X-WR-CALDESC:Tapahtumat Suomen vanhan musiikin liitto ry
REFRESH-INTERVAL;VALUE=DURATION:PT1H
X-Robots-Tag:noindex
X-PUBLISHED-TTL:PT1H
BEGIN:VTIMEZONE
TZID:Europe/Helsinki
BEGIN:DAYLIGHT
TZOFFSETFROM:+0200
TZOFFSETTO:+0300
TZNAME:EEST
DTSTART:20180325T010000
END:DAYLIGHT
BEGIN:STANDARD
TZOFFSETFROM:+0300
TZOFFSETTO:+0200
TZNAME:EET
DTSTART:20181028T010000
END:STANDARD
BEGIN:DAYLIGHT
TZOFFSETFROM:+0200
TZOFFSETTO:+0300
TZNAME:EEST
DTSTART:20190331T010000
END:DAYLIGHT
BEGIN:STANDARD
TZOFFSETFROM:+0300
TZOFFSETTO:+0200
TZNAME:EET
DTSTART:20191027T010000
END:STANDARD
BEGIN:DAYLIGHT
TZOFFSETFROM:+0200
TZOFFSETTO:+0300
TZNAME:EEST
DTSTART:20200329T010000
END:DAYLIGHT
BEGIN:STANDARD
TZOFFSETFROM:+0300
TZOFFSETTO:+0200
TZNAME:EET
DTSTART:20201025T010000
END:STANDARD
END:VTIMEZONE
BEGIN:VEVENT
DTSTART;TZID=Europe/Helsinki:20191025T190000
DTEND;TZID=Europe/Helsinki:20191025T210000
DTSTAMP:20260423T032002
CREATED:20190910T104832Z
LAST-MODIFIED:20190910T104832Z
UID:2379-1572030000-1572037200@svamuli.fi
SUMMARY:JUBILEUM Risata e pianto - Juhlakonsertti: Encanto 5 vuotta
DESCRIPTION:ENCANTO FESTIVAL HELSINKI\n19.10. & 25.-27.10.2019\nencanto.fi/festival \nJUBILEUM\nBertali-Uccellini-Valentini-Legrenzi-Ferrari-Biber \nGeorg Kallweit & Anthony Marini\, viulu\nLaura Kajander\, alttoviulu\nJussi Seppänen & Lea Pekkala\, sello\nAnna Rinta-Rahko\, basso\nMarianna Henriksson\, cembalo & urut \nNauru ja itku ovat usein hyvin lähellä toisiaan. Jos jossain\, niin juuri italialaisessa barokkimusiikissa kuuluvat nauru ja itku tiiviisti\, emotionaalisesti ja dramaattisesti yhteen. Hienostuneesti koottu suurten ja pienten kokoonpanojen ohjelma johdattaa inhimillisten tunteiden ja ajatusten ylä- ja alamäkiin. \nVapaasti valittava lippuhinta 10/15/20 € \nJuhlakonsertin myötä haluamme kiittää kaikkia aiempien vuosien osallistujia ja kokeilunhaluisia taiteilijoita. Muistelemme ilolla kokemuksiamme musiikillisista ja vaikkapa teatterielementtejä sisältäneistä aiempien vuosien tapahtumista.
URL:https://svamuli.fi/t/jubileum-risata-e-pianto-juhlakonsertti-encanto-5-vuotta/
LOCATION:Saksalainen kirkko\, Unioninkatu 1\, 00130 Helsinki\, Helsinki\, Suomi
END:VEVENT
END:VCALENDAR