BEGIN:VCALENDAR
VERSION:2.0
PRODID:-//Suomen vanhan musiikin liitto ry - ECPv6.15.17.1//NONSGML v1.0//EN
CALSCALE:GREGORIAN
METHOD:PUBLISH
X-ORIGINAL-URL:https://svamuli.fi
X-WR-CALDESC:Tapahtumat Suomen vanhan musiikin liitto ry
REFRESH-INTERVAL;VALUE=DURATION:PT1H
X-Robots-Tag:noindex
X-PUBLISHED-TTL:PT1H
BEGIN:VTIMEZONE
TZID:Europe/Helsinki
BEGIN:DAYLIGHT
TZOFFSETFROM:+0200
TZOFFSETTO:+0300
TZNAME:EEST
DTSTART:20180325T010000
END:DAYLIGHT
BEGIN:STANDARD
TZOFFSETFROM:+0300
TZOFFSETTO:+0200
TZNAME:EET
DTSTART:20181028T010000
END:STANDARD
BEGIN:DAYLIGHT
TZOFFSETFROM:+0200
TZOFFSETTO:+0300
TZNAME:EEST
DTSTART:20190331T010000
END:DAYLIGHT
BEGIN:STANDARD
TZOFFSETFROM:+0300
TZOFFSETTO:+0200
TZNAME:EET
DTSTART:20191027T010000
END:STANDARD
BEGIN:DAYLIGHT
TZOFFSETFROM:+0200
TZOFFSETTO:+0300
TZNAME:EEST
DTSTART:20200329T010000
END:DAYLIGHT
BEGIN:STANDARD
TZOFFSETFROM:+0300
TZOFFSETTO:+0200
TZNAME:EET
DTSTART:20201025T010000
END:STANDARD
END:VTIMEZONE
BEGIN:VEVENT
DTSTART;TZID=Europe/Helsinki:20190930T180000
DTEND;TZID=Europe/Helsinki:20190930T200000
DTSTAMP:20260423T015824
CREATED:20190827T142225Z
LAST-MODIFIED:20190827T142225Z
UID:2332-1569866400-1569873600@svamuli.fi
SUMMARY:Ensemble Nylandian 10-vuotisjuhlakonsertti
DESCRIPTION:Juhlavuoden kunniaksi Ensemble Nylandia palaa juurilleen. Ensimmäisessä konsertissaan se esitti roomalaista concerto grosso -ohjelmistoa otsikolla Jo muinaiset roomalaiset. 1600- ja 1700-lukujen taitteen orkesteriohjelmisto muodosti muutenkin Ensemble Nylandian alkuvaiheen ohjelmiston selkärangan. Tässä juhlakonsertissaan se yhdistää juurensa käyttämiensä soitinten rajojen kokeilemiseen. \n1900-luvulla sävellettiin runsaasti musiikkia ikään kuin vanhaan tyyliin. Myös vanhoja soittimia alettiin käyttää uudestaan\, parhaana esimerkkinä ns. revival-cembalot 1920-luvulta alkaen. Tässä konsertissa kuullaan Wittmayer-cembalon ja suolikieliorkesterin versioita klassikkoteoksista sekä 1680-luvun superklassikko\, Matias Häkkisen uudelleen kirjoittaman\, editoiman ja sovittaman Armonico Tributo -kokoelman viides osa hypnoottisine passacaglioineen (Muffat). \nENSEMBLE NYLANDIA on cembalisti ja kosketinsoittaja Matias Häkkisen vuonna 2009 Helsingissä perustama barokkimuusikoiden yhteenliittymä. Ensemble Nylandia uudistaa ja hämmentää barokkimusiikkikenttää innovatiivisilla riskinotoillaan\, antaa omille jäsenilleen tilaisuuden esitellä ammattitaitoaan sekä tekee produktioita myös muiden taiteilijoiden kanssa. Orkesterin sydän on parhaimmillaan poikkeuksellisen suuressa yli kymmenpäisessä basso continuo -ryhmässä. Sen monipuolinen ja idearikas käyttö on saanut kehuja niin muhevaa bassoa arvostavilta rockpoliiseilta kuin teorbin suolikielistä tai cembalon sulkakynsistä viehättyneiltä barokkikonossööreiltä. Bassoryhmän ympärille on kasvanut rikas soittajisto: oma renessanssiyhtye\, virtuoottiset instrumentalistit\, uutta ja vanhaa musiikkia yhdistelevä kollektiivi sekä pitkäaikainen ja jatkuva yhteistyö upeiden laulusolistien kanssa. Ensemble Nylandian keskeiset painopisteet ja suosituimmat teemat ovat olleet erilaiset konsertot sekä draamalliset projektit\, mukaan lukien vähemmän tunnettu ooppera- ja oratorio-ohjelmisto. \nMonteverdi – Buxtehude – Pärt – Purcell – Kokkonen (sol. Matias Häkkinen\, cembalo) – Muffat \nEnsemble Nylandia\, johtaa Matias Häkkinen\nTommi Niskala ja lauluyhtye \nVapaa pääsy\, käsiohjelma 10€ (myös korttimaksu käy) \nKonsertin yhteistyökumppanit ja mahdollistajat: Kallion seurakunta\, Kirkko Helsingissä\, Suomen Kulttuurirahasto\, Taiteen edistämiskeskus (Taike) ja Helsingin kaupunki \nKonsertti on osa Ensemble Nylandian 10-vuotisjuhlavuoden ohjelmaa.\nwww.ensemblenylandia.info\nFB-tapahtuma: https://www.facebook.com/events/363044124383665/ \n***\nSYNTTÄRIETKOT\nEnnen konserttia pidetään ETKOT Café Sonckissa (Kallion kirkon kivijalassa\, Itäinen Papinkatu 2) klo 15-15.45! Esiintymässä gambayhtye Eloisa Consort ja nokkahuiluyhtye Q Consort. Yhteistyössä Café Barock Helsinki.\nFB-tapahtuma: https://www.facebook.com/events/1131165333739614/ \nJATKOT\nTenho Restobarissa (Helsinginkatu 15\, 2.krs) klo 20 alkaen!\nEsiintymässä Tavallinen Peili & dj Terry Lenin. Yhteistyössä Café Barock Helsinki.
URL:https://svamuli.fi/t/ensemble-nylandian-10-vuotisjuhlakonsertti/
LOCATION:Kallion kirkko\, Itäinen Papinkatu 2\, Helsinki\, Helsinki\, Suomi
END:VEVENT
END:VCALENDAR