BEGIN:VCALENDAR
VERSION:2.0
PRODID:-//Suomen vanhan musiikin liitto ry - ECPv6.15.17.1//NONSGML v1.0//EN
CALSCALE:GREGORIAN
METHOD:PUBLISH
X-WR-CALNAME:Suomen vanhan musiikin liitto ry
X-ORIGINAL-URL:https://svamuli.fi
X-WR-CALDESC:Tapahtumat Suomen vanhan musiikin liitto ry
REFRESH-INTERVAL;VALUE=DURATION:PT1H
X-Robots-Tag:noindex
X-PUBLISHED-TTL:PT1H
BEGIN:VTIMEZONE
TZID:Europe/Helsinki
BEGIN:DAYLIGHT
TZOFFSETFROM:+0200
TZOFFSETTO:+0300
TZNAME:EEST
DTSTART:20180325T010000
END:DAYLIGHT
BEGIN:STANDARD
TZOFFSETFROM:+0300
TZOFFSETTO:+0200
TZNAME:EET
DTSTART:20181028T010000
END:STANDARD
BEGIN:DAYLIGHT
TZOFFSETFROM:+0200
TZOFFSETTO:+0300
TZNAME:EEST
DTSTART:20190331T010000
END:DAYLIGHT
BEGIN:STANDARD
TZOFFSETFROM:+0300
TZOFFSETTO:+0200
TZNAME:EET
DTSTART:20191027T010000
END:STANDARD
BEGIN:DAYLIGHT
TZOFFSETFROM:+0200
TZOFFSETTO:+0300
TZNAME:EEST
DTSTART:20200329T010000
END:DAYLIGHT
BEGIN:STANDARD
TZOFFSETFROM:+0300
TZOFFSETTO:+0200
TZNAME:EET
DTSTART:20201025T010000
END:STANDARD
END:VTIMEZONE
BEGIN:VEVENT
DTSTART;TZID=Europe/Helsinki:20190928T103000
DTEND;TZID=Europe/Helsinki:20190928T113000
DTSTAMP:20260423T043717
CREATED:20190917T133559Z
LAST-MODIFIED:20190917T133559Z
UID:2418-1569666600-1569670200@svamuli.fi
SUMMARY:Café Barock: Meditatiivista barokkimusiikkia
DESCRIPTION:Keväällä 2019 alkanut konserttisarja saa jatkuu syksyllä alkaen syyskuusta. \nKeravan kirjasto- ja kulttuuripalvelut sekä Café Barock tarjoavat kevyttä\, helposti lähestyttävää ja korkeatasoista barokkimusisointia Keravan kirjaston Pentinkulma-salissa lauantai-aamuisin 28.9.\, 26.10. ja 7.12. klo 10.30. Tule hiljentymään ja rauhoittamaan mielesi viikonlopun alkajaisiksi barokin ajan helmien tahtiin. \nKaikkiin tilaisuuksiin on vapaa pääsy. \n28.9. Salli Vilkanen\, traverso ja Anna Pulakka\, barokkisello (J.S.Bach – C.P.E.Bach) \n26.10. Kaisa Ruotsalainen\, barokkiviulu ja saha (Biber – Bach – Telemann – suomalaisia kansansävelmiä) \n7.12. Kauneimmat barokkijoululaulut\, Ensemble Nylandia: Sini Vahervuo\, huilut\, Jarmo Julkunen\, ukulele ja renessanssikitara\, Matias Häkkinen\, cembalo \nJärjestää yhteistyössä Keravan kaupunginkirjasto ja Kulttuuriyhdistys Café Barock ry
URL:https://svamuli.fi/t/cafe-barock-meditatiivista-barokkimusiikkia/
LOCATION:Keravan kaupunginkirjasto\, Paasikivenkatu 12\, 04200 Kerava\, Kerava\, Suomi
END:VEVENT
BEGIN:VEVENT
DTSTART;TZID=Europe/Helsinki:20190928T140000
DTEND;TZID=Europe/Helsinki:20190928T150000
DTSTAMP:20260423T043717
CREATED:20190909T162837Z
LAST-MODIFIED:20190909T162837Z
UID:2371-1569679200-1569682800@svamuli.fi
SUMMARY:Espoon barokkipäivät: Kengät sanoo KOO\, KOO\, KOO!
DESCRIPTION:Espoon Kauklahdessa 27.9 – 29.9 starttaava Espoon barokkipäivät vie kuulijat musiikkimatkalle ympäri Kauklahden alueen tiivistä ja viehättävää kylämiljöötä. Lauantaina 28.9 nuorisoseuraintalo Valhallassa järjestetään koko perheen konsertti kansanmusiikin\, barokin ja tanssin tahdittamana.\n\nTapahtumaa tukemassa ovat Espoon kaupunki\, Svenska Kulturfonden ja Musiikin edistämissäätiö. \nVapaa pääsy\, paikkoja rajoitetusti.\n\nBarokkipäivien konsertteihin lippuja voi ostaa tuntia ennen ovelta tai varata etukäteen sähköpostilla osoitteesta info@espoonbarokki.com \nwww.espoonbarokki.com
URL:https://svamuli.fi/t/espoon-barokkipaivat-kengat-sanoo-koo-koo-koo/
LOCATION:Valhalla Evuf\, Valhallantie 14\, 02780 Espoo\, Espoo\, Suomi
END:VEVENT
BEGIN:VEVENT
DTSTART;TZID=Europe/Helsinki:20190928T150000
DTEND;TZID=Europe/Helsinki:20190928T170000
DTSTAMP:20260423T043717
CREATED:20190827T143314Z
LAST-MODIFIED:20190827T143314Z
UID:2336-1569682800-1569690000@svamuli.fi
SUMMARY:Esclamazione! Turun vanha musiikki ry:n viisivuotisjuhlakonsertti
DESCRIPTION:Turun vanha musiikki ry juhlistaa viisivuotista taivaltaan juhlakonsertilla Turun linnan renessanssiaikaisessa kuninkaansalissa. Konsertissa esiintyy paikallisia vanhan musiikin tekijöitä\, säveltäjänimiä mm. Purcell\, Telemann. Konsertti on osa Turun vanha musiikki ry:n 5-vuotisjuhlafestivaalin ohjelmaa. \nLiput 25 / 15 €
URL:https://svamuli.fi/t/esclamazione-turun-vanha-musiikki-ryn-viisivuotisjuhlakonsertti/
LOCATION:Turun linnan Kuninkaansali\, Linnankatu 80\, 20100 Turku\, Turku\, Suomi
END:VEVENT
BEGIN:VEVENT
DTSTART;TZID=Europe/Helsinki:20190928T190000
DTEND;TZID=Europe/Helsinki:20190928T210000
DTSTAMP:20260423T043717
CREATED:20190909T162927Z
LAST-MODIFIED:20190909T162927Z
UID:2374-1569697200-1569704400@svamuli.fi
SUMMARY:Espoon barokkipäivät: Kaukomaiden kaikuja
DESCRIPTION:Espoon Kauklahdessa 27.9 – 29.9 starttaava Espoon barokkipäivät vie kuulijat musiikkimatkalle ympäri Kauklahden alueen tiivistä ja viehättävää kylämiljöötä. Lauantaina 28.9 Espoon barokki ja kansanmuusikko Alina Järvelä vauhdittavat tunnelmaa nuorisoseuraintalo Valhallassa.\n\nTapahtumaa tukemassa ovat Espoon kaupunki\, Svenska Kulturfonden ja Musiikin edistämissäätiö. \nLiput 20€ \nBarokkipäivien konsertteihin lippuja voi ostaa tuntia ennen ovelta tai varata etukäteen sähköpostilla osoitteesta info@espoonbarokki.com \nwww.espoonbarokki.com
URL:https://svamuli.fi/t/espoon-barokkipaivat-kaukomaiden-kaikuja/
LOCATION:Valhalla Evuf\, Valhallantie 14\, 02780 Espoo\, Espoo\, Suomi
END:VEVENT
END:VCALENDAR