BEGIN:VCALENDAR
VERSION:2.0
PRODID:-//Suomen vanhan musiikin liitto ry - ECPv6.15.17.1//NONSGML v1.0//EN
CALSCALE:GREGORIAN
METHOD:PUBLISH
X-WR-CALNAME:Suomen vanhan musiikin liitto ry
X-ORIGINAL-URL:https://svamuli.fi
X-WR-CALDESC:Tapahtumat Suomen vanhan musiikin liitto ry
REFRESH-INTERVAL;VALUE=DURATION:PT1H
X-Robots-Tag:noindex
X-PUBLISHED-TTL:PT1H
BEGIN:VTIMEZONE
TZID:Europe/Helsinki
BEGIN:DAYLIGHT
TZOFFSETFROM:+0200
TZOFFSETTO:+0300
TZNAME:EEST
DTSTART:20180325T010000
END:DAYLIGHT
BEGIN:STANDARD
TZOFFSETFROM:+0300
TZOFFSETTO:+0200
TZNAME:EET
DTSTART:20181028T010000
END:STANDARD
BEGIN:DAYLIGHT
TZOFFSETFROM:+0200
TZOFFSETTO:+0300
TZNAME:EEST
DTSTART:20190331T010000
END:DAYLIGHT
BEGIN:STANDARD
TZOFFSETFROM:+0300
TZOFFSETTO:+0200
TZNAME:EET
DTSTART:20191027T010000
END:STANDARD
BEGIN:DAYLIGHT
TZOFFSETFROM:+0200
TZOFFSETTO:+0300
TZNAME:EEST
DTSTART:20200329T010000
END:DAYLIGHT
BEGIN:STANDARD
TZOFFSETFROM:+0300
TZOFFSETTO:+0200
TZNAME:EET
DTSTART:20201025T010000
END:STANDARD
END:VTIMEZONE
BEGIN:VEVENT
DTSTART;TZID=Europe/Helsinki:20190917T190000
DTEND;TZID=Europe/Helsinki:20190917T210000
DTSTAMP:20260423T031427
CREATED:20190616T102412Z
LAST-MODIFIED:20190616T102412Z
UID:2259-1568746800-1568754000@svamuli.fi
SUMMARY:Sattuma-klubi: Pyh Bach - Sopimattomia sovituksia
DESCRIPTION:Ensemble Nylandia:\nAnna Pulakka\, illan emäntä\nMatias Häkkinen\, koskettimet ja kilkuttimet\nAnna-Sofia Anttonen\, saksofoni ja soittopelit\nIlkka Heinonen\, jouhikko ja bassottimet \nBachia täysin ansaitusti tituleerataan maailman parhaaksi säveltäjäksi. Käsittämättömän laajasta tuotannosta löytyy lukuisia mestariteoksia lähes kaikille mahdollisille kokoonpanoille\, kaikkiin mahdollisiin käyttötarkoituksiin. Bachin (ja erinomaisuutensa) tuntee lähes jokainen tavallinen tallaajakin ja hänen musiikkiaan kohdellaan silkkihansikkain\, jottei Leipzigin Tuomaskirkon alla alkaisi kunnon kyljenkääntelyt. \nEiköhän ole jo aikakin ruveta vähän leikkimään? \n#rohkeatekijä\n#koneensäätiö \nMonigenreinen Sattuma-klubi aloittaa toimintansa Bottalla elokuussa 2019. Sattuma tapahtuu Bottan yläkerrassa\, Tina-klubin tiloissa tiistai-iltaisin alkaen elokuusta. \nSattuma-klubin järjestäjinä toimivat: vanhan musiikin yhdistys Café Barock\, jazz-kollektiivi Vallilan Jazz\, klassinen kamarimusiikkiyhdistys Kamari Ry sekä elektroakustinen Tölöläb-yhtye. \nCafé Barock isännöi tilaisuutta ensimmäisen kerran ti 17.9. (Pyh Bach) ja heti seuraavan kerran ti 24.9. (Lindeberg&Heinonen). \nSattuma-klubia järjestetään Koneen säätiön tuella.
URL:https://svamuli.fi/t/sattuma-klubi-pyh-bach-sopimattomia-sovituksia/
LOCATION:Ostrobotnian Tina-klubi\, Museokatu 10\, 00100 Helsinki\, Helsinki\, Finland
END:VEVENT
BEGIN:VEVENT
DTSTART;TZID=Europe/Helsinki:20190917T201500
DTEND;TZID=Europe/Helsinki:20190917T220000
DTSTAMP:20260423T031427
CREATED:20190906T063454Z
LAST-MODIFIED:20190906T063454Z
UID:2356-1568751300-1568757600@svamuli.fi
SUMMARY:Cafe Barock Tampere: Renessanssin ikivihreitä melodioita ja bassoja
DESCRIPTION:Monet tutut melodiat ja bassokulut Israelin kansallislaulusta lampaanpolskaan ovat vuosisatoja vanhoja ja maailmaa kiertäneitä. Syyskuun illassa improvisoidaan ja kuullaan tarinoita ikivihreiden sävelmien taustalla. Esiintymässä Fioretto Ensemble\, johtaa Debra Gomez-Tapio
URL:https://svamuli.fi/t/cafe-barock-tampere-renessanssin-ikivihreita-melodioita-ja-bassoja/
LOCATION:Kulttuuriravintola Kivi\, Keskustori 2\, 33100 Tampere\, Tampere\, Suomi
END:VEVENT
END:VCALENDAR