BEGIN:VCALENDAR
VERSION:2.0
PRODID:-//Suomen vanhan musiikin liitto ry - ECPv6.15.17.1//NONSGML v1.0//EN
CALSCALE:GREGORIAN
METHOD:PUBLISH
X-WR-CALNAME:Suomen vanhan musiikin liitto ry
X-ORIGINAL-URL:https://svamuli.fi
X-WR-CALDESC:Tapahtumat Suomen vanhan musiikin liitto ry
REFRESH-INTERVAL;VALUE=DURATION:PT1H
X-Robots-Tag:noindex
X-PUBLISHED-TTL:PT1H
BEGIN:VTIMEZONE
TZID:Europe/Helsinki
BEGIN:DAYLIGHT
TZOFFSETFROM:+0200
TZOFFSETTO:+0300
TZNAME:EEST
DTSTART:20180325T010000
END:DAYLIGHT
BEGIN:STANDARD
TZOFFSETFROM:+0300
TZOFFSETTO:+0200
TZNAME:EET
DTSTART:20181028T010000
END:STANDARD
BEGIN:DAYLIGHT
TZOFFSETFROM:+0200
TZOFFSETTO:+0300
TZNAME:EEST
DTSTART:20190331T010000
END:DAYLIGHT
BEGIN:STANDARD
TZOFFSETFROM:+0300
TZOFFSETTO:+0200
TZNAME:EET
DTSTART:20191027T010000
END:STANDARD
BEGIN:DAYLIGHT
TZOFFSETFROM:+0200
TZOFFSETTO:+0300
TZNAME:EEST
DTSTART:20200329T010000
END:DAYLIGHT
BEGIN:STANDARD
TZOFFSETFROM:+0300
TZOFFSETTO:+0200
TZNAME:EET
DTSTART:20201025T010000
END:STANDARD
END:VTIMEZONE
BEGIN:VEVENT
DTSTART;TZID=Europe/Helsinki:20190831T150000
DTEND;TZID=Europe/Helsinki:20190831T154000
DTSTAMP:20260423T031431
CREATED:20190516T073019Z
LAST-MODIFIED:20190516T073019Z
UID:2195-1567263600-1567266000@svamuli.fi
SUMMARY:Ankkabarock - Prinsessa ja sikopaimen
DESCRIPTION:Prinsessa ja sikopaimen on H. C. Andersenin Sikopaimen-tarinaan pohjautuva barokin ajan musiikin värittämä musiikkisatu. Konsertissa kuullaan musiikkia Charpentierilta\, Vivaldilta\, Landilta\, Lullylta\, Bachilta ja Uccelinilta. \nKonsertin mielenkiintoinen ja opettavainen tarina kertoo nirsosta ja koppavasta prinsessa Annelista sekä häneen rakastuneesta prinssi Urmaasta\, jota pinnallinen Anneli ei huoli sulhasekseen tämän tuotua hänelle vääränlaisia kosintalahjoja. Urmas naamioituu köyhäksi sikopaimeneksi ja saa lopulta Annelin ymmärtämään\, että elämässä oikeasti tärkeät asiat ovat aitoja eikä niitä voi mitata rahassa. Musiikki ja tarina kietoutuvat konsertissa kiehtovaksi kokonaisuudeksi\, jossa kertomuksen tärkeillä asioilla on kaikilla oma musiikillinen teemansa. Yleisökin pääsee osaksi konsertin kulkua muun muassa hoviväen roolissa taputtaen sekä tanssien. Prinsessa ja sikopaimen -konsertin esiintyjinä toimivat Anni Elonen\, Louna Hosia ja Julia Tamminen. Konsertti on suunnattu päiväkoti-ikäisille sekä alakoulun 1.-4. luokkalaisille. Konsertin kesto on n. 35 min. \nEsiintyjät:\nAnni Elonen\, kertoja\, barokkiviulu ja kellopeli\nLouna Hosia\, barokkisello ja jouhikko\nJulia Tamminen\, urut \nKonsertti on osa Korson seurakunnan Ankkabarock – festivaalia.\nwww.ankkabarock.fi
URL:https://svamuli.fi/t/ankkabarock-prinsessa-ja-sikopaimen/
LOCATION:Korson kirkko\, Merikotkantie 4\, 01450 Vantaa\, Vantaa\, Suomi
END:VEVENT
END:VCALENDAR