BEGIN:VCALENDAR
VERSION:2.0
PRODID:-//Suomen vanhan musiikin liitto ry - ECPv6.15.17.1//NONSGML v1.0//EN
CALSCALE:GREGORIAN
METHOD:PUBLISH
X-ORIGINAL-URL:https://svamuli.fi
X-WR-CALDESC:Tapahtumat Suomen vanhan musiikin liitto ry
REFRESH-INTERVAL;VALUE=DURATION:PT1H
X-Robots-Tag:noindex
X-PUBLISHED-TTL:PT1H
BEGIN:VTIMEZONE
TZID:Europe/Helsinki
BEGIN:DAYLIGHT
TZOFFSETFROM:+0200
TZOFFSETTO:+0300
TZNAME:EEST
DTSTART:20180325T010000
END:DAYLIGHT
BEGIN:STANDARD
TZOFFSETFROM:+0300
TZOFFSETTO:+0200
TZNAME:EET
DTSTART:20181028T010000
END:STANDARD
BEGIN:DAYLIGHT
TZOFFSETFROM:+0200
TZOFFSETTO:+0300
TZNAME:EEST
DTSTART:20190331T010000
END:DAYLIGHT
BEGIN:STANDARD
TZOFFSETFROM:+0300
TZOFFSETTO:+0200
TZNAME:EET
DTSTART:20191027T010000
END:STANDARD
BEGIN:DAYLIGHT
TZOFFSETFROM:+0200
TZOFFSETTO:+0300
TZNAME:EEST
DTSTART:20200329T010000
END:DAYLIGHT
BEGIN:STANDARD
TZOFFSETFROM:+0300
TZOFFSETTO:+0200
TZNAME:EET
DTSTART:20201025T010000
END:STANDARD
END:VTIMEZONE
BEGIN:VEVENT
DTSTART;TZID=Europe/Helsinki:20190428T150000
DTEND;TZID=Europe/Helsinki:20190428T170000
DTSTAMP:20260425T154008
CREATED:20190122T091506Z
LAST-MODIFIED:20190122T091506Z
UID:2067-1556463600-1556470800@svamuli.fi
SUMMARY:Kolme väriä cembalolle
DESCRIPTION:Matias Häkkinen soittaa J.S. Bachin ja Frobergerin teoksia kolmen konsertin sarjassa. \nKolmannessa konsertissa kuullaan musiikkia sävellajeissa A-E. Sointivärit muodostavat yhtenäisen kokonaisuuden. \nMatias Häkkinen\, cembalo \nOhjelma 10/5 euroa\, vapaa pääsy \nKonsertti on osa Korson seurakunnan Värit musiikissa -sarjaa.
URL:https://svamuli.fi/t/kolme-varia-cembalolle-3/
LOCATION:Korson kirkko\, Merikotkantie 4\, 01450 Vantaa\, Vantaa\, Suomi
END:VEVENT
END:VCALENDAR