BEGIN:VCALENDAR
VERSION:2.0
PRODID:-//Suomen vanhan musiikin liitto ry - ECPv6.15.17.1//NONSGML v1.0//EN
CALSCALE:GREGORIAN
METHOD:PUBLISH
X-ORIGINAL-URL:https://svamuli.fi
X-WR-CALDESC:Tapahtumat Suomen vanhan musiikin liitto ry
REFRESH-INTERVAL;VALUE=DURATION:PT1H
X-Robots-Tag:noindex
X-PUBLISHED-TTL:PT1H
BEGIN:VTIMEZONE
TZID:Europe/Helsinki
BEGIN:DAYLIGHT
TZOFFSETFROM:+0200
TZOFFSETTO:+0300
TZNAME:EEST
DTSTART:20180325T010000
END:DAYLIGHT
BEGIN:STANDARD
TZOFFSETFROM:+0300
TZOFFSETTO:+0200
TZNAME:EET
DTSTART:20181028T010000
END:STANDARD
BEGIN:DAYLIGHT
TZOFFSETFROM:+0200
TZOFFSETTO:+0300
TZNAME:EEST
DTSTART:20190331T010000
END:DAYLIGHT
BEGIN:STANDARD
TZOFFSETFROM:+0300
TZOFFSETTO:+0200
TZNAME:EET
DTSTART:20191027T010000
END:STANDARD
BEGIN:DAYLIGHT
TZOFFSETFROM:+0200
TZOFFSETTO:+0300
TZNAME:EEST
DTSTART:20200329T010000
END:DAYLIGHT
BEGIN:STANDARD
TZOFFSETFROM:+0300
TZOFFSETTO:+0200
TZNAME:EET
DTSTART:20201025T010000
END:STANDARD
END:VTIMEZONE
BEGIN:VEVENT
DTSTART;TZID=Europe/Helsinki:20190423T201500
DTEND;TZID=Europe/Helsinki:20190423T220000
DTSTAMP:20260425T154006
CREATED:20181226T105817Z
LAST-MODIFIED:20181226T105817Z
UID:2006-1556050500-1556056800@svamuli.fi
SUMMARY:Café Barock Tampere: Concerto delle Donne
DESCRIPTION:Tuuli Lindeberg\, sopraano\nAira Maria Lehtipuu\, viulu\nAnna-Maaria Oramo\, koskettimet \nCavalieri – Caccini – Palestrina – Rognoni – Luzzaschi – Monteverdi – Strozzi – Merula \nFirenzen Cameratan tilaisuuksissa 1500-luvun lopulla kohtasivat monet oman aikansa kulttuurivaikuttajat\, runoilijat\, muusikot\, humanistit\, mesenaatit ja intellektuellit. Samaan aikaan Ferrarassa toimi kolmen tunnetun naisvirtuoosin laulu- ja soitinyhtye nimeltään Concerto delle donne\, jolle muiden muassa Luzzasco Luzzaschi sävelsi bravuurinumeroita. Yleisö kutsutaan konserttiin inspiroitumaan Firenzen hengessä!
URL:https://svamuli.fi/t/cafe-barock-tampere-concerto-delle-donne/
LOCATION:Kulttuuriravintola Kivi\, Keskustori 2\, 33100 Tampere\, Tampere\, Suomi
END:VEVENT
END:VCALENDAR