BEGIN:VCALENDAR
VERSION:2.0
PRODID:-//Suomen vanhan musiikin liitto ry - ECPv6.15.17.1//NONSGML v1.0//EN
CALSCALE:GREGORIAN
METHOD:PUBLISH
X-ORIGINAL-URL:https://svamuli.fi
X-WR-CALDESC:Tapahtumat Suomen vanhan musiikin liitto ry
REFRESH-INTERVAL;VALUE=DURATION:PT1H
X-Robots-Tag:noindex
X-PUBLISHED-TTL:PT1H
BEGIN:VTIMEZONE
TZID:Europe/Helsinki
BEGIN:DAYLIGHT
TZOFFSETFROM:+0200
TZOFFSETTO:+0300
TZNAME:EEST
DTSTART:20180325T010000
END:DAYLIGHT
BEGIN:STANDARD
TZOFFSETFROM:+0300
TZOFFSETTO:+0200
TZNAME:EET
DTSTART:20181028T010000
END:STANDARD
BEGIN:DAYLIGHT
TZOFFSETFROM:+0200
TZOFFSETTO:+0300
TZNAME:EEST
DTSTART:20190331T010000
END:DAYLIGHT
BEGIN:STANDARD
TZOFFSETFROM:+0300
TZOFFSETTO:+0200
TZNAME:EET
DTSTART:20191027T010000
END:STANDARD
BEGIN:DAYLIGHT
TZOFFSETFROM:+0200
TZOFFSETTO:+0300
TZNAME:EEST
DTSTART:20200329T010000
END:DAYLIGHT
BEGIN:STANDARD
TZOFFSETFROM:+0300
TZOFFSETTO:+0200
TZNAME:EET
DTSTART:20201025T010000
END:STANDARD
END:VTIMEZONE
BEGIN:VEVENT
DTSTART;TZID=Europe/Helsinki:20190419T180000
DTEND;TZID=Europe/Helsinki:20190419T193000
DTSTAMP:20260425T154003
CREATED:20190322T061802Z
LAST-MODIFIED:20190322T061802Z
UID:2147-1555696800-1555702200@svamuli.fi
SUMMARY:Schütz: Matteus-passio
DESCRIPTION:Tule laskeutumaan pääsiäisen viettoon pitkäperjantaina Heinrich Schützin Matteus-passion johdattamana. Jeesuksen kärsimyshistoria kuvataan tässä a cappella -teoksessa koskettavasti ja dramaattisesti\, samalla kuitenkin kauniin yksinkertaisesti ja meditatiivisesti. Voit seurata tarkkaavaisesti tapahtumien kulkua käsiohjelmasta tai rauhoittua kuuntelemaan hienovaraisesti vaihtelevien resitatiivien sointia ja kuoron ilmeikästä polyfoniaa. \nHeinrich Schütz oli yksi 1600-luvun arvostetuimmista muusikoista. Passiosäveltäjänä hän on edelleenkin Bachin jälkeen esitetyin. Schütz sävelsi kolme passiotaan vanhoilla päivillään\, lähes 80-vuotiaana. Maestro tunsi musiikin uusimmatkin virtaukset hyvin mutta valitsi passioihinsa vanhahtavan\, lähes renessanssityylisen sävelkielen. \nEvankelistana on tenori Martti Anttila ja Jeesuksen osan laulaa basso Mikko Kuivalainen. Eteläsuomalaisen Osakunnan Laulajat laulaa kansanjoukon osat sekä yksittäiset muut roolit. EOL on renessanssi- ja barokkimusiikkia usein esittävä kamarikuoro\, joka on mm. levyttänyt englantilaisia madrigaaleja ja esittänyt kaksi renessanssiaiheista musiikkinäytelmää. \nMartti Anttila\, evankelista\nMikko Kuivalainen\, Jeesus\nEteläsuomalaisen Osakunnan Laulajat\njohtaa Teemu Tommola \nLiput 12€ / 8€ (kaikki alennusryhmät)\nOvelta\, verkkokaupasta (Holvi ja Tiketti) ja kuorolaisilta. Ovella käy myös korttimaksu.\nHolvi: www.holvi.com/shop/eolkuoro\nTiketti (palvelumaksu 1\,5€): www.tiketti.fi/schutz-matteus-passio-kannelmaen-kirkko-helsinki-lippuja/61079\nFacebook-tapahtuma:\nhttps://www.facebook.com/events/1330127660461045/\nLisää tietoa kuorosta:\nhttp://kamarikuoroeol.net/
URL:https://svamuli.fi/t/schutz-matteus-passio/
LOCATION:Kannelmäen kirkko\, Vanhaistentie 6\, 00420 Helsinki\, Helsinki\, Suomi
END:VEVENT
END:VCALENDAR