BEGIN:VCALENDAR
VERSION:2.0
PRODID:-//Suomen vanhan musiikin liitto ry - ECPv6.15.17.1//NONSGML v1.0//EN
CALSCALE:GREGORIAN
METHOD:PUBLISH
X-WR-CALNAME:Suomen vanhan musiikin liitto ry
X-ORIGINAL-URL:https://svamuli.fi
X-WR-CALDESC:Tapahtumat Suomen vanhan musiikin liitto ry
REFRESH-INTERVAL;VALUE=DURATION:PT1H
X-Robots-Tag:noindex
X-PUBLISHED-TTL:PT1H
BEGIN:VTIMEZONE
TZID:Europe/Helsinki
BEGIN:DAYLIGHT
TZOFFSETFROM:+0200
TZOFFSETTO:+0300
TZNAME:EEST
DTSTART:20180325T010000
END:DAYLIGHT
BEGIN:STANDARD
TZOFFSETFROM:+0300
TZOFFSETTO:+0200
TZNAME:EET
DTSTART:20181028T010000
END:STANDARD
BEGIN:DAYLIGHT
TZOFFSETFROM:+0200
TZOFFSETTO:+0300
TZNAME:EEST
DTSTART:20190331T010000
END:DAYLIGHT
BEGIN:STANDARD
TZOFFSETFROM:+0300
TZOFFSETTO:+0200
TZNAME:EET
DTSTART:20191027T010000
END:STANDARD
BEGIN:DAYLIGHT
TZOFFSETFROM:+0200
TZOFFSETTO:+0300
TZNAME:EEST
DTSTART:20200329T010000
END:DAYLIGHT
BEGIN:STANDARD
TZOFFSETFROM:+0300
TZOFFSETTO:+0200
TZNAME:EET
DTSTART:20201025T010000
END:STANDARD
END:VTIMEZONE
BEGIN:VEVENT
DTSTART;TZID=Europe/Helsinki:20190414T150000
DTEND;TZID=Europe/Helsinki:20190414T160000
DTSTAMP:20260425T170807
CREATED:20190325T112140Z
LAST-MODIFIED:20190325T112140Z
UID:2155-1555254000-1555257600@svamuli.fi
SUMMARY:Barocco Boreale: Barokin valoa (Toholampi)
DESCRIPTION:Barocco Boreale ja Mari Palo minikiertueella \nKeski-Pohjanmaan oma vanhan musiikin yhtye Barocco Boreale konsertoi pääsiäistä edeltävänä viikonloppuna kolmeen otteeseen sopraano Mari Palon kanssa. Perjantai-iltana vieraillaan Isonkyrön kirkossa\, sunnuntaina on luvassa päiväkonsertti Sykäräisen kappelissa sekä iltakonsertti Kälviän kirkossa. \nYhtye on valinnut Barokin valoa -konserttiensa ohjelmaan G.F. Händelin ja Christoph Graupnerin musiikkia. Mari Palon tulkitsemana kuullaan aarioita Händelin Messias-oratoriosta sekä hieman harvemmin kuultu Graupnerin kantaatti Mein Herz schwimmt im Blut\, joka johdattelee kuulijansa kohti hiljaista viikkoa konsertin päätteeksi. Jos esimerkiksi Messias-oratoriota on kuultu esitettävän yleensä suurehkolla kokoonpanolla\, on tällä kertaa luvassa kevyempää sointia Barocco Borealen ollessa liikkeellä kuuden soittajan voimin. Yhtyeessä musisoivat Siiri Virkkala ja Maria Pulakka\, barokkiviulu\, Merja Pyrhönen\, barokkialttoviulu\, Anna Pulakka\, barokkisello\, Julius Pyrhönen\, violone sekä Tea Polso\, cembalo ja urut. \nOhjelma 10 €
URL:https://svamuli.fi/t/barocco-boreale-barokin-valoa-toholampi/
LOCATION:Sykäräisen kappeli\, Kappelintie 15\, Toholampi\, Toholampi\, Suomi
END:VEVENT
BEGIN:VEVENT
DTSTART;TZID=Europe/Helsinki:20190414T160000
DTEND;TZID=Europe/Helsinki:20190414T180000
DTSTAMP:20260425T170807
CREATED:20190122T091348Z
LAST-MODIFIED:20190122T091348Z
UID:2065-1555257600-1555264800@svamuli.fi
SUMMARY:Surun värit: Marian murhe
DESCRIPTION:G. B. Pergolesin Stabat Mater -teos johdattaa hiljaiseen viikkoon. \nPalmusunnuntain konsertin myötä siirrytään hiljaiseen viikon tunnelmiin. Stabat mater – teoksen teksti käsittelee Jeesuksen äidin kärsimystä ristin juurella. Giovanni Battista Pergolesi on säveltänyt voimakkaan musiikin kahdelle solistille ja soitinyhtyeelle. Tässä konsertissa kuullaan teoksesta diskanttikuoroversio. \nMia Heikkinen\, sopraano\nAnnaliisa Pillak\, altto\nNaiskuoro Elegia\nAnna Karjula\, musiikinjohto\nAiri Saloniemi\, urut\nJousiyhtye \nOhjelma 10 euroa Naiskuoro Elegian hyväksi\, vapaa pääsy. \nKonsertti on osa Korson seurakunnan Värit musiikissa -sarjaa.
URL:https://svamuli.fi/t/surun-varit-marian-murhe/
LOCATION:Korson kirkko\, Merikotkantie 4\, 01450 Vantaa\, Vantaa\, Suomi
END:VEVENT
BEGIN:VEVENT
DTSTART;TZID=Europe/Helsinki:20190414T190000
DTEND;TZID=Europe/Helsinki:20190414T200000
DTSTAMP:20260425T170807
CREATED:20190325T112247Z
LAST-MODIFIED:20190325T112247Z
UID:2158-1555268400-1555272000@svamuli.fi
SUMMARY:Barocco Boreale: Barokin valoa (Kälviä)
DESCRIPTION:Barocco Boreale ja Mari Palo minikiertueella \nKeski-Pohjanmaan oma vanhan musiikin yhtye Barocco Boreale konsertoi pääsiäistä edeltävänä viikonloppuna kolmeen otteeseen sopraano Mari Palon kanssa. Perjantai-iltana vieraillaan Isonkyrön kirkossa\, sunnuntaina on luvassa päiväkonsertti Sykäräisen kappelissa sekä iltakonsertti Kälviän kirkossa. \nYhtye on valinnut Barokin valoa -konserttiensa ohjelmaan G.F. Händelin ja Christoph Graupnerin musiikkia. Mari Palon tulkitsemana kuullaan aarioita Händelin Messias-oratoriosta sekä hieman harvemmin kuultu Graupnerin kantaatti Mein Herz schwimmt im Blut\, joka johdattelee kuulijansa kohti hiljaista viikkoa konsertin päätteeksi. Jos esimerkiksi Messias-oratoriota on kuultu esitettävän yleensä suurehkolla kokoonpanolla\, on tällä kertaa luvassa kevyempää sointia Barocco Borealen ollessa liikkeellä kuuden soittajan voimin. Yhtyeessä musisoivat Siiri Virkkala ja Maria Pulakka\, barokkiviulu\, Merja Pyrhönen\, barokkialttoviulu\, Anna Pulakka\, barokkisello\, Julius Pyrhönen\, violone sekä Tea Polso\, cembalo ja urut. \nOhjelma 10 €
URL:https://svamuli.fi/t/barocco-boreale-barokin-valoa-kalvia/
LOCATION:Kälviän kirkko\, Kälviäntie 22\, Kälviä\, Kälviä\, Suomi
END:VEVENT
END:VCALENDAR