BEGIN:VCALENDAR
VERSION:2.0
PRODID:-//Suomen vanhan musiikin liitto ry - ECPv6.15.17.1//NONSGML v1.0//EN
CALSCALE:GREGORIAN
METHOD:PUBLISH
X-ORIGINAL-URL:https://svamuli.fi
X-WR-CALDESC:Tapahtumat Suomen vanhan musiikin liitto ry
REFRESH-INTERVAL;VALUE=DURATION:PT1H
X-Robots-Tag:noindex
X-PUBLISHED-TTL:PT1H
BEGIN:VTIMEZONE
TZID:Europe/Helsinki
BEGIN:DAYLIGHT
TZOFFSETFROM:+0200
TZOFFSETTO:+0300
TZNAME:EEST
DTSTART:20180325T010000
END:DAYLIGHT
BEGIN:STANDARD
TZOFFSETFROM:+0300
TZOFFSETTO:+0200
TZNAME:EET
DTSTART:20181028T010000
END:STANDARD
BEGIN:DAYLIGHT
TZOFFSETFROM:+0200
TZOFFSETTO:+0300
TZNAME:EEST
DTSTART:20190331T010000
END:DAYLIGHT
BEGIN:STANDARD
TZOFFSETFROM:+0300
TZOFFSETTO:+0200
TZNAME:EET
DTSTART:20191027T010000
END:STANDARD
BEGIN:DAYLIGHT
TZOFFSETFROM:+0200
TZOFFSETTO:+0300
TZNAME:EEST
DTSTART:20200329T010000
END:DAYLIGHT
BEGIN:STANDARD
TZOFFSETFROM:+0300
TZOFFSETTO:+0200
TZNAME:EET
DTSTART:20201025T010000
END:STANDARD
END:VTIMEZONE
BEGIN:VEVENT
DTSTART;TZID=Europe/Helsinki:20190219T201500
DTEND;TZID=Europe/Helsinki:20190219T220000
DTSTAMP:20260425T183647
CREATED:20181226T105459Z
LAST-MODIFIED:20181226T105459Z
UID:2002-1550607300-1550613600@svamuli.fi
SUMMARY:Café Barock Tampere: Ranskalaisen naisen salongissa
DESCRIPTION:Café Barock Tampere \nTi 19.2. klo 20.15\nRanskalaisen naisen salongissa \nMaija Lampela\, pardessus\nSanni Antikainen\, cembalo \nPardessus oli 1700-luvun ranskalaisten ylimystönaisten soitin\, jolla korvattiin rahvaanomaista viulua. Konsertin ohjelma on tyylikkään keveä ja salonkikelpoinen kokoelma sekä alunperin pardessukselle sävellettyjä että viulukirjallisuudesta lainattuja teoksia. \nJ. S. Bach – Barriere – Matteis – Dollé
URL:https://svamuli.fi/t/cafe-barock-tampere-ranskalaisen-naisen-salongissa/
LOCATION:Kulttuuriravintola Kivi\, Keskustori 2\, 33100 Tampere\, Tampere\, Suomi
END:VEVENT
END:VCALENDAR