BEGIN:VCALENDAR
VERSION:2.0
PRODID:-//Suomen vanhan musiikin liitto ry - ECPv6.15.17.1//NONSGML v1.0//EN
CALSCALE:GREGORIAN
METHOD:PUBLISH
X-ORIGINAL-URL:https://svamuli.fi
X-WR-CALDESC:Tapahtumat Suomen vanhan musiikin liitto ry
REFRESH-INTERVAL;VALUE=DURATION:PT1H
X-Robots-Tag:noindex
X-PUBLISHED-TTL:PT1H
BEGIN:VTIMEZONE
TZID:Europe/Helsinki
BEGIN:DAYLIGHT
TZOFFSETFROM:+0200
TZOFFSETTO:+0300
TZNAME:EEST
DTSTART:20180325T010000
END:DAYLIGHT
BEGIN:STANDARD
TZOFFSETFROM:+0300
TZOFFSETTO:+0200
TZNAME:EET
DTSTART:20181028T010000
END:STANDARD
BEGIN:DAYLIGHT
TZOFFSETFROM:+0200
TZOFFSETTO:+0300
TZNAME:EEST
DTSTART:20190331T010000
END:DAYLIGHT
BEGIN:STANDARD
TZOFFSETFROM:+0300
TZOFFSETTO:+0200
TZNAME:EET
DTSTART:20191027T010000
END:STANDARD
BEGIN:DAYLIGHT
TZOFFSETFROM:+0200
TZOFFSETTO:+0300
TZNAME:EEST
DTSTART:20200329T010000
END:DAYLIGHT
BEGIN:STANDARD
TZOFFSETFROM:+0300
TZOFFSETTO:+0200
TZNAME:EET
DTSTART:20201025T010000
END:STANDARD
END:VTIMEZONE
BEGIN:VEVENT
DTSTART;TZID=Europe/Helsinki:20190210T140000
DTEND;TZID=Europe/Helsinki:20190210T153000
DTSTAMP:20260425T183225
CREATED:20190207T095707Z
LAST-MODIFIED:20190207T095707Z
UID:2097-1549807200-1549812600@svamuli.fi
SUMMARY:Kraut und Rüben – Bachin Goldberg-variaatiot
DESCRIPTION:Kraut und Rüben – Bachin Goldberg-variaatiot \nCembalisti Assi Karttunen soittaa Johann Sebastian Bachin Goldberg-variaatiot BWV 988.\nSisäänpääsy museon pääsymaksulla.\nKäsiohjelma 5 e. \nwww.assikarttunen.fi \nhttps://www.facebook.com/events/323005284981142/\nhttp://hakasalmenhuvila.fi/tapahtumat/konsertit-hakasalmen-huvilassa/ \nKonsertin aikana croquis-piirtäjä Marja Heinonen ikuistaa pikapiirroksin soittajaa soittimensa ääressä. \nLisää Marja Heinosen toiminnasta.\nhttp://katutaidehelsinki.fi/katutaidekierrokset/omat-kulmat-marja-heinonen/
URL:https://svamuli.fi/t/kraut-und-ruben-bachin-goldberg-variaatiot/
LOCATION:Hakasalmen huvila\, Mannerheimintie 13b\, 00100 Helsinki\, Helsinki\, Suomi
END:VEVENT
BEGIN:VEVENT
DTSTART;TZID=Europe/Helsinki:20190210T150000
DTEND;TZID=Europe/Helsinki:20190210T170000
DTSTAMP:20260425T183225
CREATED:20190107T100113Z
LAST-MODIFIED:20190107T100114Z
UID:2025-1549810800-1549818000@svamuli.fi
SUMMARY:OVM2019: Barokkitanssin taikaa Obo & Peter Spissky & Nordic Baroque Dancers
DESCRIPTION:Händel – Lully – Bach – Rebel – Vivaldi \nMuun muassa Drottningholmin kuninkaallisessa linnateatterissa esiintyvän Nordic Baroque Dancers -ammattilaisensemblen ensivierailulla Oulussa barokkitanssin pyörteisiin meidät saattavat tanssija-koreografit Karin Modigh ja Noah Hellwig. Oulun barokkiorkesteria liidaa laajasti Euroopassa konsertoiva barokkiviulisti Peter Spissky.
URL:https://svamuli.fi/t/ovm2019-barokkitanssin-taikaa-obo-peter-spissky-nordic-baroque-dancers-2/
LOCATION:Oulun musiikkikeskus\, Madetojan sali\, Leevi Madetojan katu 1-3\, 90150 Oulu\, Oulu\, Suomi
END:VEVENT
BEGIN:VEVENT
DTSTART;TZID=Europe/Helsinki:20190210T170000
DTEND;TZID=Europe/Helsinki:20190210T190000
DTSTAMP:20260425T183225
CREATED:20190116T093325Z
LAST-MODIFIED:20190117T082333Z
UID:2048-1549818000-1549825200@svamuli.fi
SUMMARY:Länsi-Helsingin musiikkiopiston barokkiorkesteri Ex Occidente Lux
DESCRIPTION:Barokkiorkesteri Ex Occidente Lux esiintyy\, johtajana Terhi Mali \nsol.\nPietari Halme\, nokkahuilu\nJaakko Luoma\, fagotti\nVeera Pesu\, oboe\nIirisilona Segerstam\, laulu \nHändel – Vivaldi – Marcello \nVapaa pääsy
URL:https://svamuli.fi/t/barokkiorkesterin-konsertti/
LOCATION:Musik- och kulturskolan Sandels\, Topeliuksenkatu 2\, Helsinki\, Helsinki\, Suomi
END:VEVENT
END:VCALENDAR