BEGIN:VCALENDAR
VERSION:2.0
PRODID:-//Suomen vanhan musiikin liitto ry - ECPv6.15.17.1//NONSGML v1.0//EN
CALSCALE:GREGORIAN
METHOD:PUBLISH
X-ORIGINAL-URL:https://svamuli.fi
X-WR-CALDESC:Tapahtumat Suomen vanhan musiikin liitto ry
REFRESH-INTERVAL;VALUE=DURATION:PT1H
X-Robots-Tag:noindex
X-PUBLISHED-TTL:PT1H
BEGIN:VTIMEZONE
TZID:Europe/Helsinki
BEGIN:DAYLIGHT
TZOFFSETFROM:+0200
TZOFFSETTO:+0300
TZNAME:EEST
DTSTART:20180325T010000
END:DAYLIGHT
BEGIN:STANDARD
TZOFFSETFROM:+0300
TZOFFSETTO:+0200
TZNAME:EET
DTSTART:20181028T010000
END:STANDARD
BEGIN:DAYLIGHT
TZOFFSETFROM:+0200
TZOFFSETTO:+0300
TZNAME:EEST
DTSTART:20190331T010000
END:DAYLIGHT
BEGIN:STANDARD
TZOFFSETFROM:+0300
TZOFFSETTO:+0200
TZNAME:EET
DTSTART:20191027T010000
END:STANDARD
BEGIN:DAYLIGHT
TZOFFSETFROM:+0200
TZOFFSETTO:+0300
TZNAME:EEST
DTSTART:20200329T010000
END:DAYLIGHT
BEGIN:STANDARD
TZOFFSETFROM:+0300
TZOFFSETTO:+0200
TZNAME:EET
DTSTART:20201025T010000
END:STANDARD
END:VTIMEZONE
BEGIN:VEVENT
DTSTART;TZID=Europe/Helsinki:20190121T200000
DTEND;TZID=Europe/Helsinki:20190121T220000
DTSTAMP:20260426T005836
CREATED:20181226T105218Z
LAST-MODIFIED:20181226T105218Z
UID:2000-1548100800-1548108000@svamuli.fi
SUMMARY:If All the World Were Paper
DESCRIPTION:Barokkiyhtye Cornucopia soittaa Riikka Talvitien uusia miniatyyrejä barokkiyhtyeelle sekä 1600-luvun englantilaista musiikkia. / Baroque Ensemble Cornucopia plays premiere miniatures by Riikka Talvitie and 17th century English music. \nBarokkiyhtye/Baroque Ensemble Cornucopia:\nPekka Silén\, nokkahuilu/recorder\nLouna Hosia\, viola da gamba\nMarianna Henriksson\, cembalo/harpsichord\nRiikka Talvitie\, esitystekniikka/performance technics \nEsitys on otsikoiden leikki\, jossa musiikkikappaleiden nimet kertovat enemmän kuin osaamme arvatakaan. Lähdemme leikkiin kysymällä\, mitä tapahtuisi\, jos maailma olisi paperia. Olisiko meri silloin mustetta vai öljyä? Ja mitä öljystä tulee mieleen? \nSävellykset voivat syntyä pienistä arkisista havainnoista\, kuten sanomalehden lukemisesta tai peiliin vilkaisusta. Toisaalta ne voivat pitää sisällään suuria perustavanlaatuisia kysymyksiä olemisesta ja ympäröivästä yhteiskunnasta. \nEsityksessä vanha musiikki 1600-luvun Englannista risteilee uuden musiikin kanssa. Konsertin säveltäjiä ovat sotilas T. Hume\, urkujenrakentaja J. Bull\, musiikkiteoreetikko M. Locke\, urkuri H. Purcell\, kirjakauppias J. Playford ja säveltäjyyden rajoja etsivä R. Talvitie.Tämän esityksen juuret eivät ole hovissa\, kirkossa tai teatterissa – vaan pubissa\, jossa tarinat kertovat arjen henkilökohtaisista kokemuksista. \nEsityksessä puhuu myös piirtoheitin\, poisheitetty tarkkailija. \nLiput: 20/10€ ovelta ja ennakkoon osoitteesta holvi.com/shop/cafebarocksuomi \nRiikka Talvitie on saanut sävellysapurahan Suomen Säveltäjien Madetoja-säätiötä\, ja Barokkiyhtye Cornucopia konsertin järjestämiseen Taiteen edistämiskeskuksen Uudenmaan rahastolta. \nTapahtumat järjestää Kulttuuriyhdistys Café Barock ja Tampereen vanhan musiikin ystävät yhteistyössä Galleria Forum Box ja Tampereen Teatteri.
URL:https://svamuli.fi/t/if-all-the-world-were-paper-3/
LOCATION:Galleria Forum Box\, Ruoholahdenranta 3a\, 00180\, Helsinki\, Helsinki\, Suomi
END:VEVENT
END:VCALENDAR