BEGIN:VCALENDAR
VERSION:2.0
PRODID:-//Suomen vanhan musiikin liitto ry - ECPv6.15.17.1//NONSGML v1.0//EN
CALSCALE:GREGORIAN
METHOD:PUBLISH
X-WR-CALNAME:Suomen vanhan musiikin liitto ry
X-ORIGINAL-URL:https://svamuli.fi
X-WR-CALDESC:Tapahtumat Suomen vanhan musiikin liitto ry
REFRESH-INTERVAL;VALUE=DURATION:PT1H
X-Robots-Tag:noindex
X-PUBLISHED-TTL:PT1H
BEGIN:VTIMEZONE
TZID:Europe/Helsinki
BEGIN:DAYLIGHT
TZOFFSETFROM:+0200
TZOFFSETTO:+0300
TZNAME:EEST
DTSTART:20180325T010000
END:DAYLIGHT
BEGIN:STANDARD
TZOFFSETFROM:+0300
TZOFFSETTO:+0200
TZNAME:EET
DTSTART:20181028T010000
END:STANDARD
BEGIN:DAYLIGHT
TZOFFSETFROM:+0200
TZOFFSETTO:+0300
TZNAME:EEST
DTSTART:20190331T010000
END:DAYLIGHT
BEGIN:STANDARD
TZOFFSETFROM:+0300
TZOFFSETTO:+0200
TZNAME:EET
DTSTART:20191027T010000
END:STANDARD
BEGIN:DAYLIGHT
TZOFFSETFROM:+0200
TZOFFSETTO:+0300
TZNAME:EEST
DTSTART:20200329T010000
END:DAYLIGHT
BEGIN:STANDARD
TZOFFSETFROM:+0300
TZOFFSETTO:+0200
TZNAME:EET
DTSTART:20201025T010000
END:STANDARD
END:VTIMEZONE
BEGIN:VEVENT
DTSTART;TZID=Europe/Helsinki:20190109T190000
DTEND;TZID=Europe/Helsinki:20190109T210000
DTSTAMP:20260425T200556
CREATED:20181207T085717Z
LAST-MODIFIED:20181207T085717Z
UID:1971-1547060400-1547067600@svamuli.fi
SUMMARY:The Passion of Musicke
DESCRIPTION:Taideyliopiston Talven nuoret taiteilijat 2019: Johanna Kilpijärvi\, viola da gamba \nThe Passion of Musicke -konsertissa kuullaan viola da gamballe sävellettyä musiikkia 1600-luvun alusta 1700-luvun alkupuolelle asti. Konserttiohjelma esittelee viola da gamban monipuolisen roolin musiikissa. Teosten myötä sukelletaan erilaisiin tunnetiloihin\, jotka tuntuvat tuoreilta myös tänä päivänä. \nJohanna Kilpijärvi\, viola da gamba\nMikko Ikäheimo\, luuttu\nMaija Lampela\, viola da gamba\nKari Olamaa\, barokkiviulu\nLaura Ollberg-Ekman\, cembalo \nBuxtehude\, Hume\, Kühnel\, Marais \nLiput: 6-17\,50€ (Ticketmasterista 17.12.2018 alkaen)
URL:https://svamuli.fi/t/the-passion-of-musicke/
LOCATION:Organo-sali\, Musiikkitalo\, Mannerheimintie 13 A 00100 Helsinki\, Helsinki\, Suomi
END:VEVENT
END:VCALENDAR