BEGIN:VCALENDAR
VERSION:2.0
PRODID:-//Suomen vanhan musiikin liitto ry - ECPv6.15.17.1//NONSGML v1.0//EN
CALSCALE:GREGORIAN
METHOD:PUBLISH
X-ORIGINAL-URL:https://svamuli.fi
X-WR-CALDESC:Tapahtumat Suomen vanhan musiikin liitto ry
REFRESH-INTERVAL;VALUE=DURATION:PT1H
X-Robots-Tag:noindex
X-PUBLISHED-TTL:PT1H
BEGIN:VTIMEZONE
TZID:Europe/Helsinki
BEGIN:DAYLIGHT
TZOFFSETFROM:+0200
TZOFFSETTO:+0300
TZNAME:EEST
DTSTART:20170326T010000
END:DAYLIGHT
BEGIN:STANDARD
TZOFFSETFROM:+0300
TZOFFSETTO:+0200
TZNAME:EET
DTSTART:20171029T010000
END:STANDARD
BEGIN:DAYLIGHT
TZOFFSETFROM:+0200
TZOFFSETTO:+0300
TZNAME:EEST
DTSTART:20180325T010000
END:DAYLIGHT
BEGIN:STANDARD
TZOFFSETFROM:+0300
TZOFFSETTO:+0200
TZNAME:EET
DTSTART:20181028T010000
END:STANDARD
BEGIN:DAYLIGHT
TZOFFSETFROM:+0200
TZOFFSETTO:+0300
TZNAME:EEST
DTSTART:20190331T010000
END:DAYLIGHT
BEGIN:STANDARD
TZOFFSETFROM:+0300
TZOFFSETTO:+0200
TZNAME:EET
DTSTART:20191027T010000
END:STANDARD
END:VTIMEZONE
BEGIN:VEVENT
DTSTART;TZID=Europe/Helsinki:20181212T190000
DTEND;TZID=Europe/Helsinki:20181212T210000
DTSTAMP:20260425T231922
CREATED:20181127T155842Z
LAST-MODIFIED:20181127T155842Z
UID:1967-1544641200-1544648400@svamuli.fi
SUMMARY:Café Barock OULU: Kauneimmat barokkijoululaulut Vänmannissa
DESCRIPTION:Kauneimmat barokkijoululaulut lauletaan tänä vuonna Oulussa 12.12.\, Vantaalla 14.12. ja Helsingissä 20.12. Kauneimmat barokkijoululaulut -ilta sisältää tuttuja ja tuntemattomampia joululauluja Euroopasta 1500-1700-luvuilta\, periodi-instrumentein soitettuna – yhteislaulua unohtamatta.\n \nTaavi Oramo\, laulu\nMatias Häkkinen\, cembalo\nSini Vahervuo\, huilut\nJohanna Leponiemi\, barokkiviulu\nKati Valkama\, viola da gamba \nLiput 20 € / 15 € ovelta tai ennakkoon Torikadun Oulu10:stä tai Holvi-nettikaupasta (https://holvi.com/shop/cafebarocksuomi/) \nJärjestää Oulun vanha musiikki ja Café Barock yhteistyössä Ensemble Nylandian kanssa.
URL:https://svamuli.fi/t/cafe-barock-oulu-kauneimmat-barokkijoululaulut-vanmannissa/
LOCATION:Ravintola Vänmann\, Kaarlenväylä 2\, 90100 Oulu\, Oulu\, Suomi
END:VEVENT
END:VCALENDAR