BEGIN:VCALENDAR
VERSION:2.0
PRODID:-//Suomen vanhan musiikin liitto ry - ECPv6.15.17.1//NONSGML v1.0//EN
CALSCALE:GREGORIAN
METHOD:PUBLISH
X-WR-CALNAME:Suomen vanhan musiikin liitto ry
X-ORIGINAL-URL:https://svamuli.fi
X-WR-CALDESC:Tapahtumat Suomen vanhan musiikin liitto ry
REFRESH-INTERVAL;VALUE=DURATION:PT1H
X-Robots-Tag:noindex
X-PUBLISHED-TTL:PT1H
BEGIN:VTIMEZONE
TZID:Europe/Helsinki
BEGIN:DAYLIGHT
TZOFFSETFROM:+0200
TZOFFSETTO:+0300
TZNAME:EEST
DTSTART:20170326T010000
END:DAYLIGHT
BEGIN:STANDARD
TZOFFSETFROM:+0300
TZOFFSETTO:+0200
TZNAME:EET
DTSTART:20171029T010000
END:STANDARD
BEGIN:DAYLIGHT
TZOFFSETFROM:+0200
TZOFFSETTO:+0300
TZNAME:EEST
DTSTART:20180325T010000
END:DAYLIGHT
BEGIN:STANDARD
TZOFFSETFROM:+0300
TZOFFSETTO:+0200
TZNAME:EET
DTSTART:20181028T010000
END:STANDARD
BEGIN:DAYLIGHT
TZOFFSETFROM:+0200
TZOFFSETTO:+0300
TZNAME:EEST
DTSTART:20190331T010000
END:DAYLIGHT
BEGIN:STANDARD
TZOFFSETFROM:+0300
TZOFFSETTO:+0200
TZNAME:EET
DTSTART:20191027T010000
END:STANDARD
END:VTIMEZONE
BEGIN:VEVENT
DTSTART;TZID=Europe/Helsinki:20181201T180000
DTEND;TZID=Europe/Helsinki:20181201T200000
DTSTAMP:20260425T231634
CREATED:20181121T124748Z
LAST-MODIFIED:20181121T124748Z
UID:1948-1543687200-1543694400@svamuli.fi
SUMMARY:FiBO: Syntymän ilo\, ihme ja taika (Tampere)
DESCRIPTION:Syntymän ilo\, ihme ja taika\nAdventtimusiikkia eri vuosisadoilta \nMusiikkia keskiaikaisista kokoelmista & Praetorius–Franck–Rosenmüller–Tunder–Bovicelli–Merulo–Viadana–Scarlatti \nTuuli Lindeberg\, sopraano\nAnna-Maaria Oramo\, clavisimbalum\, cembalo ja musiikin johto\nFiBO Players \nFiBOn joulukausi käynnistyy Anna-Maaria Oramon johtamalla adventtikonsertilla. Ensimmäinen adventti on ollut rakastetuimpia länsimaisia juhlia kautta vuosisatojen\, koska se kätkee sisäänsä ihmeen odotuksen taianomaisuuden ja ilon. Adventin aiheet inspiroivat säveltäjiä kirjoittamaan muutakin kuin liturgiaan tarkoitettua musiikkia. Syntymän ihmeen tematiikka vetosi niin keskiajalla kuin renessanssin ja barokin aikana. \nOramo ja Tuuli Lindeberg ovat koonneet adventin teemoista ohjelman\, joka katsoo iloa ja taikaa eri aikakausien läpi: keskiajan espanjalaisista ja englantilaisista lauluista\, Saksan heräävästä uskonpuhdistuksesta ja Italian loistokkaasta renessanssista ja barokista. Ohjelmassa on mukana myös joitakin harvinaisuuksia\, kuten Suomessa keskiajalla esitettyä hymnimusiikkia ensimmäisistä birgittalaisluostareistamme 1500-luvulta. \nAnna-Maaria Oramo ja Tuuli Lindeberg alustavat konsertin Tampere-talon Aulaklubilla 1.12. kello 17–17.30. \nLue lisää: http://fibo.fi/konsertit/2018/syntyman-ilo-ihme-ja-taika/ \nLiput: 34/30*/25* € + mahdollinen palvelumaksu 3 €: Tampere-talo\, kulttuurimyymälä Aplodi\, Lippupisteen myyntipisteet ja Lippu.fi
URL:https://svamuli.fi/t/fibo-syntyman-ilo-ihme-ja-taika-tampere/
LOCATION:Tampere-talo\, Yliopistonkatu 55\, Tampere\, Tampere\, Suomi
END:VEVENT
END:VCALENDAR