BEGIN:VCALENDAR
VERSION:2.0
PRODID:-//Suomen vanhan musiikin liitto ry - ECPv6.15.17.1//NONSGML v1.0//EN
CALSCALE:GREGORIAN
METHOD:PUBLISH
X-WR-CALNAME:Suomen vanhan musiikin liitto ry
X-ORIGINAL-URL:https://svamuli.fi
X-WR-CALDESC:Tapahtumat Suomen vanhan musiikin liitto ry
REFRESH-INTERVAL;VALUE=DURATION:PT1H
X-Robots-Tag:noindex
X-PUBLISHED-TTL:PT1H
BEGIN:VTIMEZONE
TZID:Europe/Helsinki
BEGIN:DAYLIGHT
TZOFFSETFROM:+0200
TZOFFSETTO:+0300
TZNAME:EEST
DTSTART:20170326T010000
END:DAYLIGHT
BEGIN:STANDARD
TZOFFSETFROM:+0300
TZOFFSETTO:+0200
TZNAME:EET
DTSTART:20171029T010000
END:STANDARD
BEGIN:DAYLIGHT
TZOFFSETFROM:+0200
TZOFFSETTO:+0300
TZNAME:EEST
DTSTART:20180325T010000
END:DAYLIGHT
BEGIN:STANDARD
TZOFFSETFROM:+0300
TZOFFSETTO:+0200
TZNAME:EET
DTSTART:20181028T010000
END:STANDARD
BEGIN:DAYLIGHT
TZOFFSETFROM:+0200
TZOFFSETTO:+0300
TZNAME:EEST
DTSTART:20190331T010000
END:DAYLIGHT
BEGIN:STANDARD
TZOFFSETFROM:+0300
TZOFFSETTO:+0200
TZNAME:EET
DTSTART:20191027T010000
END:STANDARD
END:VTIMEZONE
BEGIN:VEVENT
DTSTART;TZID=Europe/Helsinki:20181129T170000
DTEND;TZID=Europe/Helsinki:20181129T180000
DTSTAMP:20260425T232100
CREATED:20181121T125148Z
LAST-MODIFIED:20181121T125148Z
UID:1950-1543510800-1543514400@svamuli.fi
SUMMARY:Vanhan musiikin aarteita keskiajalta barokkiin
DESCRIPTION:Tervetuloa kuuntelemaan vanhan musiikin aarteita pääkirjasto Metson musiikkiin! \nEsiintyjät:\nHelena Holm ja Teea Pospiech\, nokkahuilut\nIida Kulo ja Tuulikki Paulasto\, huilu\nTähti Oksanen\, sello\nVeera Luomi\, kantele \nVapaa pääsy\, tervetuloa! \nJärj. yhteistyössä Tampereen vanhan musiikin ystävät ryn kanssa.
URL:https://svamuli.fi/t/vanhan-musiikin-aarteita-keskiajalta-barokkiin/
LOCATION:Metso-kirjasto\, Pirkankatu 2\, Tampere\, Tampere\, Suomi
END:VEVENT
END:VCALENDAR