BEGIN:VCALENDAR
VERSION:2.0
PRODID:-//Suomen vanhan musiikin liitto ry - ECPv6.15.17.1//NONSGML v1.0//EN
CALSCALE:GREGORIAN
METHOD:PUBLISH
X-WR-CALNAME:Suomen vanhan musiikin liitto ry
X-ORIGINAL-URL:https://svamuli.fi
X-WR-CALDESC:Tapahtumat Suomen vanhan musiikin liitto ry
REFRESH-INTERVAL;VALUE=DURATION:PT1H
X-Robots-Tag:noindex
X-PUBLISHED-TTL:PT1H
BEGIN:VTIMEZONE
TZID:Europe/Helsinki
BEGIN:DAYLIGHT
TZOFFSETFROM:+0200
TZOFFSETTO:+0300
TZNAME:EEST
DTSTART:20170326T010000
END:DAYLIGHT
BEGIN:STANDARD
TZOFFSETFROM:+0300
TZOFFSETTO:+0200
TZNAME:EET
DTSTART:20171029T010000
END:STANDARD
BEGIN:DAYLIGHT
TZOFFSETFROM:+0200
TZOFFSETTO:+0300
TZNAME:EEST
DTSTART:20180325T010000
END:DAYLIGHT
BEGIN:STANDARD
TZOFFSETFROM:+0300
TZOFFSETTO:+0200
TZNAME:EET
DTSTART:20181028T010000
END:STANDARD
BEGIN:DAYLIGHT
TZOFFSETFROM:+0200
TZOFFSETTO:+0300
TZNAME:EEST
DTSTART:20190331T010000
END:DAYLIGHT
BEGIN:STANDARD
TZOFFSETFROM:+0300
TZOFFSETTO:+0200
TZNAME:EET
DTSTART:20191027T010000
END:STANDARD
END:VTIMEZONE
BEGIN:VEVENT
DTSTART;TZID=Europe/Helsinki:20181120T190000
DTEND;TZID=Europe/Helsinki:20181120T210000
DTSTAMP:20260426T010116
CREATED:20181024T085801Z
LAST-MODIFIED:20181024T085801Z
UID:1866-1542740400-1542747600@svamuli.fi
SUMMARY:FiBO: Il prete rosso – Punainen pappi (Hämeenlinna)
DESCRIPTION:Il prete rosso – Punainen pappi\nVivaldin parhaita \nVivaldi \nEssi Luttinen\, mezzosopraano\nKreeta-Maria Kentala\, viulu ja liidaus\nSuomalainen barokkiorkesteri \nErityisesti konserttojen mestarina tunnettu Venetsian punatukkainen pappi\, ”Il prete rosso” Antonio Vivaldi sävelsi kaikkia barokin ajan teostyyppejä oopperoista kamarimusiikkiin. Hän oli kiinnostunut myös sellaisista soittimista\, joita ei vielä tuolloin ollut totuttu näkemään parrasvaloissa. \nVivaldi ansioitui myös vokaalisäveltäjänä. Mezzosopraano Essi Luttinen näyttää taitonsa niin motetissa Longe mala\, umbrae\, terrores kuin erilaisissa ooppera-aarioissa\, joista päätösteoksena kuullaan Griselda-oopperan tunnettu aaria Agitata da due venti. \nIllan jousikonsertot ovat merkittävästä L’estro armonico- eli Harmoninen inspiraatio -kokoelmasta\, joka oli Vivaldin ensimmäinen painettu konserttokokoelma. Siitä levisi Englannin ja Saksan sävellyspiirit vallannut Vivaldi-kuume. FiBOa liidaa orkesterin alkuvuosien kehittymiseen vahvan panoksen antanut viulisti Kreeta-Maria Kentala. \nLue lisää: http://fibo.fi/konsertit/2018/il-prete-rosso-punainen-pappi/ \nLiput: 25/20* € + mahdollinen palvelumaksu 2\,50–3 €\, Ticketmaster\nLipputiedustelut: lippu@fibo.fi\n* alennusryhmät \nfibo.fi
URL:https://svamuli.fi/t/fibo-il-prete-rosso-punainen-pappi-hameenlinna/
LOCATION:Hämeenlinnan raatihuone\, Raatihuoneenkatu 9-11\, 13100 Hämeenlinna\, Hämeenlinna\, Suomi
END:VEVENT
END:VCALENDAR