BEGIN:VCALENDAR
VERSION:2.0
PRODID:-//Suomen vanhan musiikin liitto ry - ECPv6.15.17.1//NONSGML v1.0//EN
CALSCALE:GREGORIAN
METHOD:PUBLISH
X-WR-CALNAME:Suomen vanhan musiikin liitto ry
X-ORIGINAL-URL:https://svamuli.fi
X-WR-CALDESC:Tapahtumat Suomen vanhan musiikin liitto ry
REFRESH-INTERVAL;VALUE=DURATION:PT1H
X-Robots-Tag:noindex
X-PUBLISHED-TTL:PT1H
BEGIN:VTIMEZONE
TZID:Europe/Helsinki
BEGIN:DAYLIGHT
TZOFFSETFROM:+0200
TZOFFSETTO:+0300
TZNAME:EEST
DTSTART:20170326T010000
END:DAYLIGHT
BEGIN:STANDARD
TZOFFSETFROM:+0300
TZOFFSETTO:+0200
TZNAME:EET
DTSTART:20171029T010000
END:STANDARD
BEGIN:DAYLIGHT
TZOFFSETFROM:+0200
TZOFFSETTO:+0300
TZNAME:EEST
DTSTART:20180325T010000
END:DAYLIGHT
BEGIN:STANDARD
TZOFFSETFROM:+0300
TZOFFSETTO:+0200
TZNAME:EET
DTSTART:20181028T010000
END:STANDARD
BEGIN:DAYLIGHT
TZOFFSETFROM:+0200
TZOFFSETTO:+0300
TZNAME:EEST
DTSTART:20190331T010000
END:DAYLIGHT
BEGIN:STANDARD
TZOFFSETFROM:+0300
TZOFFSETTO:+0200
TZNAME:EET
DTSTART:20191027T010000
END:STANDARD
END:VTIMEZONE
BEGIN:VEVENT
DTSTART;TZID=Europe/Helsinki:20181112T093000
DTEND;TZID=Europe/Helsinki:20181112T130000
DTSTAMP:20260426T005650
CREATED:20181030T134037Z
LAST-MODIFIED:20181030T134037Z
UID:1880-1542015000-1542027600@svamuli.fi
SUMMARY:Symposium: Transforming Musicianship
DESCRIPTION:SYMPOSIUM: Transforming Musicianship: Understanding C19th Historical Style and its Implications for Learning. \nLanguage for the lecture is English. \nProgram: \n9:30-10:00am Welcoming words\, and lecture by Dr. Guadalupe López-Íñiguez (Docent of Music Education\, Sibelius Academy): Why Do I Play 19th Century Music on Period Instruments? On Agency\, Creativity\, and Motivation \n10:00-10:45 Keynote by Dr. Claire Holden (Oxford University\, violinist at the Orchestra of the Age of Enlightenment): The Long and Short of it: Bowing and Articulation in Beethoven’s Symphonies \n10:45-11:00 Coffee break (not provided) \n11:00-11:45 Keynote by Dr. Tuija Hakkila (Professor of Piano\, Sibelius Academy): Making the Score Come Alive: Reading and Understanding 19th Century Piano Scores \n11:45-12:30 Keynote by Dr. George Kennaway (Universities of Leeds and Huddersfield\, cellist and conductor): Sliding\, on Thin Ice\, to Some Conclusions – Fundamental Aspects of Cello Performance in the 19th Century \n12:30-13:00 Panel with all speakers\, questions from the audience\, and discussion
URL:https://svamuli.fi/t/symposium-transforming-musicianship/
LOCATION:Sibelius-Akatemia\, Wegelius-sali\, Töölönkatu 28\, 00250 Helsinki\, Helsinki\, Suomi
END:VEVENT
END:VCALENDAR