BEGIN:VCALENDAR
VERSION:2.0
PRODID:-//Suomen vanhan musiikin liitto ry - ECPv6.15.17.1//NONSGML v1.0//EN
CALSCALE:GREGORIAN
METHOD:PUBLISH
X-WR-CALNAME:Suomen vanhan musiikin liitto ry
X-ORIGINAL-URL:https://svamuli.fi
X-WR-CALDESC:Tapahtumat Suomen vanhan musiikin liitto ry
REFRESH-INTERVAL;VALUE=DURATION:PT1H
X-Robots-Tag:noindex
X-PUBLISHED-TTL:PT1H
BEGIN:VTIMEZONE
TZID:Europe/Helsinki
BEGIN:DAYLIGHT
TZOFFSETFROM:+0200
TZOFFSETTO:+0300
TZNAME:EEST
DTSTART:20170326T010000
END:DAYLIGHT
BEGIN:STANDARD
TZOFFSETFROM:+0300
TZOFFSETTO:+0200
TZNAME:EET
DTSTART:20171029T010000
END:STANDARD
BEGIN:DAYLIGHT
TZOFFSETFROM:+0200
TZOFFSETTO:+0300
TZNAME:EEST
DTSTART:20180325T010000
END:DAYLIGHT
BEGIN:STANDARD
TZOFFSETFROM:+0300
TZOFFSETTO:+0200
TZNAME:EET
DTSTART:20181028T010000
END:STANDARD
BEGIN:DAYLIGHT
TZOFFSETFROM:+0200
TZOFFSETTO:+0300
TZNAME:EEST
DTSTART:20190331T010000
END:DAYLIGHT
BEGIN:STANDARD
TZOFFSETFROM:+0300
TZOFFSETTO:+0200
TZNAME:EET
DTSTART:20191027T010000
END:STANDARD
END:VTIMEZONE
BEGIN:VEVENT
DTSTART;TZID=Europe/Helsinki:20181102T190000
DTEND;TZID=Europe/Helsinki:20181102T210000
DTSTAMP:20260426T004726
CREATED:20181011T070716Z
LAST-MODIFIED:20181011T070716Z
UID:1852-1541185200-1541192400@svamuli.fi
SUMMARY:Love\, Treachery & Frogs (Helsinki)
DESCRIPTION:Love\, Treachery & Frogs – Tales of Women \nMinna Nyberg\, sopran och gestik\nAnna Kuvaja\, fortepiano \n”Love\, Treachery & Frogs – Tales of Women” är en hjärtskärande\, uppskakande och glädjefull resa i fyra kvinnors liv. Under konsertens lopp möter vi en ung kvinna med aningslös förtröstan i en sjömans förföriska kyss. Arianna a Naxos som luras av falska drömmar om en ljuv återförening med sin älskade Teseo. Vi möter Eurydike som färdas genom Underjorden. Och vi får höra en festlig berättelse om sjungande grodor\, spelande syrsor och glimmande eldflugor. \nUnder konserten gör sopran Minna Nyberg tillsammans med fortepianist Anna Kuvaja en tidsresa till klassisismen. I programmet ingår musik av Haydn och Gluck\, men även intryck från tidigare år med musik och dikter av Hasse och Milton. Konserten är regisserad i enlighet med klassisimens tidsenliga gestik\, men regin innehåller även inslag från modernare scenkonst. \nBiljetter 25 / 20 € (kan köpas vi dörren) \n——— \nMinna Nyberg\, sopraano ja eleet\nAnna Kuvaja\, fortepiano \n”Love\, Treachery & Frogs – Tales of Women” on sydäntäsärkevä\, koskettava ja hupaisa matka neljän naisen elämään. Konsertin aikana tapaamme herkkäuskoisen nuoren naisen\, joka uskoo merimiehen viettelevään suudelmaan. Arianna a Naxos\, joka herää valheellisesta unesta Teseon paluusta hänen rakastavaan syleilyynsä. Tapaamme Eurydiken Manalassa ja kuulemme myös mainion kappaleen laulavista sammakoista\, sirkkojen sirityksestä ja kimaltelevista tulikärpäsistä. \nSopraano Minna Nyberg tekee yhdessä fortepianisti Anna Kuvajan kanssa aikamatkan klassisismin aikakauteen. Konsertissa tulette kuulemaan Haydn’in ja Gluckin musiikkia\, mutta mukana on myös aikaisempia vaikutteita Hassen ja Miltonin teoksista. Konsertti on ohjattu klassisismin elekielen mukaisesti\, mutta ohjaus sisältää myös vaikutteita modernimmasta näyttämötaiteesta. \nLiput 25 / 20 € (ovelta)
URL:https://svamuli.fi/t/love-treachery-frogs-helsinki/
LOCATION:Balderin sali\, Aleksanterinkatu 12\, Helsinki\, Helsinki\, Suomi
END:VEVENT
END:VCALENDAR