BEGIN:VCALENDAR
VERSION:2.0
PRODID:-//Suomen vanhan musiikin liitto ry - ECPv6.15.17.1//NONSGML v1.0//EN
CALSCALE:GREGORIAN
METHOD:PUBLISH
X-ORIGINAL-URL:https://svamuli.fi
X-WR-CALDESC:Tapahtumat Suomen vanhan musiikin liitto ry
REFRESH-INTERVAL;VALUE=DURATION:PT1H
X-Robots-Tag:noindex
X-PUBLISHED-TTL:PT1H
BEGIN:VTIMEZONE
TZID:Europe/Helsinki
BEGIN:DAYLIGHT
TZOFFSETFROM:+0200
TZOFFSETTO:+0300
TZNAME:EEST
DTSTART:20170326T010000
END:DAYLIGHT
BEGIN:STANDARD
TZOFFSETFROM:+0300
TZOFFSETTO:+0200
TZNAME:EET
DTSTART:20171029T010000
END:STANDARD
BEGIN:DAYLIGHT
TZOFFSETFROM:+0200
TZOFFSETTO:+0300
TZNAME:EEST
DTSTART:20180325T010000
END:DAYLIGHT
BEGIN:STANDARD
TZOFFSETFROM:+0300
TZOFFSETTO:+0200
TZNAME:EET
DTSTART:20181028T010000
END:STANDARD
BEGIN:DAYLIGHT
TZOFFSETFROM:+0200
TZOFFSETTO:+0300
TZNAME:EEST
DTSTART:20190331T010000
END:DAYLIGHT
BEGIN:STANDARD
TZOFFSETFROM:+0300
TZOFFSETTO:+0200
TZNAME:EET
DTSTART:20191027T010000
END:STANDARD
END:VTIMEZONE
BEGIN:VEVENT
DTSTART;TZID=Europe/Helsinki:20181031T190000
DTEND;TZID=Europe/Helsinki:20181031T210000
DTSTAMP:20260425T232239
CREATED:20180914T052149Z
LAST-MODIFIED:20180914T052149Z
UID:1785-1541012400-1541019600@svamuli.fi
SUMMARY:Café Barock: Pieni nokkahuilukirja - julkistamistilaisuus
DESCRIPTION:Harvaan soittimeen on suomalaisilla yhtä läheinen suhde kuin nokkahuiluun. Harva soitin on myöskään historian saatossa löytänyt paikkansa sekä renessanssin\, barokin ja nykyajan taidemusiikkisoittimena että ristiriitaisin tuntein kohdattavana pakollisena koulusoittimena. Kuten useimmat soittimet\, nokkis on yhtaikaa sekä helppo alkeissoitin että vaativa sooloinstrumentti. \nAviador Kustannuksen julkaisema ”Pieni nokkahuilukirja – nokkisalkeet kaikenikäisille” on kattava perusteos\, joka sopii opetuskäyttöön kaikenikäisille\, myös peruskouluihin. Kirja on myös pieni aarreaitta kaikille musiikinhistoriasta kiinnostuneille. \nKirjan julkistamistilaisuudessa esiintyvät: \nSini Vahervuo\, nokkahuilu\nTitta Lampela\, sopraano\nMatias Häkkinen\, cembalo\nJarmo Julkunen\, ukulele\nQ Consort\, renessanssinokkahuilut (Sini Vahervuo\, Milja Tiainen\, Reetta Varjonen-Ollus ja Riikka Holopainen) \nHaastattelijana toimii Hannu Taanila \nSini Vahervuo (s. 1984) on nokkahuilutaiteilija\, joka opettaa pääinstrumenttiaan muun muassa Tampereen Musiikkiakatemiassa ja Käpylän musiikkiopistossa. Hän toimii myös aktiivisesti elävän konserttitradition edistämiseksi. Opetustyössään hän huomioi erilaiset oppijat ja eri-ikäisten oppimisprosessit. \nTitta Lampela (s. 1969) toimii peruskoulun musiikinopettajana ja on perehtynyt nokkahuilun ohella kaikkiin muihinkin kouluopetuksessa hyödynnettäviin soittimiin. Musiikinopettajana hän kokee tärkeimmäksi tehtäväkseen etsiä jokaiselle avaimet musiikin iloon ja oppimiseen. Opetustoimensa ohella hän toimii yhtyelaulajana
URL:https://svamuli.fi/t/cafe-barock-pieni-nokkahuilukirja-julkistamistilaisuus/
LOCATION:Galleria Forum Box\, Ruoholahdenranta 3a\, 00180\, Helsinki\, Helsinki\, Suomi
END:VEVENT
END:VCALENDAR