BEGIN:VCALENDAR
VERSION:2.0
PRODID:-//Suomen vanhan musiikin liitto ry - ECPv6.15.17.1//NONSGML v1.0//EN
CALSCALE:GREGORIAN
METHOD:PUBLISH
X-ORIGINAL-URL:https://svamuli.fi
X-WR-CALDESC:Tapahtumat Suomen vanhan musiikin liitto ry
REFRESH-INTERVAL;VALUE=DURATION:PT1H
X-Robots-Tag:noindex
X-PUBLISHED-TTL:PT1H
BEGIN:VTIMEZONE
TZID:Europe/Helsinki
BEGIN:DAYLIGHT
TZOFFSETFROM:+0200
TZOFFSETTO:+0300
TZNAME:EEST
DTSTART:20170326T010000
END:DAYLIGHT
BEGIN:STANDARD
TZOFFSETFROM:+0300
TZOFFSETTO:+0200
TZNAME:EET
DTSTART:20171029T010000
END:STANDARD
BEGIN:DAYLIGHT
TZOFFSETFROM:+0200
TZOFFSETTO:+0300
TZNAME:EEST
DTSTART:20180325T010000
END:DAYLIGHT
BEGIN:STANDARD
TZOFFSETFROM:+0300
TZOFFSETTO:+0200
TZNAME:EET
DTSTART:20181028T010000
END:STANDARD
BEGIN:DAYLIGHT
TZOFFSETFROM:+0200
TZOFFSETTO:+0300
TZNAME:EEST
DTSTART:20190331T010000
END:DAYLIGHT
BEGIN:STANDARD
TZOFFSETFROM:+0300
TZOFFSETTO:+0200
TZNAME:EET
DTSTART:20191027T010000
END:STANDARD
END:VTIMEZONE
BEGIN:VEVENT
DTSTART;TZID=Europe/Helsinki:20181026T190000
DTEND;TZID=Europe/Helsinki:20181026T210000
DTSTAMP:20260426T004903
CREATED:20180915T085454Z
LAST-MODIFIED:20180915T085454Z
UID:1790-1540580400-1540587600@svamuli.fi
SUMMARY:Dorothee Oberlinger\, nokkahuilu
DESCRIPTION:Suomen nokkahuiluseuran 10-vuotisjuhlakonsertissa esiintyy maailmankuulu nokkahuiluvirtuoosi\, Salzburgin Mozarteum-musiikkikorkeakoulun professori Dorothee Oberlinger. Oberlinger on tehnyt parikymmentä vanhan musiikin levytystä ja tilannut ja kantaesittänyt myös paljon nykymusiikkia. Hän on kysytty vieras festivaaleilla ympäri maailman\, kilpailulautakunnissa ja pedagogina. Professuurin lisäksi Oberlinger toimii Arolser Barock-Festspiele -festivaalin johtajana ja johtaa perustamaansa Ensemble 1700 -yhtyettä. \nJuhlakonsertin ohjelma kattaa teoksia keskiajalta nykypäivään\, säveltäjinä mm. Hildegard Von Bingen\, J. S. Bach\, Luciano Berio ja Dorothee Hahne. \nLiput: 20/10 € (Suomen nokkahuiluseuran jäsenille vapaa pääsy) \nKonsertin Facebook-tapahtuma: https://web.facebook.com/events/225936521609992/ \nwww.nokkahuilu.fi\nwww.dorotheeoberlinger.de \nKonsertin järjestää Suomen nokkahuiluseura yhteistyössä Taideyliopiston Sibelius-Akatemian kanssa. Konserttia tukee Taiteen edistämiskeskus. \nOberlinger pitää mestarikurssin vierailunsa yhteydessä Taideyliopiston Sibelius-Akatemialla. Lisätietoja antaa Eero Saunamäki (puheenjohtaja@nokkahuilu.fi)
URL:https://svamuli.fi/t/dorothee-oberlinger-nokkahuilu/
LOCATION:Saksalainen kirkko\, Unioninkatu 1\, 00130 Helsinki\, Helsinki\, Suomi
END:VEVENT
BEGIN:VEVENT
DTSTART;TZID=Europe/Helsinki:20181026T190000
DTEND;TZID=Europe/Helsinki:20181026T210000
DTSTAMP:20260426T004903
CREATED:20180921T084357Z
LAST-MODIFIED:20180921T084357Z
UID:1807-1540580400-1540587600@svamuli.fi
SUMMARY:Kaksin käsin - Elina Mustonen ja Ilpo Laspas\, cembalo
DESCRIPTION:SUOMEN SOLISTIYHDISTYKSEN KONSERTTISARJA 2018 \nElina Mustonen\, cembalo\nIlpo Laspas\, cembalo\nJ. S. Bach – Couperin – Soler – W. Fr. Bach \nVapaa pääsy\, käsiohjelma 10 euroa. \nKAKSIN KÄSIN \nKonsertissa kuullaan barokkimusiikkia kahdella cembalolla soitettuna. Vaikka cembalo mielletään usein ensisijaisesti säestyssoittimeksi\, laajan soolocembalokirjallisuuden lisäksi hienoja teoksia on sävelletty myös kahdelle cembalolle. Tällöin on mahdollista saavuttaa kamarimusiikillista dialogia ja toisinaan hyvin orkestraalisiakin tehoja esimerkiksi konsertoissa tai niiden sovituksissa. Dialogi kahden yksilöllisen ja soinniltaan erilaisen soittimen sekä soittajan välillä on aina kiehtovaa. Näin voidaan saavuttaa myös enemmän dynaamisia tehoja ja toisaalta korostaa esimerkiksi itsenäisen kontrapunktin yksityiskohtia. \nSuurin osa ohjelman teoksista on alun perin sävelletty kahdelle cembalolle tai kahdelle kosketinsoittimelle. Tyylillisesti ohjelma edustaa myöhäisbarokkia ja varhaisklassismia. Keskiössä ovat Johann Sebastian Bachin ja hänen poikansa Wilhelm Friedemann Bachin teokset. Maantieteellisesti ja musiikillisesti tätä saksalaista tyyliä värittävät François Couperinin ja Antonio Solerin teokset.
URL:https://svamuli.fi/t/kaksin-kasin-elina-mustonen-ja-ilpo-laspas-cembalo/
LOCATION:Temppeliaukion kirkko\, Lutherinkatu 3\, Helsinki \, HELSINKI\, Suomi
END:VEVENT
END:VCALENDAR