BEGIN:VCALENDAR
VERSION:2.0
PRODID:-//Suomen vanhan musiikin liitto ry - ECPv6.15.17.1//NONSGML v1.0//EN
CALSCALE:GREGORIAN
METHOD:PUBLISH
X-WR-CALNAME:Suomen vanhan musiikin liitto ry
X-ORIGINAL-URL:https://svamuli.fi
X-WR-CALDESC:Tapahtumat Suomen vanhan musiikin liitto ry
REFRESH-INTERVAL;VALUE=DURATION:PT1H
X-Robots-Tag:noindex
X-PUBLISHED-TTL:PT1H
BEGIN:VTIMEZONE
TZID:Europe/Helsinki
BEGIN:DAYLIGHT
TZOFFSETFROM:+0200
TZOFFSETTO:+0300
TZNAME:EEST
DTSTART:20170326T010000
END:DAYLIGHT
BEGIN:STANDARD
TZOFFSETFROM:+0300
TZOFFSETTO:+0200
TZNAME:EET
DTSTART:20171029T010000
END:STANDARD
BEGIN:DAYLIGHT
TZOFFSETFROM:+0200
TZOFFSETTO:+0300
TZNAME:EEST
DTSTART:20180325T010000
END:DAYLIGHT
BEGIN:STANDARD
TZOFFSETFROM:+0300
TZOFFSETTO:+0200
TZNAME:EET
DTSTART:20181028T010000
END:STANDARD
BEGIN:DAYLIGHT
TZOFFSETFROM:+0200
TZOFFSETTO:+0300
TZNAME:EEST
DTSTART:20190331T010000
END:DAYLIGHT
BEGIN:STANDARD
TZOFFSETFROM:+0300
TZOFFSETTO:+0200
TZNAME:EET
DTSTART:20191027T010000
END:STANDARD
END:VTIMEZONE
BEGIN:VEVENT
DTSTART;TZID=Europe/Helsinki:20181014T150000
DTEND;TZID=Europe/Helsinki:20181014T160000
DTSTAMP:20260426T005654
CREATED:20180921T083915Z
LAST-MODIFIED:20180921T083915Z
UID:1797-1539529200-1539532800@svamuli.fi
SUMMARY:JOUEZ! - Molièren matkassa / i Molières sällskap (Vasa Baroque)
DESCRIPTION:JOUEZ! – Molièren matkassa tekee Molièren tuotannon tutuksi tunnissa. Tämä pienimuotoinen musiikkiteatteriesitys näyttelevälle cembalistille on syntynyt Elina Mustosen\, Johanna Freundlichin ja Nina Mansikan yhteistyönä. Produktion tavoitteena on tuoda uudella\, hauskalla ja helposti lähestyttävällä tavalla Molièren ajattomat henkilöhahmot ja aikakauden musiikki monenlaisten yleisöjen ulottuville. \nEsitys koostuu kohtauksista Molièren näytelmistä Luulosairas\, Tartuffe\, Saituri\, Ihmisvihaaja\, Naisten koulu\, Don Juan\, Oppineita naisia\, Sievistelevät hupsut ja Versaillesin impromptu. Tätä kaikkea täydentää ja peilaa aikakauden rikas musiikki. \nEsityksen musiikin ovat säveltäneet Molièren yhteistyökumppanit Jean-Baptiste Lully ja Marc-Antoine Charpentier sekä barokin ajan tärkeimmät ranskalaiset cembalosäveltäjät Louis Couperin\, Jean-Henry d’Anglebert\, François Couperin ja Jean-Babtiste Forqueray. Esityksen musiikki soitetaan aikakauden suosituimmalla kosketinsoittimella\, cembalolla. \nSaumattomasti yhteen lomittuvat tekstit ja musiikki muodostavat samalla kuvan Molièren elämästä\, mutta ennen kaikkea näytelmien yleisinhimillisestä ja ajattomasta sanomasta. \nMolière käsittelee ihmisyyden eri puolia ja erityisesti kaikkialla tunnistettavia heikkouksia komedian välillä viiltävin ja anarkistisinkin keinoin\, mikä tarjoaa esitykselle loputtomasti mahdollisuuksia yhdistää tekstejä ja musiikkia monin erilaisin\, joskus epäortodoksisin tavoin. \nTärkeän lisäulottuvuuden produktion ennakkoluulottomalle lähestymistavalle tuo kompakti\, mutta yllätyksellinen ja kekseliäs puvustus ja lavastus. Sen ansiosta teos on muuntautuva ja erilaisiin tiloihin sopiva. \nLavalla: Elina Mustonen\nTekstidramaturgia ja henkilöohjaus: Johanna Freundlich\nVisualisointi: Nina Mansikka\nMusiikillinen suunnittelu ja sovitus: Elina Mustonen \n”Ihan käsittämättömän upea esitys! Tätä älkää jättäkö kokematta. Elina Mustonen on näyttelijänä yhtä rautainen ammattilainen kuin muusikkonakin.”\n”Mukavaa olla todistamassa klassikkoesityksen syntyä!”\n”Fantastista teatteri- ja soittotaidetta. Vauhdikas esitys tempaisi heti mukaansa.”\n”Suosittelen tätä lämpimästi\, hieno ja kekseliäs esitys! Musiikkiteatteri on totisesti muutakin kuin musikaaleja!”\n(Yleisöpalautetta esityksestä)
URL:https://svamuli.fi/t/jouez-molieren-matkassa-i-molieres-sallskap-vasa-baroque/
LOCATION:Tikanojan taidekoti\, Hovioikeudenpuistikko 4\, 65100 Vaasa\, Vaasa\, Suomi
END:VEVENT
BEGIN:VEVENT
DTSTART;TZID=Europe/Helsinki:20181014T180000
DTEND;TZID=Europe/Helsinki:20181014T200000
DTSTAMP:20260426T005654
CREATED:20180911T095030Z
LAST-MODIFIED:20180911T095030Z
UID:1780-1539540000-1539547200@svamuli.fi
SUMMARY:La Monica - renessanssin helmi
DESCRIPTION:Tämän konsertin keskiössä on La Monica\, kansanlaulu keskiajan Italiasta. Laulu kertoo tarinan tyttösestä\, joka pakotettiin luostariin ja halusi vain kuolla. Tuosta surumielisestä melodiasta tuli huikean suosittu ympäri Eurooppaa renessanssi- ja barokkiajalla\, ja säveltäjät käyttivät sitä materiaalinaan niin vokaali-\, instrumentaali- kuin kirkkomusiikissakin. Tästä runsaudensarvesta konserttimme ammentaa kuultavaksi kattauksen\, jonka säveltäjänimiä ovat mm. Eccard\, Byrd\, Chardavoine ja Caroso. Konsertin pääteos on G. Frescobaldin 8-ääninen Messu sopra l’aria della Monica. \n\nEsiintyjät:\nFioretto Ensemble: Debra Gomez-Tapio\, harput ja johto\, Aira Maria Lehtipuu\, viulu\, Janek Öller\, nokkahuilut ja Ilpo Laspas\, urut ja cembalo\nSekä Cantus Alaudae -projekti:\nKaisa Kelloniemi ja Anu Mattila\, sopraano\nElina Aho-Kuusama ja Anna Edgren\, altto\nMats Lillhannus ja Juho Punkeri\, tenori\nPekka Alonen ja Lauri Solin\, basso \nKonsertin tuottaa Tampereen vanhan musiikin ystävät ry yhteistyössä Tampereen seurakuntien Valon ääniä -festivaalin kanssa.  \nLiput 25 / 20 €  www.lippu.fi.
URL:https://svamuli.fi/t/la-monica-renessanssin-helmi/
LOCATION:Tampereen tuomiokirkko\, Tuomiokirkonkatu\, 33100\, Tampere\, Tampere\, Suomi
END:VEVENT
END:VCALENDAR