BEGIN:VCALENDAR
VERSION:2.0
PRODID:-//Suomen vanhan musiikin liitto ry - ECPv6.15.17.1//NONSGML v1.0//EN
CALSCALE:GREGORIAN
METHOD:PUBLISH
X-ORIGINAL-URL:https://svamuli.fi
X-WR-CALDESC:Tapahtumat Suomen vanhan musiikin liitto ry
REFRESH-INTERVAL;VALUE=DURATION:PT1H
X-Robots-Tag:noindex
X-PUBLISHED-TTL:PT1H
BEGIN:VTIMEZONE
TZID:Europe/Helsinki
BEGIN:DAYLIGHT
TZOFFSETFROM:+0200
TZOFFSETTO:+0300
TZNAME:EEST
DTSTART:20170326T010000
END:DAYLIGHT
BEGIN:STANDARD
TZOFFSETFROM:+0300
TZOFFSETTO:+0200
TZNAME:EET
DTSTART:20171029T010000
END:STANDARD
BEGIN:DAYLIGHT
TZOFFSETFROM:+0200
TZOFFSETTO:+0300
TZNAME:EEST
DTSTART:20180325T010000
END:DAYLIGHT
BEGIN:STANDARD
TZOFFSETFROM:+0300
TZOFFSETTO:+0200
TZNAME:EET
DTSTART:20181028T010000
END:STANDARD
BEGIN:DAYLIGHT
TZOFFSETFROM:+0200
TZOFFSETTO:+0300
TZNAME:EEST
DTSTART:20190331T010000
END:DAYLIGHT
BEGIN:STANDARD
TZOFFSETFROM:+0300
TZOFFSETTO:+0200
TZNAME:EET
DTSTART:20191027T010000
END:STANDARD
END:VTIMEZONE
BEGIN:VEVENT
DTSTART;TZID=Europe/Helsinki:20181004T180000
DTEND;TZID=Europe/Helsinki:20181004T200000
DTSTAMP:20260426T023238
CREATED:20180928T114410Z
LAST-MODIFIED:20181004T065557Z
UID:1817-1538676000-1538683200@svamuli.fi
SUMMARY:FiBO: Pariisin taivaan alla – Ranskalaista barokkia (Askola)
DESCRIPTION:F. Couperin – Marais – Lambert – Rameau \nMyriam Arbouz\, sopraano\nSuomalainen barokkiorkesteri \nAurinkokuninkaan hovi ja rokokooajan Pariisi valloittavat esiintymislavat\, kun FiBO ja ranskalaissopraano Myriam Arbouz vievät elämysmatkalle ranskalaiseen barokkiin. Italialaisen ja saksalaisen tyylin varjoon jäänyt barokkimusiikin alue esittäytyy koko loistossaan Michel Lambertin intiimeistä hovilauluista Jean-Philippe Rameaun oopperamusiikkiin. \nRunollista soitinmusiikkia ranskalaisimmillaan edustaa gamban mestari Marin Marais\, joka tunnettiin lisänimellä ”Enkeli”. François Couperinia puolestaan kunnioitettiin lisänimellä ”Suuri”. Ranskalaisen barokin kuningas oli kuitenkin näyttämömusiikki. Konsertin päätteeksi kuullaankin läpileikkaus Rameaun suositusta oopperasta Les Indes galantes. Valistusajan hengessä teos ihannoi Euroopan ulkopuolisten kulttuurien jaloutta\, mutta sen neljä eksoottista rakkaustarinaa tuovat myös mieleen nykyaikaisen romanttisen episodielokuvan. \nLue lisää: http://fibo.fi/konsertit/2018/pariisin-taivaan-alla/ \nLiput: 17\,50/11* €\, Ticketmaster\n* alennusryhmät \nLipputiedustelut: lippu@fibo.fi \nfibo.fi
URL:https://svamuli.fi/t/fibo-pariisin-taivaan-alla-ranskalaista-barokkia-askola/
LOCATION:Askolan kirkko\, Askolantie 21\, Askola\, Askola\, Suomi
END:VEVENT
BEGIN:VEVENT
DTSTART;TZID=Europe/Helsinki:20181004T190000
DTEND;TZID=Europe/Helsinki:20181007T210000
DTSTAMP:20260426T023238
CREATED:20180803T104702Z
LAST-MODIFIED:20180803T104702Z
UID:1753-1538679600-1538946000@svamuli.fi
SUMMARY:Barokin labyrinteissä 4.-7.10.2018
DESCRIPTION:Turunmaan ainoa varhaiseen musiikkiin keskittyvä festivaali järjestetään tänä vuonna 4-7.10.2018! Festivaali tarjoaa taas konserttiyleisölleen korkealaatuista musiikkia sekä kotimaisilta että ulkomaalaisilta huippuluokan yhtyeiltä ja kerää aikaisen musiikin ystäviä läheltä ja kaukaa Paraisille ja Turkuun. Festivaaliohjelman\, lisätietoja sekä liput löydätte osoitteessa: www.parbarock.fi.\nLöydät meidät myös somessa nimellä @parbarock!
URL:https://svamuli.fi/t/barokin-labyrinteissa-4-7-10-2018/
LOCATION:Parainen\, Parainen\, Parainen\, Suomi
END:VEVENT
END:VCALENDAR