BEGIN:VCALENDAR
VERSION:2.0
PRODID:-//Suomen vanhan musiikin liitto ry - ECPv6.15.17.1//NONSGML v1.0//EN
CALSCALE:GREGORIAN
METHOD:PUBLISH
X-WR-CALNAME:Suomen vanhan musiikin liitto ry
X-ORIGINAL-URL:https://svamuli.fi
X-WR-CALDESC:Tapahtumat Suomen vanhan musiikin liitto ry
REFRESH-INTERVAL;VALUE=DURATION:PT1H
X-Robots-Tag:noindex
X-PUBLISHED-TTL:PT1H
BEGIN:VTIMEZONE
TZID:Europe/Helsinki
BEGIN:DAYLIGHT
TZOFFSETFROM:+0200
TZOFFSETTO:+0300
TZNAME:EEST
DTSTART:20170326T010000
END:DAYLIGHT
BEGIN:STANDARD
TZOFFSETFROM:+0300
TZOFFSETTO:+0200
TZNAME:EET
DTSTART:20171029T010000
END:STANDARD
BEGIN:DAYLIGHT
TZOFFSETFROM:+0200
TZOFFSETTO:+0300
TZNAME:EEST
DTSTART:20180325T010000
END:DAYLIGHT
BEGIN:STANDARD
TZOFFSETFROM:+0300
TZOFFSETTO:+0200
TZNAME:EET
DTSTART:20181028T010000
END:STANDARD
BEGIN:DAYLIGHT
TZOFFSETFROM:+0200
TZOFFSETTO:+0300
TZNAME:EEST
DTSTART:20190331T010000
END:DAYLIGHT
BEGIN:STANDARD
TZOFFSETFROM:+0300
TZOFFSETTO:+0200
TZNAME:EET
DTSTART:20191027T010000
END:STANDARD
END:VTIMEZONE
BEGIN:VEVENT
DTSTART;TZID=Europe/Helsinki:20180920T190000
DTEND;TZID=Europe/Helsinki:20180920T200000
DTSTAMP:20260426T050811
CREATED:20180918T082606Z
LAST-MODIFIED:20180918T082606Z
UID:1792-1537470000-1537473600@svamuli.fi
SUMMARY:Italialaisia barokkihelmiä ja suomalaisia nykymusiikkitimantteja
DESCRIPTION:Duo Saunamäki & Vesalainen sulostuttavat syksyn pimeneviä iltoja jännittävällä konsertilla\, jossa italialainen barokki ja suomalainen nykymusiikki muodostavat kiehtovan kokonaisuuden. \nNicola Fiorenza: Sonata a flauto solo\nJukka Tiensuu: Fantango\nArcangelo Corelli: Sonata op. 5 nro 8\nPietro Castrucci: Sonata op. 1 nro 10\nTomi Räisänen: Kyynelketju\nAngelo Berardi: Canzone sesta\nJukka Tiensuu: Veto \nEero Saunamäki\, nokkahuilu\nPäivi Vesalainen\, cembalo \nLiput 20€
URL:https://svamuli.fi/t/italialaisia-barokkihelmia-ja-suomalaisia-nykymusiikkitimantteja/
LOCATION:Café Sonck\, Itäinen Papinkatu 2\, 00530 Helsinki\, Helsinki\, Suomi
END:VEVENT
END:VCALENDAR