BEGIN:VCALENDAR
VERSION:2.0
PRODID:-//Suomen vanhan musiikin liitto ry - ECPv6.15.17.1//NONSGML v1.0//EN
CALSCALE:GREGORIAN
METHOD:PUBLISH
X-WR-CALNAME:Suomen vanhan musiikin liitto ry
X-ORIGINAL-URL:https://svamuli.fi
X-WR-CALDESC:Tapahtumat Suomen vanhan musiikin liitto ry
REFRESH-INTERVAL;VALUE=DURATION:PT1H
X-Robots-Tag:noindex
X-PUBLISHED-TTL:PT1H
BEGIN:VTIMEZONE
TZID:Europe/Helsinki
BEGIN:DAYLIGHT
TZOFFSETFROM:+0200
TZOFFSETTO:+0300
TZNAME:EEST
DTSTART:20170326T010000
END:DAYLIGHT
BEGIN:STANDARD
TZOFFSETFROM:+0300
TZOFFSETTO:+0200
TZNAME:EET
DTSTART:20171029T010000
END:STANDARD
BEGIN:DAYLIGHT
TZOFFSETFROM:+0200
TZOFFSETTO:+0300
TZNAME:EEST
DTSTART:20180325T010000
END:DAYLIGHT
BEGIN:STANDARD
TZOFFSETFROM:+0300
TZOFFSETTO:+0200
TZNAME:EET
DTSTART:20181028T010000
END:STANDARD
BEGIN:DAYLIGHT
TZOFFSETFROM:+0200
TZOFFSETTO:+0300
TZNAME:EEST
DTSTART:20190331T010000
END:DAYLIGHT
BEGIN:STANDARD
TZOFFSETFROM:+0300
TZOFFSETTO:+0200
TZNAME:EET
DTSTART:20191027T010000
END:STANDARD
END:VTIMEZONE
BEGIN:VEVENT
DTSTART;TZID=Europe/Helsinki:20180812T150000
DTEND;TZID=Europe/Helsinki:20180812T170000
DTSTAMP:20260426T034149
CREATED:20180801T083626Z
LAST-MODIFIED:20180801T083626Z
UID:1749-1534086000-1534093200@svamuli.fi
SUMMARY:Aira Maria Lehtipuu ja Oulun barokkiorkesteri (Oulu)
DESCRIPTION:Vanhaan musiikkiin erikoistunut monipuolinen viulisti ja alttoviulisti Aira Maria Lehtipuu saapuu elokuussa Oulun barokkiorkesterin konserttimestariksi ja kouluttajaksi. Hänellä on runsaasti kokemusta konserteista ja levytyksistä maailman arvostetuimpien vanhan musiikin yhtyeiden kanssa sekä folkbarock cross-over -projekteista. \nTämän Kreettan kammari -sarjan konsertin ohjelmassa barokin ajan konserttoja ja concerto grossoja. Sama konsertti kuultavissa myös edellisenä päivänä lauantaina 11.8 klo 19 historiallisessa Muhoksen kirkossa. \nVivaldi-Telemann-Händel-Wassenaer-Muffat
URL:https://svamuli.fi/t/aira-maria-lehtipuu-ja-oulun-barokkiorkesteri-oulu/
LOCATION:Oulun musiikkikeskus\, Tulindbergin sali\, Leevi Madetojan katu 1-3\, 90140 Oulu\, Oulu\, Suomi
END:VEVENT
END:VCALENDAR