BEGIN:VCALENDAR
VERSION:2.0
PRODID:-//Suomen vanhan musiikin liitto ry - ECPv6.15.17.1//NONSGML v1.0//EN
CALSCALE:GREGORIAN
METHOD:PUBLISH
X-ORIGINAL-URL:https://svamuli.fi
X-WR-CALDESC:Tapahtumat Suomen vanhan musiikin liitto ry
REFRESH-INTERVAL;VALUE=DURATION:PT1H
X-Robots-Tag:noindex
X-PUBLISHED-TTL:PT1H
BEGIN:VTIMEZONE
TZID:Europe/Helsinki
BEGIN:DAYLIGHT
TZOFFSETFROM:+0200
TZOFFSETTO:+0300
TZNAME:EEST
DTSTART:20170326T010000
END:DAYLIGHT
BEGIN:STANDARD
TZOFFSETFROM:+0300
TZOFFSETTO:+0200
TZNAME:EET
DTSTART:20171029T010000
END:STANDARD
BEGIN:DAYLIGHT
TZOFFSETFROM:+0200
TZOFFSETTO:+0300
TZNAME:EEST
DTSTART:20180325T010000
END:DAYLIGHT
BEGIN:STANDARD
TZOFFSETFROM:+0300
TZOFFSETTO:+0200
TZNAME:EET
DTSTART:20181028T010000
END:STANDARD
BEGIN:DAYLIGHT
TZOFFSETFROM:+0200
TZOFFSETTO:+0300
TZNAME:EEST
DTSTART:20190331T010000
END:DAYLIGHT
BEGIN:STANDARD
TZOFFSETFROM:+0300
TZOFFSETTO:+0200
TZNAME:EET
DTSTART:20191027T010000
END:STANDARD
END:VTIMEZONE
BEGIN:VEVENT
DTSTART;TZID=Europe/Helsinki:20180801T121500
DTEND;TZID=Europe/Helsinki:20180805T210000
DTSTAMP:20260426T034224
CREATED:20180319T132745Z
LAST-MODIFIED:20180319T132745Z
UID:1547-1533125700-1533502800@svamuli.fi
SUMMARY:Ulvilan vanhan musiikin viikko
DESCRIPTION:Ulvilan vanhan musiikin kurssilla opiskellaan laulua\, kamarimusiikkia\, cembaloa ja basso continuo. Opettajina toimivat sopraano Anneliina Koskinen ja cembalisti Assi Karttunen. \nTorstaina 2.8. Francescan huoneessa -konsertissa. Ulvilan Pyhän Olavin kirkossa kuullaan keskiajan ja barokin naissäveltäjien musiikkia Anneliina Koskisen ja Assi Karttusen esittäminä.\nPerjantaina 3.8. luento klo 16.30 vanhassa pappilassa\, aiheena Hildegard Bingeniläisen elämä ja teot.\nSunnuntaina 5.8. on kurssin päätöskonsertti Pyhän Olavin kirkossa klo 16. \nAssi Karttunen\nwww.assikarttunen.fi\nAnneliina Koskinen\nwww.anneliinakoskinen.com
URL:https://svamuli.fi/t/ulvilan-vanhan-musiikin-viikko/
LOCATION:Ulvilan vanha pappila\, Pappilantie 7A\, Ulvila\, Ulvila\, Suomi
END:VEVENT
END:VCALENDAR