BEGIN:VCALENDAR
VERSION:2.0
PRODID:-//Suomen vanhan musiikin liitto ry - ECPv6.15.17.1//NONSGML v1.0//EN
CALSCALE:GREGORIAN
METHOD:PUBLISH
X-WR-CALNAME:Suomen vanhan musiikin liitto ry
X-ORIGINAL-URL:https://svamuli.fi
X-WR-CALDESC:Tapahtumat Suomen vanhan musiikin liitto ry
REFRESH-INTERVAL;VALUE=DURATION:PT1H
X-Robots-Tag:noindex
X-PUBLISHED-TTL:PT1H
BEGIN:VTIMEZONE
TZID:Europe/Helsinki
BEGIN:DAYLIGHT
TZOFFSETFROM:+0200
TZOFFSETTO:+0300
TZNAME:EEST
DTSTART:20170326T010000
END:DAYLIGHT
BEGIN:STANDARD
TZOFFSETFROM:+0300
TZOFFSETTO:+0200
TZNAME:EET
DTSTART:20171029T010000
END:STANDARD
BEGIN:DAYLIGHT
TZOFFSETFROM:+0200
TZOFFSETTO:+0300
TZNAME:EEST
DTSTART:20180325T010000
END:DAYLIGHT
BEGIN:STANDARD
TZOFFSETFROM:+0300
TZOFFSETTO:+0200
TZNAME:EET
DTSTART:20181028T010000
END:STANDARD
BEGIN:DAYLIGHT
TZOFFSETFROM:+0200
TZOFFSETTO:+0300
TZNAME:EEST
DTSTART:20190331T010000
END:DAYLIGHT
BEGIN:STANDARD
TZOFFSETFROM:+0300
TZOFFSETTO:+0200
TZNAME:EET
DTSTART:20191027T010000
END:STANDARD
END:VTIMEZONE
BEGIN:VEVENT
DTSTART;TZID=Europe/Helsinki:20180722T150000
DTEND;TZID=Europe/Helsinki:20180722T170000
DTSTAMP:20260426T051736
CREATED:20180628T082936Z
LAST-MODIFIED:20180628T082936Z
UID:1709-1532271600-1532278800@svamuli.fi
SUMMARY:Il Spiritillo Brando - BarokkiKuopio 2018
DESCRIPTION:Huippuvierailu Espanjasta! \nLa Ritirata -yhtye saapuu Kuopioon konsertoimaan BarokkiKuopio -festivaalin päätöskonserttiin. Tule kokemaan etelänmaalaisten hovi- ja kansantanssien rytmistä ilotulitusta yhden Euroopan parhaimpiin kuuluvan barokkiyhtyeen esittämänä! \nSpiritillo:\nKansan mielikuvituksesta esiinnoussut ilkikurinen henkimaailman olento\, joka kierteli Napolin kaduilla liikkuen talosta taloon ja jonka syyksi laitettiin monenlaisia inhimillisistä erehdyksistä johtuvia lipsahduksia. \nBrando:\nItalialainen versio ranskalaisesta renessanssin ajan branle -hovitanssista\, jonka askeleet on kirjattu Orchesographie -teokseen (1588\, Thoinot Arbeau). \nLue lisää: http://laritirata.com/en/ \nKuuntele La Ritirata -yhtyettä: https://www.youtube.com/watch?v=nLK0-N2Eruk \nVapaa pääsy\, ohjelma 12e
URL:https://svamuli.fi/t/il-spiritillo-brando-barokkikuopio-2018/
LOCATION:Kuopion Tuomiokirkko\, Vuorikatu 17\, 70100 Kuopio\, Kuopio\, Suomi
END:VEVENT
END:VCALENDAR