BEGIN:VCALENDAR
VERSION:2.0
PRODID:-//Suomen vanhan musiikin liitto ry - ECPv6.15.17.1//NONSGML v1.0//EN
CALSCALE:GREGORIAN
METHOD:PUBLISH
X-WR-CALNAME:Suomen vanhan musiikin liitto ry
X-ORIGINAL-URL:https://svamuli.fi
X-WR-CALDESC:Tapahtumat Suomen vanhan musiikin liitto ry
REFRESH-INTERVAL;VALUE=DURATION:PT1H
X-Robots-Tag:noindex
X-PUBLISHED-TTL:PT1H
BEGIN:VTIMEZONE
TZID:Europe/Helsinki
BEGIN:DAYLIGHT
TZOFFSETFROM:+0200
TZOFFSETTO:+0300
TZNAME:EEST
DTSTART:20170326T010000
END:DAYLIGHT
BEGIN:STANDARD
TZOFFSETFROM:+0300
TZOFFSETTO:+0200
TZNAME:EET
DTSTART:20171029T010000
END:STANDARD
BEGIN:DAYLIGHT
TZOFFSETFROM:+0200
TZOFFSETTO:+0300
TZNAME:EEST
DTSTART:20180325T010000
END:DAYLIGHT
BEGIN:STANDARD
TZOFFSETFROM:+0300
TZOFFSETTO:+0200
TZNAME:EET
DTSTART:20181028T010000
END:STANDARD
BEGIN:DAYLIGHT
TZOFFSETFROM:+0200
TZOFFSETTO:+0300
TZNAME:EEST
DTSTART:20190331T010000
END:DAYLIGHT
BEGIN:STANDARD
TZOFFSETFROM:+0300
TZOFFSETTO:+0200
TZNAME:EET
DTSTART:20191027T010000
END:STANDARD
END:VTIMEZONE
BEGIN:VEVENT
DTSTART;TZID=Europe/Helsinki:20180721T120000
DTEND;TZID=Europe/Helsinki:20180721T123000
DTSTAMP:20260426T051751
CREATED:20180628T083817Z
LAST-MODIFIED:20180628T083817Z
UID:1722-1532174400-1532176200@svamuli.fi
SUMMARY:Café Barock: BarokkiKuopio Puijon Tornissa
DESCRIPTION:BarokkiKuopion teemana on tänä vuonna FOLK / KAIKILLE. Festivaali tarjoaa laajan kattauksen musiikkityylejä kaikkien makuun\, mm. supersuosioon noussutta ns. folkbarokkia. Tyylin kärkinimistä festivaalilla esiintyy mm. folkbarokin äiti viulisti Kreeta-Maria Kentala Kaustiselta\, sekä jouhikanteleen eli jouhikon soittaja Ilkka Heinonen. Muita festivaalin huippunimiä ovat mm. espanjalainen barokkisellisti Josetxu Obregón barokkiyhtyeensä La Ritiratan kanssa\, improvisaatiokollektiivi Tölöläb\, sopraano Tuuli Lindeberg sekä ukuleletaiteilija Jarmo Julkunen. \nFestivaali näkyy myös Kuopion katukuvassa. Café Barock-tapahtumia järjestetään kirkkokonserttien lisäksi ympäri kaupunkia paikoissa\, joissa ei normaalisti kuulisi barokkimusiikkia. BarokkiKuopio järjestetään tänä vuonna 14. kerran ja sen taiteellisena johtajana toimii cembalisti Matias Häkkinen. \nBarokkiKuopion tapahtumat à la Café Barock \nLAUANTAINA 21.7. \nklo 12 Puijon Tornissa\nSini Vahervuo\, nokkahuilu ja traverso\nKaisa Ruotsalainen\, barokkiviulu\nAnna Pulakka\, barokkisello \nklo 13 SalaCavalassa\nPetri Arvo\, nokkahuilu ja barokkifagotti \nklo 15.30 Korttelimuseon treffitapahtumassa\nJohanna Isokoski\, laulu\nKaisa Ruotsalainen\, barokkiviulu\nAnna Pulakka\, viola da gamba\nSanni Antikainen\, cembalo \nPop up -tapahtumat kestävät noin 15-30min. \nKatso myös muut festivaaliviikon tapahtumat: www.barokkikuopio.com \nYhteistyössä:\nKulttuuriyhdistys Café Barock ry\nBarokkiKuopion kannatusyhdistys\nKuopion kaupunkikeskustan kehittämisyhdistys Ry.\nKuopion kaupungin kirjasto\nKorttelimuseo\nMinna Canthin talo ry\nPuijon Torni\nSalaCavala\nRavintola Pannuhuone\nVB-valokuvakeskus
URL:https://svamuli.fi/t/cafe-barock-barokkikuopio-puijon-tornissa-2/
LOCATION:Puijon torni\, Puijontie 135\, 70300 Kuopio\, Kuopio\, Suomi
END:VEVENT
BEGIN:VEVENT
DTSTART;TZID=Europe/Helsinki:20180721T130000
DTEND;TZID=Europe/Helsinki:20180721T133000
DTSTAMP:20260426T051751
CREATED:20180628T083940Z
LAST-MODIFIED:20180628T083940Z
UID:1724-1532178000-1532179800@svamuli.fi
SUMMARY:Café Barock: BarokkiKuopio SalaCavalassa
DESCRIPTION:BarokkiKuopion teemana on tänä vuonna FOLK / KAIKILLE. Festivaali tarjoaa laajan kattauksen musiikkityylejä kaikkien makuun\, mm. supersuosioon noussutta ns. folkbarokkia. Tyylin kärkinimistä festivaalilla esiintyy mm. folkbarokin äiti viulisti Kreeta-Maria Kentala Kaustiselta\, sekä jouhikanteleen eli jouhikon soittaja Ilkka Heinonen. Muita festivaalin huippunimiä ovat mm. espanjalainen barokkisellisti Josetxu Obregón barokkiyhtyeensä La Ritiratan kanssa\, improvisaatiokollektiivi Tölöläb\, sopraano Tuuli Lindeberg sekä ukuleletaiteilija Jarmo Julkunen. \nFestivaali näkyy myös Kuopion katukuvassa. Café Barock-tapahtumia järjestetään kirkkokonserttien lisäksi ympäri kaupunkia paikoissa\, joissa ei normaalisti kuulisi barokkimusiikkia. BarokkiKuopio järjestetään tänä vuonna 14. kerran ja sen taiteellisena johtajana toimii cembalisti Matias Häkkinen. \nBarokkiKuopion tapahtumat à la Café Barock \nLAUANTAINA 21.7. \nklo 12 Puijon Tornissa\nSini Vahervuo\, nokkahuilu ja traverso\nKaisa Ruotsalainen\, barokkiviulu\nAnna Pulakka\, barokkisello \nklo 13 SalaCavalassa\nPetri Arvo\, nokkahuilu ja barokkifagotti \nklo 15.30 Korttelimuseon treffitapahtumassa\nJohanna Isokoski\, laulu\nKaisa Ruotsalainen\, barokkiviulu\nAnna Pulakka\, viola da gamba\nSanni Antikainen\, cembalo \nPop up -tapahtumat kestävät noin 15-30min. \nKatso myös muut festivaaliviikon tapahtumat: www.barokkikuopio.com \nYhteistyössä:\nKulttuuriyhdistys Café Barock ry\nBarokkiKuopion kannatusyhdistys\nKuopion kaupunkikeskustan kehittämisyhdistys Ry.\nKuopion kaupungin kirjasto\nKorttelimuseo\nMinna Canthin talo ry\nPuijon Torni\nSalaCavala\nRavintola Pannuhuone\nVB-valokuvakeskus
URL:https://svamuli.fi/t/cafe-barock-barokkikuopio-salacavalassa-2/
LOCATION:Kuopion tori\, Kauppakatu 45\, 70110 Kuopio\, Kuopio\, Suomi
END:VEVENT
BEGIN:VEVENT
DTSTART;TZID=Europe/Helsinki:20180721T153000
DTEND;TZID=Europe/Helsinki:20180721T160000
DTSTAMP:20260426T051751
CREATED:20180628T084026Z
LAST-MODIFIED:20180628T084026Z
UID:1726-1532187000-1532188800@svamuli.fi
SUMMARY:Café Barock: BarokkiKuopio Korttelimuseossa
DESCRIPTION:BarokkiKuopion teemana on tänä vuonna FOLK / KAIKILLE. Festivaali tarjoaa laajan kattauksen musiikkityylejä kaikkien makuun\, mm. supersuosioon noussutta ns. folkbarokkia. Tyylin kärkinimistä festivaalilla esiintyy mm. folkbarokin äiti viulisti Kreeta-Maria Kentala Kaustiselta\, sekä jouhikanteleen eli jouhikon soittaja Ilkka Heinonen. Muita festivaalin huippunimiä ovat mm. espanjalainen barokkisellisti Josetxu Obregón barokkiyhtyeensä La Ritiratan kanssa\, improvisaatiokollektiivi Tölöläb\, sopraano Tuuli Lindeberg sekä ukuleletaiteilija Jarmo Julkunen. \nFestivaali näkyy myös Kuopion katukuvassa. Café Barock-tapahtumia järjestetään kirkkokonserttien lisäksi ympäri kaupunkia paikoissa\, joissa ei normaalisti kuulisi barokkimusiikkia. BarokkiKuopio järjestetään tänä vuonna 14. kerran ja sen taiteellisena johtajana toimii cembalisti Matias Häkkinen. \nBarokkiKuopion tapahtumat à la Café Barock \nLAUANTAINA 21.7. \nklo 12 Puijon Tornissa\nSini Vahervuo\, nokkahuilu ja traverso\nKaisa Ruotsalainen\, barokkiviulu\nAnna Pulakka\, barokkisello \nklo 13 SalaCavalassa\nPetri Arvo\, nokkahuilu ja barokkifagotti \nklo 15.30 Korttelimuseon treffitapahtumassa\nJohanna Isokoski\, laulu\nKaisa Ruotsalainen\, barokkiviulu\nAnna Pulakka\, viola da gamba\nSanni Antikainen\, cembalo \nPop up -tapahtumat kestävät noin 15-30min. \nKatso myös muut festivaaliviikon tapahtumat: www.barokkikuopio.com \nYhteistyössä:\nKulttuuriyhdistys Café Barock ry\nBarokkiKuopion kannatusyhdistys\nKuopion kaupunkikeskustan kehittämisyhdistys Ry.\nKuopion kaupungin kirjasto\nKorttelimuseo\nMinna Canthin talo ry\nPuijon Torni\nSalaCavala\nRavintola Pannuhuone\nVB-valokuvakeskus
URL:https://svamuli.fi/t/cafe-barock-barokkikuopio-korttelimuseossa-2/
LOCATION:Korttelimuseo\, Kirkkokatu 22\, 70100 Kuopio\, Kuopio\, Suomi
END:VEVENT
BEGIN:VEVENT
DTSTART;TZID=Europe/Helsinki:20180721T170000
DTEND;TZID=Europe/Helsinki:20180721T193000
DTSTAMP:20260426T051751
CREATED:20180628T082815Z
LAST-MODIFIED:20180628T082815Z
UID:1707-1532192400-1532201400@svamuli.fi
SUMMARY:Jokaiselle jotakin - BarokkiKuopio 2018
DESCRIPTION:BarokkiKuopion festivaalitaiteilijat yhdistävät voimansa riemukkaan rentoon kesäkonserttiin jossa kuullaan täyslaidallinen kaikkea mahdollista ja mahdotonta musiikkia erilaisilla periodisoittimilla. Konsertin yhteydessä nähdään myös lukuisia kansainvälisiä palkintoja kerännyt Nimmer-lyhytelokuva livemusiikin säestyksellä sekä ohjaaja Lieven Vanhoevenin esittelemänä! \nElokuvan traileri: https://vimeo.com/171306109\nElokuvan nettisivut: http://www.lievenvanhove.be/?page_id=378 \nVapaa pääsy\, ohjelma 12e ovelta 30min ennen konsertin alkua
URL:https://svamuli.fi/t/jokaiselle-jotakin-barokkikuopio-2018/
LOCATION:Pyhän Johanneksen kirkko\, Ampujanpolku 2\, Kuopio\, Kuopio\, Suomi
END:VEVENT
END:VCALENDAR