BEGIN:VCALENDAR
VERSION:2.0
PRODID:-//Suomen vanhan musiikin liitto ry - ECPv6.15.17.1//NONSGML v1.0//EN
CALSCALE:GREGORIAN
METHOD:PUBLISH
X-WR-CALNAME:Suomen vanhan musiikin liitto ry
X-ORIGINAL-URL:https://svamuli.fi
X-WR-CALDESC:Tapahtumat Suomen vanhan musiikin liitto ry
REFRESH-INTERVAL;VALUE=DURATION:PT1H
X-Robots-Tag:noindex
X-PUBLISHED-TTL:PT1H
BEGIN:VTIMEZONE
TZID:Europe/Helsinki
BEGIN:DAYLIGHT
TZOFFSETFROM:+0200
TZOFFSETTO:+0300
TZNAME:EEST
DTSTART:20170326T010000
END:DAYLIGHT
BEGIN:STANDARD
TZOFFSETFROM:+0300
TZOFFSETTO:+0200
TZNAME:EET
DTSTART:20171029T010000
END:STANDARD
BEGIN:DAYLIGHT
TZOFFSETFROM:+0200
TZOFFSETTO:+0300
TZNAME:EEST
DTSTART:20180325T010000
END:DAYLIGHT
BEGIN:STANDARD
TZOFFSETFROM:+0300
TZOFFSETTO:+0200
TZNAME:EET
DTSTART:20181028T010000
END:STANDARD
BEGIN:DAYLIGHT
TZOFFSETFROM:+0200
TZOFFSETTO:+0300
TZNAME:EEST
DTSTART:20190331T010000
END:DAYLIGHT
BEGIN:STANDARD
TZOFFSETFROM:+0300
TZOFFSETTO:+0200
TZNAME:EET
DTSTART:20191027T010000
END:STANDARD
END:VTIMEZONE
BEGIN:VEVENT
DTSTART;TZID=Europe/Helsinki:20180713T210000
DTEND;TZID=Europe/Helsinki:20180713T220000
DTSTAMP:20260426T051754
CREATED:20180628T084623Z
LAST-MODIFIED:20180628T084623Z
UID:1731-1531515600-1531519200@svamuli.fi
SUMMARY:Barokin parhaita viidelle - Pikkukirkon Yösoitto
DESCRIPTION:Pikkukirkon Yösoitto II – Barokkikaravaani \nEnsemble Nylandia:\nSini Vahervuo\, traverso ja nokkahuilut\nPetri Arvo\, nokkahuilut ja barokkifagotti\nKaisa Ruotsalainen\, barokkiviulu\nKatri Susitaival\, viola da gamba\nMatias Häkkinen\, cembalo ja urut \nOhjelma/lippu: 10€ ovelta tuntia ennen konserttia\, ennakkoon Nettilipusta: https://www.nettilippu.fi/ \nXI PIKKUKIRKON YÖSOITOT 2018. Järjestää Nova Classics\, yhteistyössä Savonlinnan Pikkukirkko -kulttuuriyhdistys\, Saimaan ortodoksinen seurakunta ja Savonlinnan seurakunta. \nwww.ensemblenylandia.info\nFB-tapahtuma: https://www.facebook.com/events/179644289364182/
URL:https://svamuli.fi/t/barokin-parhaita-viidelle-pikkukirkon-yosoitto/
LOCATION:Pikkukirkko\, Olavinkatu 29\, Savonlinna\, Savonlinna\, Suomi
END:VEVENT
END:VCALENDAR