BEGIN:VCALENDAR
VERSION:2.0
PRODID:-//Suomen vanhan musiikin liitto ry - ECPv6.15.17.1//NONSGML v1.0//EN
CALSCALE:GREGORIAN
METHOD:PUBLISH
X-ORIGINAL-URL:https://svamuli.fi
X-WR-CALDESC:Tapahtumat Suomen vanhan musiikin liitto ry
REFRESH-INTERVAL;VALUE=DURATION:PT1H
X-Robots-Tag:noindex
X-PUBLISHED-TTL:PT1H
BEGIN:VTIMEZONE
TZID:Europe/Helsinki
BEGIN:DAYLIGHT
TZOFFSETFROM:+0200
TZOFFSETTO:+0300
TZNAME:EEST
DTSTART:20170326T010000
END:DAYLIGHT
BEGIN:STANDARD
TZOFFSETFROM:+0300
TZOFFSETTO:+0200
TZNAME:EET
DTSTART:20171029T010000
END:STANDARD
BEGIN:DAYLIGHT
TZOFFSETFROM:+0200
TZOFFSETTO:+0300
TZNAME:EEST
DTSTART:20180325T010000
END:DAYLIGHT
BEGIN:STANDARD
TZOFFSETFROM:+0300
TZOFFSETTO:+0200
TZNAME:EET
DTSTART:20181028T010000
END:STANDARD
BEGIN:DAYLIGHT
TZOFFSETFROM:+0200
TZOFFSETTO:+0300
TZNAME:EEST
DTSTART:20190331T010000
END:DAYLIGHT
BEGIN:STANDARD
TZOFFSETFROM:+0300
TZOFFSETTO:+0200
TZNAME:EET
DTSTART:20191027T010000
END:STANDARD
END:VTIMEZONE
BEGIN:VEVENT
DTSTART;TZID=Europe/Helsinki:20180711T190000
DTEND;TZID=Europe/Helsinki:20180711T200000
DTSTAMP:20260426T052402
CREATED:20180628T084458Z
LAST-MODIFIED:20180628T084458Z
UID:1728-1531335600-1531339200@svamuli.fi
SUMMARY:Barokin parhaita neljälle
DESCRIPTION:Ensemble Nylandia konsertoi Juvan kirkossa nelihenkisenä kokoonpanona. Barokin parhaita neljälle on läpileikkaus barokin historiaa ja sen keskeisiä kamarimusiikkiteoksia. \nCouperin – Bach – Merula – Storace – Bertali \nEnsemble Nylandia:\nSini Vahervuo\, traverso ja nokkahuilut\nPetri Arvo\, nokkahuilut ja barokkifagotti\nKaisa Ruotsalainen\, barokkiviulu\nMatias Häkkinen\, cembalo \nKonsertti on osa Juvan seurakunnan Kesäillan musiikkia -konserttisarjaa. Vapaa sisäänpääsy. Mahdollisen käsiohjelmavihkon voi ostaa\, jos haluaa tukea esiintyjiä ja musiikkityötä. \nFB-tapahtuman linkki: https://www.facebook.com/events/261954367885065/\nwww.ensemblenylandia.info
URL:https://svamuli.fi/t/barokin-parhaita-neljalle/
LOCATION:Juvan kirkko\, Virastotie 2\, 51900 Juva\, Juva\, Suomi
END:VEVENT
END:VCALENDAR