BEGIN:VCALENDAR
VERSION:2.0
PRODID:-//Suomen vanhan musiikin liitto ry - ECPv6.15.17.1//NONSGML v1.0//EN
CALSCALE:GREGORIAN
METHOD:PUBLISH
X-ORIGINAL-URL:https://svamuli.fi
X-WR-CALDESC:Tapahtumat Suomen vanhan musiikin liitto ry
REFRESH-INTERVAL;VALUE=DURATION:PT1H
X-Robots-Tag:noindex
X-PUBLISHED-TTL:PT1H
BEGIN:VTIMEZONE
TZID:Europe/Helsinki
BEGIN:DAYLIGHT
TZOFFSETFROM:+0200
TZOFFSETTO:+0300
TZNAME:EEST
DTSTART:20170326T010000
END:DAYLIGHT
BEGIN:STANDARD
TZOFFSETFROM:+0300
TZOFFSETTO:+0200
TZNAME:EET
DTSTART:20171029T010000
END:STANDARD
BEGIN:DAYLIGHT
TZOFFSETFROM:+0200
TZOFFSETTO:+0300
TZNAME:EEST
DTSTART:20180325T010000
END:DAYLIGHT
BEGIN:STANDARD
TZOFFSETFROM:+0300
TZOFFSETTO:+0200
TZNAME:EET
DTSTART:20181028T010000
END:STANDARD
BEGIN:DAYLIGHT
TZOFFSETFROM:+0200
TZOFFSETTO:+0300
TZNAME:EEST
DTSTART:20190331T010000
END:DAYLIGHT
BEGIN:STANDARD
TZOFFSETFROM:+0300
TZOFFSETTO:+0200
TZNAME:EET
DTSTART:20191027T010000
END:STANDARD
END:VTIMEZONE
BEGIN:VEVENT
DTSTART;TZID=Europe/Helsinki:20180629T190000
DTEND;TZID=Europe/Helsinki:20180629T203000
DTSTAMP:20260426T051858
CREATED:20180524T081859Z
LAST-MODIFIED:20180524T081859Z
UID:1627-1530298800-1530304200@svamuli.fi
SUMMARY:Superborea
DESCRIPTION:Janne Marja-aho\, tanssi\nBarokkiyhtye Cornucopia\nPekka Silén\, nokkahuilu\nHannu Vasara\, viulu\nLouna Hosia\, viola da gamba\nMarianna Henriksson\, cembalo \nsävellys Juha T. Koskinen & Jean-Philippe Rameau\nsovitus Pekka Silén & Juha T. Koskinen \nkoreografia Kaisa Torkkel & Janne Marja-aho\nvisuaalinen suunnittelu Kimmo Karjunen\näänisuunnittelu Jaakko Kulomaa \nSuperborea on esitys\, jossa kolme traditiota kohtaa: uusi sävellys barokkisoittimille\, barokkioopperan sävelet sekä nykytanssin kieli. Valot\, projisoinnit ja elektroninen äänimaailma nivovat esityksen kokonaisuudeksi. \nKokonaisuus on koostettu Juha T. Koskisen uudesta sävellyksestä\, Jean-Philippe Rameaun oopperan Les Boréades musiikista sekä Janne Marja-ahon tanssista hänen ja Kaisa Torkkelin koreografiaan. Juha T. Koskinen on työstänyt kaikki sävellyksensä osat dialogina Rameaun musiikin kanssa; osa on vielä osittain barokiksi tunnistettavaa\, osa on kokenut muodonmuutoksen 2000-luvun sävelkieleksi. Säveltäjä ja nokkahuilisti Pekka Silén ovat koostaneet musiikkikokonaisuuden ja sovittaneet soitinyhtyeelle osat Rameaun oopperasta. Myös vaikutteet japanilaisesta Nō-teatterista ovat kuultavissa. \nSuperboreassa raivoavat pohjoiset tuulet ja myrskyt. Ne myös laantuvat ja antavat tietä tanssijan ja neljän soittajan eleganteille\, riehakkaille\, elegisille ja kiihkeille tansseille sekä pakahduttaville oopperafragmenteille. Tanssin vimma\, vilske ja intohimo väistyvät\, lopuksi kaikuu vain yksinäinen bassonokkahuilu. \nKimmo Karjunen täyttää näyttämön huikeilla valoilla ja projisoinneilla; Jaakko Kulomaan elektronisen äänimaailman materiaalina on soitettua\, puhuttua ja tanssittua ääntä teoksesta. \n  \nOsa Kapsäkki goes Pride -tapahtumaviikkoa
URL:https://svamuli.fi/t/superborea-4/
LOCATION:Musiikkiteatteri Kapsäkki\, Hämeentie 68\, Helsinki\, Helsinki\, Suomi
END:VEVENT
END:VCALENDAR