BEGIN:VCALENDAR
VERSION:2.0
PRODID:-//Suomen vanhan musiikin liitto ry - ECPv6.15.17.1//NONSGML v1.0//EN
CALSCALE:GREGORIAN
METHOD:PUBLISH
X-WR-CALNAME:Suomen vanhan musiikin liitto ry
X-ORIGINAL-URL:https://svamuli.fi
X-WR-CALDESC:Tapahtumat Suomen vanhan musiikin liitto ry
REFRESH-INTERVAL;VALUE=DURATION:PT1H
X-Robots-Tag:noindex
X-PUBLISHED-TTL:PT1H
BEGIN:VTIMEZONE
TZID:Europe/Helsinki
BEGIN:DAYLIGHT
TZOFFSETFROM:+0200
TZOFFSETTO:+0300
TZNAME:EEST
DTSTART:20170326T010000
END:DAYLIGHT
BEGIN:STANDARD
TZOFFSETFROM:+0300
TZOFFSETTO:+0200
TZNAME:EET
DTSTART:20171029T010000
END:STANDARD
BEGIN:DAYLIGHT
TZOFFSETFROM:+0200
TZOFFSETTO:+0300
TZNAME:EEST
DTSTART:20180325T010000
END:DAYLIGHT
BEGIN:STANDARD
TZOFFSETFROM:+0300
TZOFFSETTO:+0200
TZNAME:EET
DTSTART:20181028T010000
END:STANDARD
BEGIN:DAYLIGHT
TZOFFSETFROM:+0200
TZOFFSETTO:+0300
TZNAME:EEST
DTSTART:20190331T010000
END:DAYLIGHT
BEGIN:STANDARD
TZOFFSETFROM:+0300
TZOFFSETTO:+0200
TZNAME:EET
DTSTART:20191027T010000
END:STANDARD
END:VTIMEZONE
BEGIN:VEVENT
DTSTART;TZID=Europe/Helsinki:20180625T120000
DTEND;TZID=Europe/Helsinki:20180625T122000
DTSTAMP:20260426T062851
CREATED:20180529T103346Z
LAST-MODIFIED:20180529T103346Z
UID:1632-1529928000-1529929200@svamuli.fi
SUMMARY:Helsingin Urkukesän päiväkonsertti
DESCRIPTION:Duo Cecilia:\nPauliina Almonkari\, renessanssi- ja barokkihuilu\nHeidi Äijälä\, kantele \nRenessanssi- ja barokkimusiikin lumoa huilulla ja kanteleella pienessä päiväkonsertissa Suomenlinnan upeissa maisemissa! \nVapaa pääsy.\nJärjestäjä: Helsingin Urkukesä \nDuo Cecilia on harvinainen helmi – periodisoittimin esiintyvä huilu-kanteleyhtye. Duon soitinyhdistelmä on uniikki: renessanssihuilu\, barokkihuilu\, nokkahuilut sekä 39-kielinen konserttikantele ja erilaiset pienkanteleet. Sibelius-Akatemiassa syntynyt vanhan musiikin yhtye on kahdeksanvuotisen historiansa aikana toteuttanut paljon erilaisia konserttikokonaisuuksia ja teemakonsertteja eri puolilla Suomea sekä tehnyt yhteistyötä monien eri alojen taiteilijoiden kanssa. Duo Cecilian musiikkia on kuultu myös mm. Laulu Suomessa -dokumenttielokuvassa (2013) ja Ylen aamu-tv -ohjelmassa (2015). Lisäksi duon toimintaan kuuluu barokkikoulutus. Kanteleliitto valitsi Duo Cecilian Vuoden yhtyeeksi 2015. Yhtyeen toimintaa on tukenut mm. Musiikin edistämissäätiö (MES).
URL:https://svamuli.fi/t/helsingin-urkukesan-paivakonsertti/
LOCATION:Suomenlinnan kirkko\, Suomenlinna C 43\, Helsinki\, Helsinki\, Suomi
END:VEVENT
END:VCALENDAR