BEGIN:VCALENDAR
VERSION:2.0
PRODID:-//Suomen vanhan musiikin liitto ry - ECPv6.15.17.1//NONSGML v1.0//EN
CALSCALE:GREGORIAN
METHOD:PUBLISH
X-WR-CALNAME:Suomen vanhan musiikin liitto ry
X-ORIGINAL-URL:https://svamuli.fi
X-WR-CALDESC:Tapahtumat Suomen vanhan musiikin liitto ry
REFRESH-INTERVAL;VALUE=DURATION:PT1H
X-Robots-Tag:noindex
X-PUBLISHED-TTL:PT1H
BEGIN:VTIMEZONE
TZID:Europe/Helsinki
BEGIN:DAYLIGHT
TZOFFSETFROM:+0200
TZOFFSETTO:+0300
TZNAME:EEST
DTSTART:20170326T010000
END:DAYLIGHT
BEGIN:STANDARD
TZOFFSETFROM:+0300
TZOFFSETTO:+0200
TZNAME:EET
DTSTART:20171029T010000
END:STANDARD
BEGIN:DAYLIGHT
TZOFFSETFROM:+0200
TZOFFSETTO:+0300
TZNAME:EEST
DTSTART:20180325T010000
END:DAYLIGHT
BEGIN:STANDARD
TZOFFSETFROM:+0300
TZOFFSETTO:+0200
TZNAME:EET
DTSTART:20181028T010000
END:STANDARD
BEGIN:DAYLIGHT
TZOFFSETFROM:+0200
TZOFFSETTO:+0300
TZNAME:EEST
DTSTART:20190331T010000
END:DAYLIGHT
BEGIN:STANDARD
TZOFFSETFROM:+0300
TZOFFSETTO:+0200
TZNAME:EET
DTSTART:20191027T010000
END:STANDARD
END:VTIMEZONE
BEGIN:VEVENT
DTSTART;TZID=Europe/Helsinki:20180605T190000
DTEND;TZID=Europe/Helsinki:20180605T210000
DTSTAMP:20260426T062853
CREATED:20180515T103116Z
LAST-MODIFIED:20180515T103116Z
UID:1615-1528225200-1528232400@svamuli.fi
SUMMARY:Una finestra sull'Italia - Ikkuna Italiaan
DESCRIPTION:Una finestra sull’Italia tarjoilee nimensä mukaisesti italialaista barokkimusiikkia Vindängen-salissa ti 5.6. Fagotisti Jaakko Luoma\, viulisti Anna Pohjola ja cembalisti Laura Vihreäpuu soittavat oikukasta\, rehevää ja iloittelevaa musiikkia mm. Arcangelo Corellilta\, Giovanni Legrenziltä\, Bernardo Storacelta ja Giovanni Battista Fontanalta.
URL:https://svamuli.fi/t/una-finestra-sullitalia-ikkuna-italiaan/
LOCATION:Vindängen-sali\, Tuulikuja 6\, 02100 Espoo\, Espoo\, Suomi
END:VEVENT
END:VCALENDAR