BEGIN:VCALENDAR
VERSION:2.0
PRODID:-//Suomen vanhan musiikin liitto ry - ECPv6.15.17.1//NONSGML v1.0//EN
CALSCALE:GREGORIAN
METHOD:PUBLISH
X-ORIGINAL-URL:https://svamuli.fi
X-WR-CALDESC:Tapahtumat Suomen vanhan musiikin liitto ry
REFRESH-INTERVAL;VALUE=DURATION:PT1H
X-Robots-Tag:noindex
X-PUBLISHED-TTL:PT1H
BEGIN:VTIMEZONE
TZID:Europe/Helsinki
BEGIN:DAYLIGHT
TZOFFSETFROM:+0200
TZOFFSETTO:+0300
TZNAME:EEST
DTSTART:20170326T010000
END:DAYLIGHT
BEGIN:STANDARD
TZOFFSETFROM:+0300
TZOFFSETTO:+0200
TZNAME:EET
DTSTART:20171029T010000
END:STANDARD
BEGIN:DAYLIGHT
TZOFFSETFROM:+0200
TZOFFSETTO:+0300
TZNAME:EEST
DTSTART:20180325T010000
END:DAYLIGHT
BEGIN:STANDARD
TZOFFSETFROM:+0300
TZOFFSETTO:+0200
TZNAME:EET
DTSTART:20181028T010000
END:STANDARD
BEGIN:DAYLIGHT
TZOFFSETFROM:+0200
TZOFFSETTO:+0300
TZNAME:EEST
DTSTART:20190331T010000
END:DAYLIGHT
BEGIN:STANDARD
TZOFFSETFROM:+0300
TZOFFSETTO:+0200
TZNAME:EET
DTSTART:20191027T010000
END:STANDARD
END:VTIMEZONE
BEGIN:VEVENT
DTSTART;TZID=Europe/Helsinki:20180530T190000
DTEND;TZID=Europe/Helsinki:20180530T210000
DTSTAMP:20260426T063106
CREATED:20180522T065535Z
LAST-MODIFIED:20180522T065535Z
UID:1625-1527706800-1527714000@svamuli.fi
SUMMARY:Iltamusiikki Pyhän Sydämen kappelissa
DESCRIPTION:Anna Rinta-Rahko\, G-violone ja kontrabasso \nOhjelmassa Salaverden\, Rognonin\, Gibbonsin\, F.Couperinin\, Buxtehuden\, J.S Bachin\, Dragonettin ja Rossinin musiikkia. \nMukana myös:\nHelianna Herkkola\, sopraano\nInka Pärssinen\, trumpetti\nMaija Lampela\, viola da gamba\nJaana Haanterä\, Laura Kangas\, Laura Kokko ja Anna Rainio\, viulu\nRiitta-Liisa Ristiluoma\, alttoviulu\nHeidi Peltoniemi ja Anna Pulakka\, sello\nKirsimarja Kiviruusu\, Jouko Laivuori ja Petteri Pitko\, cembalo
URL:https://svamuli.fi/t/iltamusiikki-pyhan-sydamen-kappelissa-2/
LOCATION:Pyhän Sydämen kappeli\, Kirstinkatu 1\, 00530 Helsinki\, Helsinki\, Suomi
END:VEVENT
END:VCALENDAR